Workbook

Sheet İlk ve Acil Yardım
A1: TONYA MYO 2026-2027 GÜZ YARIYILI / İLK VE ACİL YARDIM PROGRAMI 1. SINIF DERS PROGRAMI | H1: Saatler | I1: Karşılıkları
A2: SAAT | B2: PAZARTESİ | C2: SALI | D2: ÇARŞAMBA | E2: PERŞEMBE | F2: CUMA | H2: 08.00 | I2: 08.00-08.45
A3: =VLOOKUP('Ders Programı'!A3,$H$1:$I$17,2,0) -> 08.00-08.45 | C3: AITB1001 Atatürk İlkeleri ve İnkılap Tarihi- I | F3: TDB1001 Türk Dili- I | H3: 09.00 | I3: 09.00-09.45
C4: Dr. Öğr. Üyesi Engin Çağdaş BULUT | F4: Öğr. Gör. Nazmi ARSLAN | H4: 10.00 | I4: 10.00-10.45
C5: UZEM (http://online.trabzon.edu.tr/) | F5: UZEM (http://online.trabzon.edu.tr/) | H5: 11.00 | I5: 11.00-11.45
A6: 9.30-10.15 | C6: AITB1001 Atatürk İlkeleri ve İnkılap Tarihi- I | D6: IVAY 1109 Temel Sağlık Uygulamaları (İVAY 1009 Temel Sağlık Uygulamaları, TLAY1005 Acil Hasta Bakımı- I ile birlikte) | E6: IVAY 1109 Temel Sağlık Uygulamaları (İVAY 1009 Temel Sağlık Uygulamaları, TLAY1005 Acil Hasta Bakımı- I ile birlikte) | F6: TDB1001 Türk Dili- I | H6: 13.00 | I6: 13.00-13.45
C7: Dr. Öğr. Üyesi Engin Çağdaş BULUT | D7: Dr. Öğr. Üyesi Esra BEKİRCAN | E7: Dr. Öğr. Üyesi Esra BEKİRCAN | F7: Öğr. Gör. Nazmi ARSLAN | H7: 14.00 | I7: 14.00-14.45
C8: UZEM (http://online.trabzon.edu.tr/) | D8: TAD307 | E8: TAD106 | F8: UZEM (http://online.trabzon.edu.tr/) | H8: 15.00 | I8: 15.00-15.45
A9: 10.30-11.15 | B9: YDB 1001 Yabancı Dil-I | D9: IVAY 1109 Temel Sağlık Uygulamaları (İVAY 1009 Temel Sağlık Uygulamaları, TLAY1005 Acil Hasta Bakımı- I ile birlikte) | E9: IVAY 1109 Temel Sağlık Uygulamaları (İVAY 1009 Temel Sağlık Uygulamaları, TLAY1005 Acil Hasta Bakımı- I ile birlikte) | H9: 16.00 | I9: 16.00-16.45
D10: Dr. Öğr. Üyesi Esra BEKİRCAN | E10: Dr. Öğr. Üyesi Esra BEKİRCAN | H10: 17.00 | I10: 17.00-17.45
B11: TAD302 | D11: TAD307 | E11: TAD106 | H11: 18.00 | I11: 18.00-18.45
A12: 11.30-12.15 | B12: YDB 1001 Yabancı Dil-I | D12: IVAY 1109 Temel Sağlık Uygulamaları (İVAY 1009 Temel Sağlık Uygulamaları, TLAY1005 Acil Hasta Bakımı- I ile birlikte) | E12: IVAY 1109 Temel Sağlık Uygulamaları (İVAY 1009 Temel Sağlık Uygulamaları, TLAY1005 Acil Hasta Bakımı- I ile birlikte) | H12: 19.00 | I12: 19.00-19.45
D13: Dr. Öğr. Üyesi Esra BEKİRCAN | E13: Dr. Öğr. Üyesi Esra BEKİRCAN | H13: 20.00 | I13: 20.00-20.45
B14: TAD302 | D14: TAD307 | E14: TAD106 | H14: 21.00 | I14: 21.00-21.45
B15: ÖĞLE ARASI
A16: =VLOOKUP('Ders Programı'!A7,$H$1:$I$17,2,0) -> 13.00-13.45 | B16: IVAY 1103 Fizyoloji (İVAY 1005 Fizyoloji, TYBP 1005 Fizyoloji, FZYT1003 Fizyoloji ile birlikte) | D16: IVAY 1107 Tıbbi Terminoloji (İVAY 1007 Tıbbi Terminoloji ile birlikte) | E16: IVAY 1105 Acil Sağlık Hizmetleri-I (İVAY 1001 Acil Sağlık Hizmetleri I, TLAY 1003 Acil Sağlık Hizmetleri I ile birlikte) | H16: 22.00 | I16: 22.00-22.45
B17: Dr. Öğr. Üyesi Galip USTA | D17: Dr. Öğr. Üyesi Uçar KÜÇÜK | E17: Öğr. Gör. Gülseren GÜNAYDIN | H17: 23.00 | I17: 23.00-23.45
B18: TAS301 | D18: TAD307 | E18: TAD105
A19: =VLOOKUP('Ders Programı'!A8,$H$1:$I$17,2,0) -> 14.00-14.45 | B19: IVAY 1103 Fizyoloji (İVAY 1005 Fizyoloji, TYBP 1005 Fizyoloji, FZYT1003 Fizyoloji ile birlikte) | D19: IVAY 1107 Tıbbi Terminoloji (İVAY 1007 Tıbbi Terminoloji ile birlikte) | E19: IVAY 1105 Acil Sağlık Hizmetleri-I (İVAY 1001 Acil Sağlık Hizmetleri I, TLAY 1003 Acil Sağlık Hizmetleri I ile birlikte)
B20: Dr. Öğr. Üyesi Galip USTA | D20: Dr. Öğr. Üyesi Uçar KÜÇÜK | E20: Öğr. Gör. Gülseren GÜNAYDIN
B21: TAS301 | D21: TAD307 | E21: TAD105
A22: =VLOOKUP('Ders Programı'!A9,$H$1:$I$17,2,0) -> 15.00-15.45 | B22: IVAY 1201 Anatomi (İVAY 1003 Anatomi, EHBP1005 Anatomi ile birlikte) | D22: KAR1001 Kariyer Planlama
B23: Öğr. Gör. Dr. Abdullah SARI | D23: Dr. Öğr. Üyesi Uçar KÜÇÜK
B24: TAD106 | D24: TAD307
A25: =VLOOKUP('Ders Programı'!A10,$H$1:$I$17,2,0) -> 16.00-16.45 | B25: IVAY 1201 Anatomi (İVAY 1003 Anatomi, EHBP1005 Anatomi ile birlikte)
B26: Öğr. Gör. Dr. Abdullah SARI
B27: TAD106
A29: TONYA MYO 2026-2027 GÜZ YARIYILI / İLK VE ACİL YARDIM PROGRAMI 2. SINIF DERS PROGRAMI
A30: SAAT | B30: PAZARTESİ | C30: SALI | D30: ÇARŞAMBA | E30: PERŞEMBE | F30: CUMA
A31: =VLOOKUP('Ders Programı'!A14,$H$1:$I$17,2,0) -> 08.00-08.45 | F31: İVAY 2207 İşletmede Mesleki Eğitim- 1 (İVAY 2005 Klinik Uygulama-II, TLAY2001 Staj-I ile birlikte)
F32: Dr.Öğr. Üye. Galip USTA , Dr.Öğr. Üye. Esra BEKİRCAN Öğr. Gör.Gülseren GÜNAYDIN Dr.Öğr. Üye. Uçar KÜÇÜK
F33: Hastane Uygulaması
A34: 9.30-10.15 | D34: IVAY 2205 Travma (TLAY 2003 Travma ile birlikte) | F34: İVAY 2207 İşletmede Mesleki Eğitim- 1 (İVAY 2005 Klinik Uygulama-II, TLAY2001 Staj-I ile birlikte)
D35: Öğr. Gör. Gülseren GÜNAYDIN | F35: Dr.Öğr. Üye. Galip USTA , Dr.Öğr. Üye. Esra BEKİRCAN Öğr. Gör.Gülseren GÜNAYDIN Dr.Öğr. Üye. Uçar KÜÇÜK
D36: TAD106 | F36: Hastane Uygulaması
A37: 10.30-11.15 | D37: IVAY 2205 Travma (TLAY 2003 Travma ile birlikte) | E37: IVAY 2205 Travma (TLAY 2003 Travma ile birlikte) | F37: İVAY 2207 İşletmede Mesleki Eğitim- 1 (İVAY 2005 Klinik Uygulama-II, TLAY2001 Staj-I ile birlikte)
D38: Öğr. Gör. Gülseren GÜNAYDIN | E38: Öğr. Gör. Gülseren GÜNAYDIN | F38: Dr.Öğr. Üye. Galip USTA , Dr.Öğr. Üye. Esra BEKİRCAN Öğr. Gör.Gülseren GÜNAYDIN Dr.Öğr. Üye. Uçar KÜÇÜK
D39: TAD106 | E39: TAD303 | F39: Hastane Uygulaması
A40: 11.30-12.15 | D40: IVAY 2205 Travma (TLAY 2003 Travma ile birlikte) | E40: IVAY 2205 Travma (TLAY 2003 Travma ile birlikte) | F40: İVAY 2207 İşletmede Mesleki Eğitim- 1 (İVAY 2005 Klinik Uygulama-II, TLAY2001 Staj-I ile birlikte)
D41: Öğr. Gör. Gülseren GÜNAYDIN | E41: Öğr. Gör. Gülseren GÜNAYDIN | F41: Dr.Öğr. Üye. Galip USTA , Dr.Öğr. Üye. Esra BEKİRCAN Öğr. Gör.Gülseren GÜNAYDIN Dr.Öğr. Üye. Uçar KÜÇÜK
D42: TAD106 | E42: TAD303 | F42: Hastane Uygulaması
A43: ÖĞLE ARASI
A44: =VLOOKUP('Ders Programı'!A18,$H$1:$I$17,2,0) -> 13.00-13.45 | C44: IVAY 2253 Ambulans Ekipmanları ve Acil Servis Araçları | D44: SIVAY 2259 İletişim | E44: SIVAY 2251 Acil İlaç Uygulamaları ve Güncel Yaklaşımlar | F44: İVAY 2207 İşletmede Mesleki Eğitim- 1 (İVAY 2005 Klinik Uygulama-II, TLAY2001 Staj-I ile birlikte)
C45: Dr. Öğr. Üyesi Uçar KÜÇÜK | D45: Dr. Öğr. Üyesi Esra BEKİRCAN | E45: Öğr. Gör. Dr. Esra BEKİRCAN | F45: Dr.Öğr. Üye. Galip USTA , Dr.Öğr. Üye. Esra BEKİRCAN Öğr. Gör.Gülseren GÜNAYDIN Dr.Öğr. Üye. Uçar KÜÇÜK
C46: TAD105 | D46: TAS301 | E46: TAD106 | F46: Hastane Uygulaması
A47: =VLOOKUP('Ders Programı'!A19,$H$1:$I$17,2,0) -> 14.00-14.45 | C47: IVAY 2253 Ambulans Ekipmanları ve Acil Servis Araçları | D47: SIVAY 2259 İletişim | E47: SIVAY 2251 Acil İlaç Uygulamaları ve Güncel Yaklaşımlar | F47: İVAY 2207 İşletmede Mesleki Eğitim- 1 (İVAY 2005 Klinik Uygulama-II, TLAY2001 Staj-I ile birlikte)
C48: Dr. Öğr. Üyesi Uçar KÜÇÜK | D48: Dr. Öğr. Üyesi Esra BEKİRCAN | E48: Öğr. Gör. Dr. Esra BEKİRCAN | F48: Dr.Öğr. Üye. Galip USTA , Dr.Öğr. Üye. Esra BEKİRCAN Öğr. Gör.Gülseren GÜNAYDIN Dr.Öğr. Üye. Uçar KÜÇÜK
C49: TAD105 | D49: TAS301 | E49: TAD106 | F49: Hastane Uygulaması
A50: =VLOOKUP('Ders Programı'!A20,$H$1:$I$17,2,0) -> 15.00-15.45 | C50: IVAY 2203 Acil Hasta Bakımı-II (TLAY2005 Acil Hasta Bakımı-III ile birlikte) | D50: SIVAY 2255 Bilimsel Araştırma Teknikleri | E50: IVAY 2201Acil Yardım ve Kurtarma | F50: İVAY 2207 İşletmede Mesleki Eğitim- 1 (İVAY 2005 Klinik Uygulama-II, TLAY2001 Staj-I ile birlikte)
C51: Dr. Öğr. Üyesi Uçar KÜÇÜK | D51: Dr. Öğr. Üyesi Galip USTA | E51: Öğr. Gör. Gülseren GÜNAYDIN | F51: Dr.Öğr. Üye. Galip USTA , Dr.Öğr. Üye. Esra BEKİRCAN Öğr. Gör.Gülseren GÜNAYDIN Dr.Öğr. Üye. Uçar KÜÇÜK
C52: TAD106 | D52: TAS301 | E52: TAD105 | F52: Hastane Uygulaması
A53: =VLOOKUP('Ders Programı'!A21,$H$1:$I$17,2,0) -> 16.00-16.45 | C53: IVAY 2203 Acil Hasta Bakımı-II (TLAY2005 Acil Hasta Bakımı-III ile birlikte) | D53: SIVAY 2255 Bilimsel Araştırma Teknikleri | E53: IVAY 2201Acil Yardım ve Kurtarma | F53: İVAY 2207 İşletmede Mesleki Eğitim- 1 (İVAY 2005 Klinik Uygulama-II, TLAY2001 Staj-I ile birlikte)
C54: Dr. Öğr. Üyesi Uçar KÜÇÜK | D54: Dr. Öğr. Üyesi Galip USTA | E54: Öğr. Gör. Gülseren GÜNAYDIN | F54: Dr.Öğr. Üye. Galip USTA , Dr.Öğr. Üye. Esra BEKİRCAN Öğr. Gör.Gülseren GÜNAYDIN Dr.Öğr. Üye. Uçar KÜÇÜK
C55: TAD106 | D55: TAS301 | E55: TAD105 | F55: Hastane Uygulaması
A56: TRÜ- UZEM tarafından verilen dersler http://uzem.trabzon.edu.tr/ adresinde Ortak Dersler sekmesinden online olarak yürütülmektedir.
A58: Bölüm Başkan Yardımcısı | E58: Bölüm Başkanı
A59: Dr. Öğr. Üyesi Demet Batman - Dr. Öğr. Üyesi Aydın YEŞİLYURT | E59: Doç. Dr.Seda BİRYOL

Sheet Ders Programı
N1: DERS ÇAKIŞMASI KONTROLÜ | T1: DERSLİK | U1: PAZARTESİ | AJ1: DERSLİK | AK1: SALI | AZ1: DERSLİK | BA1: ÇARŞAMBA | BP1: DERSLİK | BQ1: PERŞEMBE | CF1: DERSLİK | CG1: CUMA | CV1: DERSLİK | CW1: DERSLİK DOLULUKLARININ SAATLERE GÖRE TOPLAMI | DL1: =A1 -> 0 | DQ1: =I1 -> 0
M2: SAAT | N2: Pazertesi | O2: Salı | P2: Çarşamba | Q2: Perşembe | R2: Cuma | U2: 8 | V2: 9 | W2: 10 | X2: 11 | Y2: 13 | Z2: 14 | AA2: 15 | AB2: 16 | AC2: 17 | AD2: 18 | AE2: 19 | AF2: 20 | AG2: 21 | AH2: 22 | AK2: 8 | AL2: 9 | AM2: 10 | AN2: 11 | AO2: 13 | AP2: 14 | AQ2: 15 | AR2: 16 | AS2: 17 | AT2: 18 | AU2: 19 | AV2: 20 | AW2: 21 | AX2: 22 | BA2: 8 | BB2: 9 | BC2: 10 | BD2: 11 | BE2: 13 | BF2: 14 | BG2: 15 | BH2: 16 | BI2: 17 | BJ2: 18 | BK2: 19 | BL2: 20 | BM2: 21 | BN2: 22 | BQ2: 8 | BR2: 9 | BS2: 10 | BT2: 11 | BU2: 13 | BV2: 14 | BW2: 15 | BX2: 16 | BY2: 17 | BZ2: 18 | CA2: 19 | CB2: 20 | CC2: 21 | CD2: 22 | CG2: 8 | CH2: 9 | CI2: 10 | CJ2: 11 | CK2: 13 | CL2: 14 | CM2: 15 | CN2: 16 | CO2: 17 | CP2: 18 | CQ2: 19 | CR2: 20 | CS2: 21 | CT2: 22 | CW2: 8 | CX2: 9 | CY2: 10 | CZ2: 11 | DA2: 13 | DB2: 14 | DC2: 15 | DD2: 16 | DE2: 17 | DF2: 18 | DG2: 19 | DH2: 20 | DI2: 21 | DJ2: 22 | DL2: GÜNLER | DM2: 8 | DN2: 9 | DO2: 10 | DP2: 11 | DQ2: 13 | DR2: 14 | DS2: 15 | DT2: 16
A3: 08.00 | M3: =A3 -> 08.00 | N3: =IF(DM3=0,"BOŞ",IF(DM3=1,"DERS",IF(DM3>1,"ÇAKIŞMA"))) -> BOŞ | O3: =IF(DM4=0,"BOŞ",IF(DM4=1,"DERS",IF(DM4>1,"ÇAKIŞMA"))) -> BOŞ | P3: =IF(DM5=0,"BOŞ",IF(DM5=1,"DERS",IF(DM5>1,"ÇAKIŞMA"))) -> BOŞ | Q3: =IF(DM6=0,"BOŞ",IF(DM6=1,"DERS",IF(DM6>1,"ÇAKIŞMA"))) -> BOŞ | R3: =IF(DM7=0,"BOŞ",IF(DM7=1,"DERS",IF(DM7>1,"ÇAKIŞMA"))) -> BOŞ | T3: =IF(#REF!>0,#REF!,"") -> #REF! | U3: =COUNTIF(T3,$C$3)+COUNTIF(T3,$C$14)+COUNTIF(T3,$C$25)+COUNTIF(T3,$C$36)+COUNTIF(T3,$C$47)+COUNTIF(T3,$C$58)+COUNTIF(T3,$C$69)+COUNTIF(T3,$C$80)+COUNTIF(T3,$C$91)+COUNTIF(T3,$C$102)+COUNTIF(T3,$C$113)+COUNTIF(T3,$C$124)+COUNTIF(T3,$C$135)+COUNTIF(T3,$C$146)+COUNTIF(T3,$C$157)+COUNTIF(T3,$C$168)+COUNTIF(T3,$C$179)+COUNTIF(T3,$C$190)+COUNTIF(T3,$C$201)+COUNTIF(T3,$C$212)+COUNTIF(T3,$C$223)+COUNTIF(T3,$C$234)+COUNTIF(T3,$C$245)+COUNTIF(T3,$C$256)+COUNTIF(T3,$C$267)+COUNTIF(T3,$C$278)+COUNTIF(T3,$C$289)+COUNTIF(T3,$C$300)+COUNTIF(T3,$C$311)+COUNTIF(T3,$C$322)+COUNTIF(T3,$C$444)+COUNTIF(T3,$C$455)+COUNTIF(T3,$C$466)+COUNTIF(T3,$C$477) -> 0 | V3: =COUNTIF(T3,$C$4)+COUNTIF(T3,$C$15)+COUNTIF(T3,$C$26)+COUNTIF(T3,$C$37)+COUNTIF(T3,$C$48)+COUNTIF(T3,$C$59)+COUNTIF(T3,$C$70)+COUNTIF(T3,$C$81)+COUNTIF(T3,$C$92)+COUNTIF(T3,$C$103)+COUNTIF(T3,$C$114)+COUNTIF(T3,$C$125)+COUNTIF(T3,$C$136)+COUNTIF(T3,$C$147)+COUNTIF(T3,$C$158)+COUNTIF(T3,$C$169)+COUNTIF(T3,$C$180)+COUNTIF(T3,$C$191)+COUNTIF(T3,$C$202)+COUNTIF(T3,$C$213)+COUNTIF(T3,$C$224)+COUNTIF(T3,$C$235)+COUNTIF(T3,$C$246)+COUNTIF(T3,$C$257)+COUNTIF(T3,$C$268)+COUNTIF(T3,$C$279)+COUNTIF(T3,$C$290)+COUNTIF(T3,$C$301)+COUNTIF(T3,$C$312)+COUNTIF(T3,$C$323)+COUNTIF(T3,$C$445)+COUNTIF(T3,$C$456)+COUNTIF(T3,$C$467)+COUNTIF(T3,$C$478) -> 0 | W3: =COUNTIF(T3,$C$5)+COUNTIF(T3,$C$16)+COUNTIF(T3,$C$27)+COUNTIF(T3,$C$38)+COUNTIF(T3,$C$49)+COUNTIF(T3,$C$60)+COUNTIF(T3,$C$71)+COUNTIF(T3,$C$82)+COUNTIF(T3,$C$93)+COUNTIF(T3,$C$104)+COUNTIF(T3,$C$115)+COUNTIF(T3,$C$126)+COUNTIF(T3,$C$137)+COUNTIF(T3,$C$148)+COUNTIF(T3,$C$159)+COUNTIF(T3,$C$170)+COUNTIF(T3,$C$181)+COUNTIF(T3,$C$192)+COUNTIF(T3,$C$203)+COUNTIF(T3,$C$214)+COUNTIF(T3,$C$225)+COUNTIF(T3,$C$236)+COUNTIF(T3,$C$247)+COUNTIF(T3,$C$258)+COUNTIF(T3,$C$269)+COUNTIF(T3,$C$280)+COUNTIF(T3,$C$291)+COUNTIF(T3,$C$302)+COUNTIF(T3,$C$313)+COUNTIF(T3,$C$324)+COUNTIF(T3,$C$446)+COUNTIF(T3,$C$457)+COUNTIF(T3,$C$468)+COUNTIF(T3,$C$479) -> 0 | X3: =COUNTIF(T3,$C$6)+COUNTIF(T3,$C$17)+COUNTIF(T3,$C$28)+COUNTIF(T3,$C$39)+COUNTIF(T3,$C$50)+COUNTIF(T3,$C$61)+COUNTIF(T3,$C$72)+COUNTIF(T3,$C$83)+COUNTIF(T3,$C$94)+COUNTIF(T3,$C$105)+COUNTIF(T3,$C$116)+COUNTIF(T3,$C$127)+COUNTIF(T3,$C$138)+COUNTIF(T3,$C$149)+COUNTIF(T3,$C$160)+COUNTIF(T3,$C$171)+COUNTIF(T3,$C$182)+COUNTIF(T3,$C$193)+COUNTIF(T3,$C$204)+COUNTIF(T3,$C$215)+COUNTIF(T3,$C$226)+COUNTIF(T3,$C$237)+COUNTIF(T3,$C$248)+COUNTIF(T3,$C$259)+COUNTIF(T3,$C$270)+COUNTIF(T3,$C$281)+COUNTIF(T3,$C$292)+COUNTIF(T3,$C$303)+COUNTIF(T3,$C$314)+COUNTIF(T3,$C$325)+COUNTIF(T3,$C$447)+COUNTIF(T3,$C$458)+COUNTIF(T3,$C$469)+COUNTIF(T3,$C$480) -> 0 | Y3: =COUNTIF(T3,$C$7)+COUNTIF(T3,$C$18)+COUNTIF(T3,$C$29)+COUNTIF(T3,$C$40)+COUNTIF(T3,$C$51)+COUNTIF(T3,$C$62)+COUNTIF(T3,$C$73)+COUNTIF(T3,$C$84)+COUNTIF(T3,$C$95)+COUNTIF(T3,$C$106)+COUNTIF(T3,$C$117)+COUNTIF(T3,$C$128)+COUNTIF(T3,$C$139)+COUNTIF(T3,$C$150)+COUNTIF(T3,$C$161)+COUNTIF(T3,$C$172)+COUNTIF(T3,$C$183)+COUNTIF(T3,$C$194)+COUNTIF(T3,$C$205)+COUNTIF(T3,$C$216)+COUNTIF(T3,$C$227)+COUNTIF(T3,$C$238)+COUNTIF(T3,$C$249)+COUNTIF(T3,$C$260)+COUNTIF(T3,$C$271)+COUNTIF(T3,$C$282)+COUNTIF(T3,$C$293)+COUNTIF(T3,$C$304)+COUNTIF(T3,$C$315)+COUNTIF(T3,$C$326)+COUNTIF(T3,$C$448)+COUNTIF(T3,$C$459)+COUNTIF(T3,$C$470)+COUNTIF(T3,$C$481) -> 0 | Z3: =COUNTIF(T3,$C$8)+COUNTIF(T3,$C$19)+COUNTIF(T3,$C$30)+COUNTIF(T3,$C$41)+COUNTIF(T3,$C$52)+COUNTIF(T3,$C$63)+COUNTIF(T3,$C$74)+COUNTIF(T3,$C$85)+COUNTIF(T3,$C$96)+COUNTIF(T3,$C$107)+COUNTIF(T3,$C$118)+COUNTIF(T3,$C$129)+COUNTIF(T3,$C$140)+COUNTIF(T3,$C$151)+COUNTIF(T3,$C$162)+COUNTIF(T3,$C$173)+COUNTIF(T3,$C$184)+COUNTIF(T3,$C$195)+COUNTIF(T3,$C$206)+COUNTIF(T3,$C$217)+COUNTIF(T3,$C$228)+COUNTIF(T3,$C$239)+COUNTIF(T3,$C$250)+COUNTIF(T3,$C$261)+COUNTIF(T3,$C$272)+COUNTIF(T3,$C$283)+COUNTIF(T3,$C$294)+COUNTIF(T3,$C$305)+COUNTIF(T3,$C$316)+COUNTIF(T3,$C$327)+COUNTIF(T3,$C$449)+COUNTIF(T3,$C$460)+COUNTIF(T3,$C$471)+COUNTIF(T3,$C$482) -> 0 | AA3: =COUNTIF(T3,$C$9)+COUNTIF(T3,$C$20)+COUNTIF(T3,$C$31)+COUNTIF(T3,$C$42)+COUNTIF(T3,$C$53)+COUNTIF(T3,$C$64)+COUNTIF(T3,$C$75)+COUNTIF(T3,$C$86)+COUNTIF(T3,$C$97)+COUNTIF(T3,$C$108)+COUNTIF(T3,$C$119)+COUNTIF(T3,$C$130)+COUNTIF(T3,$C$141)+COUNTIF(T3,$C$152)+COUNTIF(T3,$C$163)+COUNTIF(T3,$C$174)+ COUNTIF(T3,$C$185)+COUNTIF(T3,$C$196)+COUNTIF(T3,$C$207)+COUNTIF(T3,$C$218)+COUNTIF(T3,$C$229)+COUNTIF(T3,$C$240)+COUNTIF(T3,$C$251)+COUNTIF(T3,$C$262)+COUNTIF(T3,$C$273)+COUNTIF(T3,$C$284)+COUNTIF(T3,$C$295)+COUNTIF(T3,$C$306)+COUNTIF(T3,$C$317)+COUNTIF(T3,$C$328)+COUNTIF(T3,$C$450)+COUNTIF(T3,$C$461)+COUNTIF(T3,$C$472)+COUNTIF(T3,$C$483) -> 0 | AB3: =COUNTIF(T3,$C$10)+COUNTIF(T3,$C$21)+COUNTIF(T3,$C$32)+COUNTIF(T3,$C$43)+COUNTIF(T3,$C$54)+COUNTIF(T3,$C$65)+COUNTIF(T3,$C$76)+COUNTIF(T3,$C$87)+ COUNTIF(T3,$C$98)+COUNTIF(T3,$C$109)+COUNTIF(T3,$C$120)+COUNTIF(T3,$C$131)+COUNTIF(T3,$C$142)+COUNTIF(T3,$C$153)+COUNTIF(T3,$C$164)+COUNTIF(T3,$C$175)+ COUNTIF(T3,$C$186)+COUNTIF(T3,$C$197)+COUNTIF(T3,$C$208)+COUNTIF(T3,$C$219)+COUNTIF(T3,$C$230)+COUNTIF(T3,$C$241)+COUNTIF(T3,$C$252)+COUNTIF(T3,$C$263)+COUNTIF(T3,$C$274)+COUNTIF(T3,$C$285)+COUNTIF(T3,$C$296)+COUNTIF(T3,$C$307)+COUNTIF(T3,$C$318)+COUNTIF(T3,$C$329)+COUNTIF(T3,$C$451)+COUNTIF(T3,$C$462)+COUNTIF(T3,$C$473)+COUNTIF(T3,$C$484) -> 0 | AC3: =COUNTIF(T3,$C$334)+COUNTIF(T3,$C$345)+COUNTIF(T3,$C$356)+COUNTIF(T3,$C$367)+COUNTIF(T3,$C$378)+COUNTIF(T3,$C$389)+COUNTIF(T3,$C$400)+COUNTIF(T3,$C$411)+COUNTIF(T3,$C$422)+COUNTIF(T3,$C$433)+COUNTIF(T3,$C$477)+COUNTIF(T3,$C$488)+COUNTIF(T3,$C$499)+COUNTIF(T3,$C$510)+COUNTIF(T3,$C$521)+COUNTIF(T3,$C$532) -> 0 | AD3: =COUNTIF(T3,$C$335)+COUNTIF(T3,$C$346)+COUNTIF(T3,$C$357)+COUNTIF(T3,$C$368)+COUNTIF(T3,$C$379)+COUNTIF(T3,$C$390)+COUNTIF(T3,$C$401)+COUNTIF(T3,$C$412)+COUNTIF(T3,$C$423)+COUNTIF(T3,$C$434)+COUNTIF(T3,$C$478)+COUNTIF(T3,$C$489)+COUNTIF(T3,$C$500)+COUNTIF(T3,$C$511)+COUNTIF(T3,$C$522)+COUNTIF(T3,$C$533) -> 0 | AE3: =COUNTIF(T3,$C$336)+COUNTIF(T3,$C$347)+COUNTIF(T3,$C$358)+COUNTIF(T3,$C$369)+COUNTIF(T3,$C$380)+COUNTIF(T3,$C$391)+COUNTIF(T3,$C$402)+COUNTIF(T3,$C$413)+COUNTIF(T3,$C$424)+COUNTIF(T3,$C$435)+COUNTIF(T3,$C$479)+COUNTIF(T3,$C$490)+COUNTIF(T3,$C$501)+COUNTIF(T3,$C$512)+COUNTIF(T3,$C$523)+COUNTIF(T3,$C$534) -> 0 | AF3: =COUNTIF(T3,$C$337)+COUNTIF(T3,$C$348)+COUNTIF(T3,$C$359)+COUNTIF(T3,$C$370)+COUNTIF(T3,$C$381)+COUNTIF(T3,$C$392)+COUNTIF(T3,$C$403)+COUNTIF(T3,$C$414)+COUNTIF(T3,$C$425)+COUNTIF(T3,$C$436)+COUNTIF(T3,$C$480)+COUNTIF(T3,$C$491)+COUNTIF(T3,$C$502)+COUNTIF(T3,$C$513)+COUNTIF(T3,$C$524)+COUNTIF(T3,$C$535) -> 0 | AG3: =COUNTIF(T3,$C$338)+COUNTIF(T3,$C$349)+COUNTIF(T3,$C$360)+COUNTIF(T3,$C$371)+COUNTIF(T3,$C$382)+COUNTIF(T3,$C$393)+COUNTIF(T3,$C$404)+COUNTIF(T3,$C$415)+COUNTIF(T3,$C$426)+COUNTIF(T3,$C$437)+COUNTIF(T3,$C$481)+COUNTIF(T3,$C$492)+COUNTIF(T3,$C$503)+COUNTIF(T3,$C$514)+COUNTIF(T3,$C$525)+COUNTIF(T3,$C$536) -> 0 | AH3: =COUNTIF(T3,$C$339)+COUNTIF(T3,$C$350)+COUNTIF(T3,$C$361)+COUNTIF(T3,$C$372)+COUNTIF(T3,$C$383)+COUNTIF(T3,$C$394)+COUNTIF(T3,$C$405)+COUNTIF(T3,$C$416)+COUNTIF(T3,$C$427)+COUNTIF(T3,$C$438)+COUNTIF(T3,$C$482)+COUNTIF(T3,$C$493)+COUNTIF(T3,$C$504)+COUNTIF(T3,$C$515)+COUNTIF(T3,$C$526)+COUNTIF(T3,$C$537) -> 0 | AJ3: =IF(#REF!>0,#REF!,"") -> #REF! | AK3: =COUNTIF(AJ3,$E$3)+COUNTIF(AJ3,$E$14)+COUNTIF(AJ3,$E$25)+COUNTIF(AJ3,$E$36)+COUNTIF(AJ3,$E$47)+COUNTIF(AJ3,$E$58)+COUNTIF(AJ3,$E$69)+COUNTIF(AJ3,$E$80)+COUNTIF(AJ3,$E$91)+COUNTIF(AJ3,$E$102)+COUNTIF(AJ3,$E$113)+COUNTIF(AJ3,$E$124)+COUNTIF(AJ3,$E$135)+COUNTIF(AJ3,$E$146)+COUNTIF(AJ3,$E$157)+COUNTIF(AJ3,$E$168)+COUNTIF(AJ3,$E$179)+COUNTIF(AJ3,$E$190)+COUNTIF(AJ3,$E$201)+COUNTIF(AJ3,$E$212)+COUNTIF(AJ3,$E$223)+COUNTIF(AJ3,$E$234)+COUNTIF(AJ3,$E$245)+COUNTIF(AJ3,$E$256)+COUNTIF(AJ3,$E$267)+COUNTIF(AJ3,$E$278)+COUNTIF(AJ3,$E$289)+COUNTIF(AJ3,$E$300)+COUNTIF(AJ3,$E$311)+COUNTIF(AJ3,$E$322)+COUNTIF(AJ3,$E$444)+COUNTIF(AJ3,$E$455)+COUNTIF(AJ3,$E$466)+COUNTIF(AJ3,$E$477) -> 0 | AL3: =COUNTIF(AJ3,$E$4)+COUNTIF(AJ3,$E$15)+COUNTIF(AJ3,$E$26)+COUNTIF(AJ3,$E$37)+COUNTIF(AJ3,$E$48)+COUNTIF(AJ3,$E$59)+COUNTIF(AJ3,$E$70)+COUNTIF(AJ3,$E$81)+COUNTIF(AJ3,$E$92)+COUNTIF(AJ3,$E$103)+COUNTIF(AJ3,$E$114)+COUNTIF(AJ3,$E$125)+COUNTIF(AJ3,$E$136)+COUNTIF(AJ3,$E$147)+COUNTIF(AJ3,$E$158)+COUNTIF(AJ3,$E$169)+COUNTIF(AJ3,$E$180)+COUNTIF(AJ3,$E$191)+COUNTIF(AJ3,$E$202)+COUNTIF(AJ3,$E$213)+COUNTIF(AJ3,$E$224)+COUNTIF(AJ3,$E$235)+COUNTIF(AJ3,$E$246)+COUNTIF(AJ3,$E$257)+COUNTIF(AJ3,$E$268)+COUNTIF(AJ3,$E$279)+COUNTIF(AJ3,$E$290)+COUNTIF(AJ3,$E$301)+COUNTIF(AJ3,$E$312)+COUNTIF(AJ3,$E$323)+COUNTIF(AJ3,$E$445)+COUNTIF(AJ3,$E$456)+COUNTIF(AJ3,$E$467)+COUNTIF(AJ3,$E$478) -> 0 | AM3: =COUNTIF(AJ3,$E$5)+COUNTIF(AJ3,$E$16)+COUNTIF(AJ3,$E$27)+COUNTIF(AJ3,$E$38)+COUNTIF(AJ3,$E$49)+COUNTIF(AJ3,$E$60)+COUNTIF(AJ3,$E$71)+COUNTIF(AJ3,$E$82)+COUNTIF(AJ3,$E$93)+COUNTIF(AJ3,$E$104)+COUNTIF(AJ3,$E$115)+COUNTIF(AJ3,$E$126)+COUNTIF(AJ3,$E$137)+COUNTIF(AJ3,$E$148)+COUNTIF(AJ3,$E$159)+COUNTIF(AJ3,$E$170)+COUNTIF(AJ3,$E$181)+COUNTIF(AJ3,$E$192)+COUNTIF(AJ3,$E$203)+COUNTIF(AJ3,$E$214)+COUNTIF(AJ3,$E$225)+COUNTIF(AJ3,$E$236)+COUNTIF(AJ3,$E$247)+COUNTIF(AJ3,$E$258)+COUNTIF(AJ3,$E$269)+COUNTIF(AJ3,$E$280)+COUNTIF(AJ3,$E$291)+COUNTIF(AJ3,$E$302)+COUNTIF(AJ3,$E$313)+COUNTIF(AJ3,$E$324)+COUNTIF(AJ3,$E$446)+COUNTIF(AJ3,$E$457)+COUNTIF(AJ3,$E$468)+COUNTIF(AJ3,$E$479) -> 0 | AN3: =COUNTIF(AJ3,$E$6)+COUNTIF(AJ3,$E$17)+COUNTIF(AJ3,$E$28)+COUNTIF(AJ3,$E$39)+COUNTIF(AJ3,$E$50)+COUNTIF(AJ3,$E$61)+COUNTIF(AJ3,$E$72)+COUNTIF(AJ3,$E$83)+COUNTIF(AJ3,$E$94)+COUNTIF(AJ3,$E$105)+COUNTIF(AJ3,$E$116)+COUNTIF(AJ3,$E$127)+COUNTIF(AJ3,$E$138)+COUNTIF(AJ3,$E$149)+COUNTIF(AJ3,$E$160)+COUNTIF(AJ3,$E$171)+COUNTIF(AJ3,$E$182)+COUNTIF(AJ3,$E$193)+COUNTIF(AJ3,$E$204)+COUNTIF(AJ3,$E$215)+COUNTIF(AJ3,$E$226)+COUNTIF(AJ3,$E$237)+COUNTIF(AJ3,$E$248)+COUNTIF(AJ3,$E$259)+COUNTIF(AJ3,$E$270)+COUNTIF(AJ3,$E$281)+COUNTIF(AJ3,$E$292)+COUNTIF(AJ3,$E$303)+COUNTIF(AJ3,$E$314)+COUNTIF(AJ3,$E$325)+COUNTIF(AJ3,$E$447)+COUNTIF(AJ3,$E$458)+COUNTIF(AJ3,$E$469)+COUNTIF(AJ3,$E$480) -> 0 | AO3: =COUNTIF(AJ3,$E$7)+COUNTIF(AJ3,$E$18)+COUNTIF(AJ3,$E$29)+COUNTIF(AJ3,$E$40)+COUNTIF(AJ3,$E$51)+COUNTIF(AJ3,$E$62)+COUNTIF(AJ3,$E$73)+COUNTIF(AJ3,$E$84)+COUNTIF(AJ3,$E$95)+COUNTIF(AJ3,$E$106)+COUNTIF(AJ3,$E$117)+COUNTIF(AJ3,$E$128)+COUNTIF(AJ3,$E$139)+COUNTIF(AJ3,$E$150)+COUNTIF(AJ3,$E$161)+COUNTIF(AJ3,$E$172)+COUNTIF(AJ3,$E$183)+COUNTIF(AJ3,$E$194)+COUNTIF(AJ3,$E$205)+COUNTIF(AJ3,$E$216)+COUNTIF(AJ3,$E$227)+COUNTIF(AJ3,$E$238)+COUNTIF(AJ3,$E$249)+COUNTIF(AJ3,$E$260)+COUNTIF(AJ3,$E$271)+COUNTIF(AJ3,$E$282)+COUNTIF(AJ3,$E$293)+COUNTIF(AJ3,$E$304)+COUNTIF(AJ3,$E$315)+COUNTIF(AJ3,$E$326)+COUNTIF(AJ3,$E$448)+COUNTIF(AJ3,$E$459)+COUNTIF(AJ3,$E$470)+COUNTIF(AJ3,$E$481) -> 0 | AP3: =COUNTIF(AJ3,$E$8)+COUNTIF(AJ3,$E$19)+COUNTIF(AJ3,$E$30)+COUNTIF(AJ3,$E$41)+COUNTIF(AJ3,$E$52)+COUNTIF(AJ3,$E$63)+COUNTIF(AJ3,$E$74)+COUNTIF(AJ3,$E$85)+COUNTIF(AJ3,$E$96)+COUNTIF(AJ3,$E$107)+COUNTIF(AJ3,$E$118)+COUNTIF(AJ3,$E$129)+COUNTIF(AJ3,$E$140)+COUNTIF(AJ3,$E$151)+COUNTIF(AJ3,$E$162)+COUNTIF(AJ3,$E$173)+COUNTIF(AJ3,$E$184)+COUNTIF(AJ3,$E$195)+COUNTIF(AJ3,$E$206)+COUNTIF(AJ3,$E$217)+COUNTIF(AJ3,$E$228)+COUNTIF(AJ3,$E$239)+COUNTIF(AJ3,$E$250)+COUNTIF(AJ3,$E$261)+COUNTIF(AJ3,$E$272)+COUNTIF(AJ3,$E$283)+COUNTIF(AJ3,$E$294)+COUNTIF(AJ3,$E$305)+COUNTIF(AJ3,$E$316)+COUNTIF(AJ3,$E$327)+COUNTIF(AJ3,$E$449)+COUNTIF(AJ3,$E$460)+COUNTIF(AJ3,$E$471)+COUNTIF(AJ3,$E$482) -> 0 | AQ3: =COUNTIF(AJ3,$E$9)+COUNTIF(AJ3,$E$20)+COUNTIF(AJ3,$E$31)+COUNTIF(AJ3,$E$42)+COUNTIF(AJ3,$E$53)+COUNTIF(AJ3,$E$64)+COUNTIF(AJ3,$E$75)+COUNTIF(AJ3,$E$86)+COUNTIF(AJ3,$E$97)+COUNTIF(AJ3,$E$108)+COUNTIF(AJ3,$E$119)+COUNTIF(AJ3,$E$130)+COUNTIF(AJ3,$E$141)+COUNTIF(AJ3,$E$152)+COUNTIF(AJ3,$E$163)+COUNTIF(AJ3,$E$174)+ COUNTIF(AJ3,$E$185)+COUNTIF(AJ3,$E$196)+COUNTIF(AJ3,$E$207)+COUNTIF(AJ3,$E$218)+COUNTIF(AJ3,$E$229)+COUNTIF(AJ3,$E$240)+COUNTIF(AJ3,$E$251)+COUNTIF(AJ3,$E$262)+COUNTIF(AJ3,$E$273)+COUNTIF(AJ3,$E$284)+COUNTIF(AJ3,$E$295)+COUNTIF(AJ3,$E$306)+COUNTIF(AJ3,$E$317)+COUNTIF(AJ3,$E$328)+COUNTIF(AJ3,$E$450)+COUNTIF(AJ3,$E$461)+COUNTIF(AJ3,$E$472)+COUNTIF(AJ3,$E$483) -> 0 | AR3: =COUNTIF(AJ3,$E$10)+COUNTIF(AJ3,$E$21)+COUNTIF(AJ3,$E$32)+COUNTIF(AJ3,$E$43)+COUNTIF(AJ3,$E$54)+COUNTIF(AJ3,$E$65)+COUNTIF(AJ3,$E$76)+COUNTIF(AJ3,$E$87)+ COUNTIF(AJ3,$E$98)+COUNTIF(AJ3,$E$109)+COUNTIF(AJ3,$E$120)+COUNTIF(AJ3,$E$131)+COUNTIF(AJ3,$E$142)+COUNTIF(AJ3,$E$153)+COUNTIF(AJ3,$E$164)+COUNTIF(AJ3,$E$175)+ COUNTIF(AJ3,$E$186)+COUNTIF(AJ3,$E$197)+COUNTIF(AJ3,$E$208)+COUNTIF(AJ3,$E$219)+COUNTIF(AJ3,$E$230)+COUNTIF(AJ3,$E$241)+COUNTIF(AJ3,$E$252)+COUNTIF(AJ3,$E$263)+COUNTIF(AJ3,$E$274)+COUNTIF(AJ3,$E$285)+COUNTIF(AJ3,$E$296)+COUNTIF(AJ3,$E$307)+COUNTIF(AJ3,$E$318)+COUNTIF(AJ3,$E$329)+COUNTIF(AJ3,$E$451)+COUNTIF(AJ3,$E$462)+COUNTIF(AJ3,$E$473)+COUNTIF(AJ3,$E$484) -> 0 | AS3: =COUNTIF(AJ3,$E$334)+COUNTIF(AJ3,$E$345)+COUNTIF(AJ3,$E$356)+COUNTIF(AJ3,$E$367)+COUNTIF(AJ3,$E$378)+COUNTIF(AJ3,$E$389)+COUNTIF(AJ3,$E$400)+COUNTIF(AJ3,$E$411)+COUNTIF(AJ3,$E$422)+COUNTIF(AJ3,$E$433)+COUNTIF(AJ3,$E$477)+COUNTIF(AJ3,$E$488)+COUNTIF(AJ3,$E$499)+COUNTIF(AJ3,$E$510)+COUNTIF(AJ3,$E$521)+COUNTIF(AJ3,$E$532) -> 0 | AT3: =COUNTIF(AJ3,$E$335)+COUNTIF(AJ3,$E$346)+COUNTIF(AJ3,$E$357)+COUNTIF(AJ3,$E$368)+COUNTIF(AJ3,$E$379)+COUNTIF(AJ3,$E$390)+COUNTIF(AJ3,$E$401)+COUNTIF(AJ3,$E$412)+COUNTIF(AJ3,$E$423)+COUNTIF(AJ3,$E$434)+COUNTIF(AJ3,$E$478)+COUNTIF(AJ3,$E$489)+COUNTIF(AJ3,$E$500)+COUNTIF(AJ3,$E$511)+COUNTIF(AJ3,$E$522)+COUNTIF(AJ3,$E$533) -> 0 | AU3: =COUNTIF(AJ3,$E$336)+COUNTIF(AJ3,$E$347)+COUNTIF(AJ3,$E$358)+COUNTIF(AJ3,$E$369)+COUNTIF(AJ3,$E$380)+COUNTIF(AJ3,$E$391)+COUNTIF(AJ3,$E$402)+COUNTIF(AJ3,$E$413)+COUNTIF(AJ3,$E$424)+COUNTIF(AJ3,$E$435)+COUNTIF(AJ3,$E$479)+COUNTIF(AJ3,$E$490)+COUNTIF(AJ3,$E$501)+COUNTIF(AJ3,$E$512)+COUNTIF(AJ3,$E$523)+COUNTIF(AJ3,$E$534) -> 0 | AV3: =COUNTIF(AJ3,$E$337)+COUNTIF(AJ3,$E$348)+COUNTIF(AJ3,$E$359)+COUNTIF(AJ3,$E$370)+COUNTIF(AJ3,$E$381)+COUNTIF(AJ3,$E$392)+COUNTIF(AJ3,$E$403)+COUNTIF(AJ3,$E$414)+COUNTIF(AJ3,$E$425)+COUNTIF(AJ3,$E$436)+COUNTIF(AJ3,$E$480)+COUNTIF(AJ3,$E$491)+COUNTIF(AJ3,$E$502)+COUNTIF(AJ3,$E$513)+COUNTIF(AJ3,$E$524)+COUNTIF(AJ3,$E$535) -> 0 | AW3: =COUNTIF(AJ3,$E$338)+COUNTIF(AJ3,$E$349)+COUNTIF(AJ3,$E$360)+COUNTIF(AJ3,$E$371)+COUNTIF(AJ3,$E$382)+COUNTIF(AJ3,$E$393)+COUNTIF(AJ3,$E$404)+COUNTIF(AJ3,$E$415)+COUNTIF(AJ3,$E$426)+COUNTIF(AJ3,$E$437)+COUNTIF(AJ3,$E$481)+COUNTIF(AJ3,$E$492)+COUNTIF(AJ3,$E$503)+COUNTIF(AJ3,$E$514)+COUNTIF(AJ3,$E$525)+COUNTIF(AJ3,$E$536) -> 0 | AX3: =COUNTIF(AJ3,$E$339)+COUNTIF(AJ3,$E$350)+COUNTIF(AJ3,$E$361)+COUNTIF(AJ3,$E$372)+COUNTIF(AJ3,$E$383)+COUNTIF(AJ3,$E$394)+COUNTIF(AJ3,$E$405)+COUNTIF(AJ3,$E$416)+COUNTIF(AJ3,$E$427)+COUNTIF(AJ3,$E$438)+COUNTIF(AJ3,$E$482)+COUNTIF(AJ3,$E$493)+COUNTIF(AJ3,$E$504)+COUNTIF(AJ3,$E$515)+COUNTIF(AJ3,$E$526)+COUNTIF(AJ3,$E$537) -> 0 | AZ3: =IF(#REF!>0,#REF!,"") -> #REF! | BA3: =COUNTIF(AZ3,$G$3)+COUNTIF(AZ3,$G$14)+COUNTIF(AZ3,$G$25)+COUNTIF(AZ3,$G$36)+COUNTIF(AZ3,$G$47)+COUNTIF(AZ3,$G$58)+COUNTIF(AZ3,$G$69)+COUNTIF(AZ3,$G$80)+COUNTIF(AZ3,$G$91)+COUNTIF(AZ3,$G$102)+COUNTIF(AZ3,$G$113)+COUNTIF(AZ3,$G$124)+COUNTIF(AZ3,$G$135)+COUNTIF(AZ3,$G$146)+COUNTIF(AZ3,$G$157)+COUNTIF(AZ3,$G$168)+COUNTIF(AZ3,$G$179)+COUNTIF(AZ3,$G$190)+COUNTIF(AZ3,$G$201)+COUNTIF(AZ3,$G$212)+COUNTIF(AZ3,$G$223)+COUNTIF(AZ3,$G$234)+COUNTIF(AZ3,$G$245)+COUNTIF(AZ3,$G$256)+COUNTIF(AZ3,$G$267)+COUNTIF(AZ3,$G$278)+COUNTIF(AZ3,$G$289)+COUNTIF(AZ3,$G$300)+COUNTIF(AZ3,$G$311)+COUNTIF(AZ3,$G$322)+COUNTIF(AZ3,$G$444)+COUNTIF(AZ3,$G$455)+COUNTIF(AZ3,$G$466)+COUNTIF(AZ3,$G$477) -> 0 | BB3: =COUNTIF(AZ3,$G$4)+COUNTIF(AZ3,$G$15)+COUNTIF(AZ3,$G$26)+COUNTIF(AZ3,$G$37)+COUNTIF(AZ3,$G$48)+COUNTIF(AZ3,$G$59)+COUNTIF(AZ3,$G$70)+COUNTIF(AZ3,$G$81)+COUNTIF(AZ3,$G$92)+COUNTIF(AZ3,$G$103)+COUNTIF(AZ3,$G$114)+COUNTIF(AZ3,$G$125)+COUNTIF(AZ3,$G$136)+COUNTIF(AZ3,$G$147)+COUNTIF(AZ3,$G$158)+COUNTIF(AZ3,$G$169)+COUNTIF(AZ3,$G$180)+COUNTIF(AZ3,$G$191)+COUNTIF(AZ3,$G$202)+COUNTIF(AZ3,$G$213)+COUNTIF(AZ3,$G$224)+COUNTIF(AZ3,$G$235)+COUNTIF(AZ3,$G$246)+COUNTIF(AZ3,$G$257)+COUNTIF(AZ3,$G$268)+COUNTIF(AZ3,$G$279)+COUNTIF(AZ3,$G$290)+COUNTIF(AZ3,$G$301)+COUNTIF(AZ3,$G$312)+COUNTIF(AZ3,$G$323)+COUNTIF(AZ3,$G$445)+COUNTIF(AZ3,$G$456)+COUNTIF(AZ3,$G$467)+COUNTIF(AZ3,$G$478) -> 0 | BC3: =COUNTIF(AZ3,$G$5)+COUNTIF(AZ3,$G$16)+COUNTIF(AZ3,$G$27)+COUNTIF(AZ3,$G$38)+COUNTIF(AZ3,$G$49)+COUNTIF(AZ3,$G$60)+COUNTIF(AZ3,$G$71)+COUNTIF(AZ3,$G$82)+COUNTIF(AZ3,$G$93)+COUNTIF(AZ3,$G$104)+COUNTIF(AZ3,$G$115)+COUNTIF(AZ3,$G$126)+COUNTIF(AZ3,$G$137)+COUNTIF(AZ3,$G$148)+COUNTIF(AZ3,$G$159)+COUNTIF(AZ3,$G$170)+COUNTIF(AZ3,$G$181)+COUNTIF(AZ3,$G$192)+COUNTIF(AZ3,$G$203)+COUNTIF(AZ3,$G$214)+COUNTIF(AZ3,$G$225)+COUNTIF(AZ3,$G$236)+COUNTIF(AZ3,$G$247)+COUNTIF(AZ3,$G$258)+COUNTIF(AZ3,$G$269)+COUNTIF(AZ3,$G$280)+COUNTIF(AZ3,$G$291)+COUNTIF(AZ3,$G$302)+COUNTIF(AZ3,$G$313)+COUNTIF(AZ3,$G$324)+COUNTIF(AZ3,$G$446)+COUNTIF(AZ3,$G$457)+COUNTIF(AZ3,$G$468)+COUNTIF(AZ3,$G$479) -> 0 | BD3: =COUNTIF(AZ3,$G$6)+COUNTIF(AZ3,$G$17)+COUNTIF(AZ3,$G$28)+COUNTIF(AZ3,$G$39)+COUNTIF(AZ3,$G$50)+COUNTIF(AZ3,$G$61)+COUNTIF(AZ3,$G$72)+COUNTIF(AZ3,$G$83)+COUNTIF(AZ3,$G$94)+COUNTIF(AZ3,$G$105)+COUNTIF(AZ3,$G$116)+COUNTIF(AZ3,$G$127)+COUNTIF(AZ3,$G$138)+COUNTIF(AZ3,$G$149)+COUNTIF(AZ3,$G$160)+COUNTIF(AZ3,$G$171)+COUNTIF(AZ3,$G$182)+COUNTIF(AZ3,$G$193)+COUNTIF(AZ3,$G$204)+COUNTIF(AZ3,$G$215)+COUNTIF(AZ3,$G$226)+COUNTIF(AZ3,$G$237)+COUNTIF(AZ3,$G$248)+COUNTIF(AZ3,$G$259)+COUNTIF(AZ3,$G$270)+COUNTIF(AZ3,$G$281)+COUNTIF(AZ3,$G$292)+COUNTIF(AZ3,$G$303)+COUNTIF(AZ3,$G$314)+COUNTIF(AZ3,$G$325)+COUNTIF(AZ3,$G$447)+COUNTIF(AZ3,$G$458)+COUNTIF(AZ3,$G$469)+COUNTIF(AZ3,$G$480) -> 0 | BE3: =COUNTIF(AZ3,$G$7)+COUNTIF(AZ3,$G$18)+COUNTIF(AZ3,$G$29)+COUNTIF(AZ3,$G$40)+COUNTIF(AZ3,$G$51)+COUNTIF(AZ3,$G$62)+COUNTIF(AZ3,$G$73)+COUNTIF(AZ3,$G$84)+COUNTIF(AZ3,$G$95)+COUNTIF(AZ3,$G$106)+COUNTIF(AZ3,$G$117)+COUNTIF(AZ3,$G$128)+COUNTIF(AZ3,$G$139)+COUNTIF(AZ3,$G$150)+COUNTIF(AZ3,$G$161)+COUNTIF(AZ3,$G$172)+COUNTIF(AZ3,$G$183)+COUNTIF(AZ3,$G$194)+COUNTIF(AZ3,$G$205)+COUNTIF(AZ3,$G$216)+COUNTIF(AZ3,$G$227)+COUNTIF(AZ3,$G$238)+COUNTIF(AZ3,$G$249)+COUNTIF(AZ3,$G$260)+COUNTIF(AZ3,$G$271)+COUNTIF(AZ3,$G$282)+COUNTIF(AZ3,$G$293)+COUNTIF(AZ3,$G$304)+COUNTIF(AZ3,$G$315)+COUNTIF(AZ3,$G$326)+COUNTIF(AZ3,$G$448)+COUNTIF(AZ3,$G$459)+COUNTIF(AZ3,$G$470)+COUNTIF(AZ3,$G$481) -> 0 | BF3: =COUNTIF(AZ3,$G$8)+COUNTIF(AZ3,$G$19)+COUNTIF(AZ3,$G$30)+COUNTIF(AZ3,$G$41)+COUNTIF(AZ3,$G$52)+COUNTIF(AZ3,$G$63)+COUNTIF(AZ3,$G$74)+COUNTIF(AZ3,$G$85)+COUNTIF(AZ3,$G$96)+COUNTIF(AZ3,$G$107)+COUNTIF(AZ3,$G$118)+COUNTIF(AZ3,$G$129)+COUNTIF(AZ3,$G$140)+COUNTIF(AZ3,$G$151)+COUNTIF(AZ3,$G$162)+COUNTIF(AZ3,$G$173)+COUNTIF(AZ3,$G$184)+COUNTIF(AZ3,$G$195)+COUNTIF(AZ3,$G$206)+COUNTIF(AZ3,$G$217)+COUNTIF(AZ3,$G$228)+COUNTIF(AZ3,$G$239)+COUNTIF(AZ3,$G$250)+COUNTIF(AZ3,$G$261)+COUNTIF(AZ3,$G$272)+COUNTIF(AZ3,$G$283)+COUNTIF(AZ3,$G$294)+COUNTIF(AZ3,$G$305)+COUNTIF(AZ3,$G$316)+COUNTIF(AZ3,$G$327)+COUNTIF(AZ3,$G$449)+COUNTIF(AZ3,$G$460)+COUNTIF(AZ3,$G$471)+COUNTIF(AZ3,$G$482) -> 0 | BG3: =COUNTIF(AZ3,$G$9)+COUNTIF(AZ3,$G$20)+COUNTIF(AZ3,$G$31)+COUNTIF(AZ3,$G$42)+COUNTIF(AZ3,$G$53)+COUNTIF(AZ3,$G$64)+COUNTIF(AZ3,$G$75)+COUNTIF(AZ3,$G$86)+COUNTIF(AZ3,$G$97)+COUNTIF(AZ3,$G$108)+COUNTIF(AZ3,$G$119)+COUNTIF(AZ3,$G$130)+COUNTIF(AZ3,$G$141)+COUNTIF(AZ3,$G$152)+COUNTIF(AZ3,$G$163)+COUNTIF(AZ3,$G$174)+ COUNTIF(AZ3,$G$185)+COUNTIF(AZ3,$G$196)+COUNTIF(AZ3,$G$207)+COUNTIF(AZ3,$G$218)+COUNTIF(AZ3,$G$229)+COUNTIF(AZ3,$G$240)+COUNTIF(AZ3,$G$251)+COUNTIF(AZ3,$G$262)+COUNTIF(AZ3,$G$273)+COUNTIF(AZ3,$G$284)+COUNTIF(AZ3,$G$295)+COUNTIF(AZ3,$G$306)+COUNTIF(AZ3,$G$317)+COUNTIF(AZ3,$G$328)+COUNTIF(AZ3,$G$450)+COUNTIF(AZ3,$G$461)+COUNTIF(AZ3,$G$472)+COUNTIF(AZ3,$G$483) -> 0 | BH3: =COUNTIF(AZ3,$G$10)+COUNTIF(AZ3,$G$21)+COUNTIF(AZ3,$G$32)+COUNTIF(AZ3,$G$43)+COUNTIF(AZ3,$G$54)+COUNTIF(AZ3,$G$65)+COUNTIF(AZ3,$G$76)+COUNTIF(AZ3,$G$87)+ COUNTIF(AZ3,$G$98)+COUNTIF(AZ3,$G$109)+COUNTIF(AZ3,$G$120)+COUNTIF(AZ3,$G$131)+COUNTIF(AZ3,$G$142)+COUNTIF(AZ3,$G$153)+COUNTIF(AZ3,$G$164)+COUNTIF(AZ3,$G$175)+ COUNTIF(AZ3,$G$186)+COUNTIF(AZ3,$G$197)+COUNTIF(AZ3,$G$208)+COUNTIF(AZ3,$G$219)+COUNTIF(AZ3,$G$230)+COUNTIF(AZ3,$G$241)+COUNTIF(AZ3,$G$252)+COUNTIF(AZ3,$G$263)+COUNTIF(AZ3,$G$274)+COUNTIF(AZ3,$G$285)+COUNTIF(AZ3,$G$296)+COUNTIF(AZ3,$G$307)+COUNTIF(AZ3,$G$318)+COUNTIF(AZ3,$G$329)+COUNTIF(AZ3,$G$451)+COUNTIF(AZ3,$G$462)+COUNTIF(AZ3,$G$473)+COUNTIF(AZ3,$G$484) -> 0 | BI3: =COUNTIF(AZ3,$G$334)+COUNTIF(AZ3,$G$345)+COUNTIF(AZ3,$G$356)+COUNTIF(AZ3,$G$367)+COUNTIF(AZ3,$G$378)+COUNTIF(AZ3,$G$389)+COUNTIF(AZ3,$G$400)+COUNTIF(AZ3,$G$411)+COUNTIF(AZ3,$G$422)+COUNTIF(AZ3,$G$433)+COUNTIF(AZ3,$G$477)+COUNTIF(AZ3,$G$488)+COUNTIF(AZ3,$G$499)+COUNTIF(AZ3,$G$510)+COUNTIF(AZ3,$G$521)+COUNTIF(AZ3,$G$532) -> 0 | BJ3: =COUNTIF(AZ3,$G$335)+COUNTIF(AZ3,$G$346)+COUNTIF(AZ3,$G$357)+COUNTIF(AZ3,$G$368)+COUNTIF(AZ3,$G$379)+COUNTIF(AZ3,$G$390)+COUNTIF(AZ3,$G$401)+COUNTIF(AZ3,$G$412)+COUNTIF(AZ3,$G$423)+COUNTIF(AZ3,$G$434)+COUNTIF(AZ3,$G$478)+COUNTIF(AZ3,$G$489)+COUNTIF(AZ3,$G$500)+COUNTIF(AZ3,$G$511)+COUNTIF(AZ3,$G$522)+COUNTIF(AZ3,$G$533) -> 0 | BK3: =COUNTIF(AZ3,$G$336)+COUNTIF(AZ3,$G$347)+COUNTIF(AZ3,$G$358)+COUNTIF(AZ3,$G$369)+COUNTIF(AZ3,$G$380)+COUNTIF(AZ3,$G$391)+COUNTIF(AZ3,$G$402)+COUNTIF(AZ3,$G$413)+COUNTIF(AZ3,$G$424)+COUNTIF(AZ3,$G$435)+COUNTIF(AZ3,$G$479)+COUNTIF(AZ3,$G$490)+COUNTIF(AZ3,$G$501)+COUNTIF(AZ3,$G$512)+COUNTIF(AZ3,$G$523)+COUNTIF(AZ3,$G$534) -> 0 | BL3: =COUNTIF(AZ3,$G$337)+COUNTIF(AZ3,$G$348)+COUNTIF(AZ3,$G$359)+COUNTIF(AZ3,$G$370)+COUNTIF(AZ3,$G$381)+COUNTIF(AZ3,$G$392)+COUNTIF(AZ3,$G$403)+COUNTIF(AZ3,$G$414)+COUNTIF(AZ3,$G$425)+COUNTIF(AZ3,$G$436)+COUNTIF(AZ3,$G$480)+COUNTIF(AZ3,$G$491)+COUNTIF(AZ3,$G$502)+COUNTIF(AZ3,$G$513)+COUNTIF(AZ3,$G$524)+COUNTIF(AZ3,$G$535) -> 0 | BM3: =COUNTIF(AZ3,$G$338)+COUNTIF(AZ3,$G$349)+COUNTIF(AZ3,$G$360)+COUNTIF(AZ3,$G$371)+COUNTIF(AZ3,$G$382)+COUNTIF(AZ3,$G$393)+COUNTIF(AZ3,$G$404)+COUNTIF(AZ3,$G$415)+COUNTIF(AZ3,$G$426)+COUNTIF(AZ3,$G$437)+COUNTIF(AZ3,$G$481)+COUNTIF(AZ3,$G$492)+COUNTIF(AZ3,$G$503)+COUNTIF(AZ3,$G$514)+COUNTIF(AZ3,$G$525)+COUNTIF(AZ3,$G$536) -> 0 | BN3: =COUNTIF(AZ3,$G$339)+COUNTIF(AZ3,$G$350)+COUNTIF(AZ3,$G$361)+COUNTIF(AZ3,$G$372)+COUNTIF(AZ3,$G$383)+COUNTIF(AZ3,$G$394)+COUNTIF(AZ3,$G$405)+COUNTIF(AZ3,$G$416)+COUNTIF(AZ3,$G$427)+COUNTIF(AZ3,$G$438)+COUNTIF(AZ3,$G$482)+COUNTIF(AZ3,$G$493)+COUNTIF(AZ3,$G$504)+COUNTIF(AZ3,$G$515)+COUNTIF(AZ3,$G$526)+COUNTIF(AZ3,$G$537) -> 0 | BP3: =IF(#REF!>0,#REF!,"") -> #REF! | BQ3: =COUNTIF(BP3,$I$3)+COUNTIF(BP3,$I$14)+COUNTIF(BP3,$I$25)+COUNTIF(BP3,$I$36)+COUNTIF(BP3,$I$47)+COUNTIF(BP3,$I$58)+COUNTIF(BP3,$I$69)+COUNTIF(BP3,$I$80)+COUNTIF(BP3,$I$91)+COUNTIF(BP3,$I$102)+COUNTIF(BP3,$I$113)+COUNTIF(BP3,$I$124)+COUNTIF(BP3,$I$135)+COUNTIF(BP3,$I$146)+COUNTIF(BP3,$I$157)+COUNTIF(BP3,$I$168)+COUNTIF(BP3,$I$179)+COUNTIF(BP3,$I$190)+COUNTIF(BP3,$I$201)+COUNTIF(BP3,$I$212)+COUNTIF(BP3,$I$223)+COUNTIF(BP3,$I$234)+COUNTIF(BP3,$I$245)+COUNTIF(BP3,$I$256)+COUNTIF(BP3,$I$267)+COUNTIF(BP3,$I$278)+COUNTIF(BP3,$I$289)+COUNTIF(BP3,$I$300)+COUNTIF(BP3,$I$311)+COUNTIF(BP3,$I$322)+COUNTIF(BP3,$I$444)+COUNTIF(BP3,$I$455)+COUNTIF(BP3,$I$466)+COUNTIF(BP3,$I$477) -> 0 | BR3: =COUNTIF(BP3,$I$4)+COUNTIF(BP3,$I$15)+COUNTIF(BP3,$I$26)+COUNTIF(BP3,$I$37)+COUNTIF(BP3,$I$48)+COUNTIF(BP3,$I$59)+COUNTIF(BP3,$I$70)+COUNTIF(BP3,$I$81)+COUNTIF(BP3,$I$92)+COUNTIF(BP3,$I$103)+COUNTIF(BP3,$I$114)+COUNTIF(BP3,$I$125)+COUNTIF(BP3,$I$136)+COUNTIF(BP3,$I$147)+COUNTIF(BP3,$I$158)+COUNTIF(BP3,$I$169)+COUNTIF(BP3,$I$180)+COUNTIF(BP3,$I$191)+COUNTIF(BP3,$I$202)+COUNTIF(BP3,$I$213)+COUNTIF(BP3,$I$224)+COUNTIF(BP3,$I$235)+COUNTIF(BP3,$I$246)+COUNTIF(BP3,$I$257)+COUNTIF(BP3,$I$268)+COUNTIF(BP3,$I$279)+COUNTIF(BP3,$I$290)+COUNTIF(BP3,$I$301)+COUNTIF(BP3,$I$312)+COUNTIF(BP3,$I$323)+COUNTIF(BP3,$I$445)+COUNTIF(BP3,$I$456)+COUNTIF(BP3,$I$467)+COUNTIF(BP3,$I$478) -> 0 | BS3: =COUNTIF(BP3,$I$5)+COUNTIF(BP3,$I$16)+COUNTIF(BP3,$I$27)+COUNTIF(BP3,$I$38)+COUNTIF(BP3,$I$49)+COUNTIF(BP3,$I$60)+COUNTIF(BP3,$I$71)+COUNTIF(BP3,$I$82)+COUNTIF(BP3,$I$93)+COUNTIF(BP3,$I$104)+COUNTIF(BP3,$I$115)+COUNTIF(BP3,$I$126)+COUNTIF(BP3,$I$137)+COUNTIF(BP3,$I$148)+COUNTIF(BP3,$I$159)+COUNTIF(BP3,$I$170)+COUNTIF(BP3,$I$181)+COUNTIF(BP3,$I$192)+COUNTIF(BP3,$I$203)+COUNTIF(BP3,$I$214)+COUNTIF(BP3,$I$225)+COUNTIF(BP3,$I$236)+COUNTIF(BP3,$I$247)+COUNTIF(BP3,$I$258)+COUNTIF(BP3,$I$269)+COUNTIF(BP3,$I$280)+COUNTIF(BP3,$I$291)+COUNTIF(BP3,$I$302)+COUNTIF(BP3,$I$313)+COUNTIF(BP3,$I$324)+COUNTIF(BP3,$I$446)+COUNTIF(BP3,$I$457)+COUNTIF(BP3,$I$468)+COUNTIF(BP3,$I$479) -> 0 | BT3: =COUNTIF(BP3,$I$6)+COUNTIF(BP3,$I$17)+COUNTIF(BP3,$I$28)+COUNTIF(BP3,$I$39)+COUNTIF(BP3,$I$50)+COUNTIF(BP3,$I$61)+COUNTIF(BP3,$I$72)+COUNTIF(BP3,$I$83)+COUNTIF(BP3,$I$94)+COUNTIF(BP3,$I$105)+COUNTIF(BP3,$I$116)+COUNTIF(BP3,$I$127)+COUNTIF(BP3,$I$138)+COUNTIF(BP3,$I$149)+COUNTIF(BP3,$I$160)+COUNTIF(BP3,$I$171)+COUNTIF(BP3,$I$182)+COUNTIF(BP3,$I$193)+COUNTIF(BP3,$I$204)+COUNTIF(BP3,$I$215)+COUNTIF(BP3,$I$226)+COUNTIF(BP3,$I$237)+COUNTIF(BP3,$I$248)+COUNTIF(BP3,$I$259)+COUNTIF(BP3,$I$270)+COUNTIF(BP3,$I$281)+COUNTIF(BP3,$I$292)+COUNTIF(BP3,$I$303)+COUNTIF(BP3,$I$314)+COUNTIF(BP3,$I$325)+COUNTIF(BP3,$I$447)+COUNTIF(BP3,$I$458)+COUNTIF(BP3,$I$469)+COUNTIF(BP3,$I$480) -> 0 | BU3: =COUNTIF(BP3,$I$7)+COUNTIF(BP3,$I$18)+COUNTIF(BP3,$I$29)+COUNTIF(BP3,$I$40)+COUNTIF(BP3,$I$51)+COUNTIF(BP3,$I$62)+COUNTIF(BP3,$I$73)+COUNTIF(BP3,$I$84)+COUNTIF(BP3,$I$95)+COUNTIF(BP3,$I$106)+COUNTIF(BP3,$I$117)+COUNTIF(BP3,$I$128)+COUNTIF(BP3,$I$139)+COUNTIF(BP3,$I$150)+COUNTIF(BP3,$I$161)+COUNTIF(BP3,$I$172)+COUNTIF(BP3,$I$183)+COUNTIF(BP3,$I$194)+COUNTIF(BP3,$I$205)+COUNTIF(BP3,$I$216)+COUNTIF(BP3,$I$227)+COUNTIF(BP3,$I$238)+COUNTIF(BP3,$I$249)+COUNTIF(BP3,$I$260)+COUNTIF(BP3,$I$271)+COUNTIF(BP3,$I$282)+COUNTIF(BP3,$I$293)+COUNTIF(BP3,$I$304)+COUNTIF(BP3,$I$315)+COUNTIF(BP3,$I$326)+COUNTIF(BP3,$I$448)+COUNTIF(BP3,$I$459)+COUNTIF(BP3,$I$470)+COUNTIF(BP3,$I$481) -> 0 | BV3: =COUNTIF(BP3,$I$8)+COUNTIF(BP3,$I$19)+COUNTIF(BP3,$I$30)+COUNTIF(BP3,$I$41)+COUNTIF(BP3,$I$52)+COUNTIF(BP3,$I$63)+COUNTIF(BP3,$I$74)+COUNTIF(BP3,$I$85)+COUNTIF(BP3,$I$96)+COUNTIF(BP3,$I$107)+COUNTIF(BP3,$I$118)+COUNTIF(BP3,$I$129)+COUNTIF(BP3,$I$140)+COUNTIF(BP3,$I$151)+COUNTIF(BP3,$I$162)+COUNTIF(BP3,$I$173)+COUNTIF(BP3,$I$184)+COUNTIF(BP3,$I$195)+COUNTIF(BP3,$I$206)+COUNTIF(BP3,$I$217)+COUNTIF(BP3,$I$228)+COUNTIF(BP3,$I$239)+COUNTIF(BP3,$I$250)+COUNTIF(BP3,$I$261)+COUNTIF(BP3,$I$272)+COUNTIF(BP3,$I$283)+COUNTIF(BP3,$I$294)+COUNTIF(BP3,$I$305)+COUNTIF(BP3,$I$316)+COUNTIF(BP3,$I$327)+COUNTIF(BP3,$I$449)+COUNTIF(BP3,$I$460)+COUNTIF(BP3,$I$471)+COUNTIF(BP3,$I$482) -> 0 | BW3: =COUNTIF(BP3,$I$9)+COUNTIF(BP3,$I$20)+COUNTIF(BP3,$I$31)+COUNTIF(BP3,$I$42)+COUNTIF(BP3,$I$53)+COUNTIF(BP3,$I$64)+COUNTIF(BP3,$I$75)+COUNTIF(BP3,$I$86)+COUNTIF(BP3,$I$97)+COUNTIF(BP3,$I$108)+COUNTIF(BP3,$I$119)+COUNTIF(BP3,$I$130)+COUNTIF(BP3,$I$141)+COUNTIF(BP3,$I$152)+COUNTIF(BP3,$I$163)+COUNTIF(BP3,$I$174)+ COUNTIF(BP3,$I$185)+COUNTIF(BP3,$I$196)+COUNTIF(BP3,$I$207)+COUNTIF(BP3,$I$218)+COUNTIF(BP3,$I$229)+COUNTIF(BP3,$I$240)+COUNTIF(BP3,$I$251)+COUNTIF(BP3,$I$262)+COUNTIF(BP3,$I$273)+COUNTIF(BP3,$I$284)+COUNTIF(BP3,$I$295)+COUNTIF(BP3,$I$306)+COUNTIF(BP3,$I$317)+COUNTIF(BP3,$I$328)+COUNTIF(BP3,$I$450)+COUNTIF(BP3,$I$461)+COUNTIF(BP3,$I$472)+COUNTIF(BP3,$I$483) -> 0 | BX3: =COUNTIF(BP3,$I$10)+COUNTIF(BP3,$I$21)+COUNTIF(BP3,$I$32)+COUNTIF(BP3,$I$43)+COUNTIF(BP3,$I$54)+COUNTIF(BP3,$I$65)+COUNTIF(BP3,$I$76)+COUNTIF(BP3,$I$87)+ COUNTIF(BP3,$I$98)+COUNTIF(BP3,$I$109)+COUNTIF(BP3,$I$120)+COUNTIF(BP3,$I$131)+COUNTIF(BP3,$I$142)+COUNTIF(BP3,$I$153)+COUNTIF(BP3,$I$164)+COUNTIF(BP3,$I$175)+ COUNTIF(BP3,$I$186)+COUNTIF(BP3,$I$197)+COUNTIF(BP3,$I$208)+COUNTIF(BP3,$I$219)+COUNTIF(BP3,$I$230)+COUNTIF(BP3,$I$241)+COUNTIF(BP3,$I$252)+COUNTIF(BP3,$I$263)+COUNTIF(BP3,$I$274)+COUNTIF(BP3,$I$285)+COUNTIF(BP3,$I$296)+COUNTIF(BP3,$I$307)+COUNTIF(BP3,$I$318)+COUNTIF(BP3,$I$329)+COUNTIF(BP3,$I$451)+COUNTIF(BP3,$I$462)+COUNTIF(BP3,$I$473)+COUNTIF(BP3,$I$484) -> 0 | BY3: =COUNTIF(BP3,$I$334)+COUNTIF(BP3,$I$345)+COUNTIF(BP3,$I$356)+COUNTIF(BP3,$I$367)+COUNTIF(BP3,$I$378)+COUNTIF(BP3,$I$389)+COUNTIF(BP3,$I$400)+COUNTIF(BP3,$I$411)+COUNTIF(BP3,$I$422)+COUNTIF(BP3,$I$433)+COUNTIF(BP3,$I$477)+COUNTIF(BP3,$I$488)+COUNTIF(BP3,$I$499)+COUNTIF(BP3,$I$510)+COUNTIF(BP3,$I$521)+COUNTIF(BP3,$I$532) -> 0 | BZ3: =COUNTIF(BP3,$I$335)+COUNTIF(BP3,$I$346)+COUNTIF(BP3,$I$357)+COUNTIF(BP3,$I$368)+COUNTIF(BP3,$I$379)+COUNTIF(BP3,$I$390)+COUNTIF(BP3,$I$401)+COUNTIF(BP3,$I$412)+COUNTIF(BP3,$I$423)+COUNTIF(BP3,$I$434)+COUNTIF(BP3,$I$478)+COUNTIF(BP3,$I$489)+COUNTIF(BP3,$I$500)+COUNTIF(BP3,$I$511)+COUNTIF(BP3,$I$522)+COUNTIF(BP3,$I$533) -> 0 | CA3: =COUNTIF(BP3,$I$336)+COUNTIF(BP3,$I$347)+COUNTIF(BP3,$I$358)+COUNTIF(BP3,$I$369)+COUNTIF(BP3,$I$380)+COUNTIF(BP3,$I$391)+COUNTIF(BP3,$I$402)+COUNTIF(BP3,$I$413)+COUNTIF(BP3,$I$424)+COUNTIF(BP3,$I$435)+COUNTIF(BP3,$I$479)+COUNTIF(BP3,$I$490)+COUNTIF(BP3,$I$501)+COUNTIF(BP3,$I$512)+COUNTIF(BP3,$I$523)+COUNTIF(BP3,$I$534) -> 0 | CB3: =COUNTIF(BP3,$I$337)+COUNTIF(BP3,$I$348)+COUNTIF(BP3,$I$359)+COUNTIF(BP3,$I$370)+COUNTIF(BP3,$I$381)+COUNTIF(BP3,$I$392)+COUNTIF(BP3,$I$403)+COUNTIF(BP3,$I$414)+COUNTIF(BP3,$I$425)+COUNTIF(BP3,$I$436)+COUNTIF(BP3,$I$480)+COUNTIF(BP3,$I$491)+COUNTIF(BP3,$I$502)+COUNTIF(BP3,$I$513)+COUNTIF(BP3,$I$524)+COUNTIF(BP3,$I$535) -> 0 | CC3: =COUNTIF(BP3,$I$338)+COUNTIF(BP3,$I$349)+COUNTIF(BP3,$I$360)+COUNTIF(BP3,$I$371)+COUNTIF(BP3,$I$382)+COUNTIF(BP3,$I$393)+COUNTIF(BP3,$I$404)+COUNTIF(BP3,$I$415)+COUNTIF(BP3,$I$426)+COUNTIF(BP3,$I$437)+COUNTIF(BP3,$I$481)+COUNTIF(BP3,$I$492)+COUNTIF(BP3,$I$503)+COUNTIF(BP3,$I$514)+COUNTIF(BP3,$I$525)+COUNTIF(BP3,$I$536) -> 0 | CD3: =COUNTIF(BP3,$I$339)+COUNTIF(BP3,$I$350)+COUNTIF(BP3,$I$361)+COUNTIF(BP3,$I$372)+COUNTIF(BP3,$I$383)+COUNTIF(BP3,$I$394)+COUNTIF(BP3,$I$405)+COUNTIF(BP3,$I$416)+COUNTIF(BP3,$I$427)+COUNTIF(BP3,$I$438)+COUNTIF(BP3,$I$482)+COUNTIF(BP3,$I$493)+COUNTIF(BP3,$I$504)+COUNTIF(BP3,$I$515)+COUNTIF(BP3,$I$526)+COUNTIF(BP3,$I$537) -> 0 | CF3: =IF(#REF!>0,#REF!,"") -> #REF! | CG3: =COUNTIF(CF3,$K$3)+COUNTIF(CF3,$K$14)+COUNTIF(CF3,$K$25)+COUNTIF(CF3,$K$36)+COUNTIF(CF3,$K$47)+COUNTIF(CF3,$K$58)+COUNTIF(CF3,$K$69)+COUNTIF(CF3,$K$80)+COUNTIF(CF3,$K$91)+COUNTIF(CF3,$K$102)+COUNTIF(CF3,$K$113)+COUNTIF(CF3,$K$124)+COUNTIF(CF3,$K$135)+COUNTIF(CF3,$K$146)+COUNTIF(CF3,$K$157)+COUNTIF(CF3,$K$168)+COUNTIF(CF3,$K$179)+COUNTIF(CF3,$K$190)+COUNTIF(CF3,$K$201)+COUNTIF(CF3,$K$212)+COUNTIF(CF3,$K$223)+COUNTIF(CF3,$K$234)+COUNTIF(CF3,$K$245)+COUNTIF(CF3,$K$256)+COUNTIF(CF3,$K$267)+COUNTIF(CF3,$K$278)+COUNTIF(CF3,$K$289)+COUNTIF(CF3,$K$300)+COUNTIF(CF3,$K$311)+COUNTIF(CF3,$K$322)+COUNTIF(CF3,$K$444)+COUNTIF(CF3,$K$455)+COUNTIF(CF3,$K$466)+COUNTIF(CF3,$K$477) -> 0 | CH3: =COUNTIF(CF3,$K$4)+COUNTIF(CF3,$K$15)+COUNTIF(CF3,$K$26)+COUNTIF(CF3,$K$37)+COUNTIF(CF3,$K$48)+COUNTIF(CF3,$K$59)+COUNTIF(CF3,$K$70)+COUNTIF(CF3,$K$81)+COUNTIF(CF3,$K$92)+COUNTIF(CF3,$K$103)+COUNTIF(CF3,$K$114)+COUNTIF(CF3,$K$125)+COUNTIF(CF3,$K$136)+COUNTIF(CF3,$K$147)+COUNTIF(CF3,$K$158)+COUNTIF(CF3,$K$169)+COUNTIF(CF3,$K$180)+COUNTIF(CF3,$K$191)+COUNTIF(CF3,$K$202)+COUNTIF(CF3,$K$213)+COUNTIF(CF3,$K$224)+COUNTIF(CF3,$K$235)+COUNTIF(CF3,$K$246)+COUNTIF(CF3,$K$257)+COUNTIF(CF3,$K$268)+COUNTIF(CF3,$K$279)+COUNTIF(CF3,$K$290)+COUNTIF(CF3,$K$301)+COUNTIF(CF3,$K$312)+COUNTIF(CF3,$K$323)+COUNTIF(CF3,$K$445)+COUNTIF(CF3,$K$456)+COUNTIF(CF3,$K$467)+COUNTIF(CF3,$K$478) -> 0 | CI3: =COUNTIF(CF3,$K$5)+COUNTIF(CF3,$K$16)+COUNTIF(CF3,$K$27)+COUNTIF(CF3,$K$38)+COUNTIF(CF3,$K$49)+COUNTIF(CF3,$K$60)+COUNTIF(CF3,$K$71)+COUNTIF(CF3,$K$82)+COUNTIF(CF3,$K$93)+COUNTIF(CF3,$K$104)+COUNTIF(CF3,$K$115)+COUNTIF(CF3,$K$126)+COUNTIF(CF3,$K$137)+COUNTIF(CF3,$K$148)+COUNTIF(CF3,$K$159)+COUNTIF(CF3,$K$170)+COUNTIF(CF3,$K$181)+COUNTIF(CF3,$K$192)+COUNTIF(CF3,$K$203)+COUNTIF(CF3,$K$214)+COUNTIF(CF3,$K$225)+COUNTIF(CF3,$K$236)+COUNTIF(CF3,$K$247)+COUNTIF(CF3,$K$258)+COUNTIF(CF3,$K$269)+COUNTIF(CF3,$K$280)+COUNTIF(CF3,$K$291)+COUNTIF(CF3,$K$302)+COUNTIF(CF3,$K$313)+COUNTIF(CF3,$K$324)+COUNTIF(CF3,$K$446)+COUNTIF(CF3,$K$457)+COUNTIF(CF3,$K$468)+COUNTIF(CF3,$K$479) -> 0 | CJ3: =COUNTIF(CF3,$K$6)+COUNTIF(CF3,$K$17)+COUNTIF(CF3,$K$28)+COUNTIF(CF3,$K$39)+COUNTIF(CF3,$K$50)+COUNTIF(CF3,$K$61)+COUNTIF(CF3,$K$72)+COUNTIF(CF3,$K$83)+COUNTIF(CF3,$K$94)+COUNTIF(CF3,$K$105)+COUNTIF(CF3,$K$116)+COUNTIF(CF3,$K$127)+COUNTIF(CF3,$K$138)+COUNTIF(CF3,$K$149)+COUNTIF(CF3,$K$160)+COUNTIF(CF3,$K$171)+COUNTIF(CF3,$K$182)+COUNTIF(CF3,$K$193)+COUNTIF(CF3,$K$204)+COUNTIF(CF3,$K$215)+COUNTIF(CF3,$K$226)+COUNTIF(CF3,$K$237)+COUNTIF(CF3,$K$248)+COUNTIF(CF3,$K$259)+COUNTIF(CF3,$K$270)+COUNTIF(CF3,$K$281)+COUNTIF(CF3,$K$292)+COUNTIF(CF3,$K$303)+COUNTIF(CF3,$K$314)+COUNTIF(CF3,$K$325)+COUNTIF(CF3,$K$447)+COUNTIF(CF3,$K$458)+COUNTIF(CF3,$K$469)+COUNTIF(CF3,$K$480) -> 0 | CK3: =COUNTIF(CF3,$K$7)+COUNTIF(CF3,$K$18)+COUNTIF(CF3,$K$29)+COUNTIF(CF3,$K$40)+COUNTIF(CF3,$K$51)+COUNTIF(CF3,$K$62)+COUNTIF(CF3,$K$73)+COUNTIF(CF3,$K$84)+COUNTIF(CF3,$K$95)+COUNTIF(CF3,$K$106)+COUNTIF(CF3,$K$117)+COUNTIF(CF3,$K$128)+COUNTIF(CF3,$K$139)+COUNTIF(CF3,$K$150)+COUNTIF(CF3,$K$161)+COUNTIF(CF3,$K$172)+COUNTIF(CF3,$K$183)+COUNTIF(CF3,$K$194)+COUNTIF(CF3,$K$205)+COUNTIF(CF3,$K$216)+COUNTIF(CF3,$K$227)+COUNTIF(CF3,$K$238)+COUNTIF(CF3,$K$249)+COUNTIF(CF3,$K$260)+COUNTIF(CF3,$K$271)+COUNTIF(CF3,$K$282)+COUNTIF(CF3,$K$293)+COUNTIF(CF3,$K$304)+COUNTIF(CF3,$K$315)+COUNTIF(CF3,$K$326)+COUNTIF(CF3,$K$448)+COUNTIF(CF3,$K$459)+COUNTIF(CF3,$K$470)+COUNTIF(CF3,$K$481) -> 0 | CL3: =COUNTIF(CF3,$K$8)+COUNTIF(CF3,$K$19)+COUNTIF(CF3,$K$30)+COUNTIF(CF3,$K$41)+COUNTIF(CF3,$K$52)+COUNTIF(CF3,$K$63)+COUNTIF(CF3,$K$74)+COUNTIF(CF3,$K$85)+COUNTIF(CF3,$K$96)+COUNTIF(CF3,$K$107)+COUNTIF(CF3,$K$118)+COUNTIF(CF3,$K$129)+COUNTIF(CF3,$K$140)+COUNTIF(CF3,$K$151)+COUNTIF(CF3,$K$162)+COUNTIF(CF3,$K$173)+COUNTIF(CF3,$K$184)+COUNTIF(CF3,$K$195)+COUNTIF(CF3,$K$206)+COUNTIF(CF3,$K$217)+COUNTIF(CF3,$K$228)+COUNTIF(CF3,$K$239)+COUNTIF(CF3,$K$250)+COUNTIF(CF3,$K$261)+COUNTIF(CF3,$K$272)+COUNTIF(CF3,$K$283)+COUNTIF(CF3,$K$294)+COUNTIF(CF3,$K$305)+COUNTIF(CF3,$K$316)+COUNTIF(CF3,$K$327)+COUNTIF(CF3,$K$449)+COUNTIF(CF3,$K$460)+COUNTIF(CF3,$K$471)+COUNTIF(CF3,$K$482) -> 0 | CM3: =COUNTIF(CF3,$K$9)+COUNTIF(CF3,$K$20)+COUNTIF(CF3,$K$31)+COUNTIF(CF3,$K$42)+COUNTIF(CF3,$K$53)+COUNTIF(CF3,$K$64)+COUNTIF(CF3,$K$75)+COUNTIF(CF3,$K$86)+COUNTIF(CF3,$K$97)+COUNTIF(CF3,$K$108)+COUNTIF(CF3,$K$119)+COUNTIF(CF3,$K$130)+COUNTIF(CF3,$K$141)+COUNTIF(CF3,$K$152)+COUNTIF(CF3,$K$163)+COUNTIF(CF3,$K$174)+ COUNTIF(CF3,$K$185)+COUNTIF(CF3,$K$196)+COUNTIF(CF3,$K$207)+COUNTIF(CF3,$K$218)+COUNTIF(CF3,$K$229)+COUNTIF(CF3,$K$240)+COUNTIF(CF3,$K$251)+COUNTIF(CF3,$K$262)+COUNTIF(CF3,$K$273)+COUNTIF(CF3,$K$284)+COUNTIF(CF3,$K$295)+COUNTIF(CF3,$K$306)+COUNTIF(CF3,$K$317)+COUNTIF(CF3,$K$328)+COUNTIF(CF3,$K$450)+COUNTIF(CF3,$K$461)+COUNTIF(CF3,$K$472)+COUNTIF(CF3,$K$483) -> 0 | CN3: =COUNTIF(CF3,$K$10)+COUNTIF(CF3,$K$21)+COUNTIF(CF3,$K$32)+COUNTIF(CF3,$K$43)+COUNTIF(CF3,$K$54)+COUNTIF(CF3,$K$65)+COUNTIF(CF3,$K$76)+COUNTIF(CF3,$K$87)+ COUNTIF(CF3,$K$98)+COUNTIF(CF3,$K$109)+COUNTIF(CF3,$K$120)+COUNTIF(CF3,$K$131)+COUNTIF(CF3,$K$142)+COUNTIF(CF3,$K$153)+COUNTIF(CF3,$K$164)+COUNTIF(CF3,$K$175)+ COUNTIF(CF3,$K$186)+COUNTIF(CF3,$K$197)+COUNTIF(CF3,$K$208)+COUNTIF(CF3,$K$219)+COUNTIF(CF3,$K$230)+COUNTIF(CF3,$K$241)+COUNTIF(CF3,$K$252)+COUNTIF(CF3,$K$263)+COUNTIF(CF3,$K$274)+COUNTIF(CF3,$K$285)+COUNTIF(CF3,$K$296)+COUNTIF(CF3,$K$307)+COUNTIF(CF3,$K$318)+COUNTIF(CF3,$K$329)+COUNTIF(CF3,$K$451)+COUNTIF(CF3,$K$462)+COUNTIF(CF3,$K$473)+COUNTIF(CF3,$K$484) -> 0 | CO3: =COUNTIF(CF3,$K$334)+COUNTIF(CF3,$K$345)+COUNTIF(CF3,$K$356)+COUNTIF(CF3,$K$367)+COUNTIF(CF3,$K$378)+COUNTIF(CF3,$K$389)+COUNTIF(CF3,$K$400)+COUNTIF(CF3,$K$411)+COUNTIF(CF3,$K$422)+COUNTIF(CF3,$K$433)+COUNTIF(CF3,$K$477)+COUNTIF(CF3,$K$488)+COUNTIF(CF3,$K$499)+COUNTIF(CF3,$K$510)+COUNTIF(CF3,$K$521)+COUNTIF(CF3,$K$532) -> 0 | CP3: =COUNTIF(CF3,$K$335)+COUNTIF(CF3,$K$346)+COUNTIF(CF3,$K$357)+COUNTIF(CF3,$K$368)+COUNTIF(CF3,$K$379)+COUNTIF(CF3,$K$390)+COUNTIF(CF3,$K$401)+COUNTIF(CF3,$K$412)+COUNTIF(CF3,$K$423)+COUNTIF(CF3,$K$434)+COUNTIF(CF3,$K$478)+COUNTIF(CF3,$K$489)+COUNTIF(CF3,$K$500)+COUNTIF(CF3,$K$511)+COUNTIF(CF3,$K$522)+COUNTIF(CF3,$K$533) -> 0 | CQ3: =COUNTIF(CF3,$K$336)+COUNTIF(CF3,$K$347)+COUNTIF(CF3,$K$358)+COUNTIF(CF3,$K$369)+COUNTIF(CF3,$K$380)+COUNTIF(CF3,$K$391)+COUNTIF(CF3,$K$402)+COUNTIF(CF3,$K$413)+COUNTIF(CF3,$K$424)+COUNTIF(CF3,$K$435)+COUNTIF(CF3,$K$479)+COUNTIF(CF3,$K$490)+COUNTIF(CF3,$K$501)+COUNTIF(CF3,$K$512)+COUNTIF(CF3,$K$523)+COUNTIF(CF3,$K$534) -> 0 | CR3: =COUNTIF(CF3,$K$337)+COUNTIF(CF3,$K$348)+COUNTIF(CF3,$K$359)+COUNTIF(CF3,$K$370)+COUNTIF(CF3,$K$381)+COUNTIF(CF3,$K$392)+COUNTIF(CF3,$K$403)+COUNTIF(CF3,$K$414)+COUNTIF(CF3,$K$425)+COUNTIF(CF3,$K$436)+COUNTIF(CF3,$K$480)+COUNTIF(CF3,$K$491)+COUNTIF(CF3,$K$502)+COUNTIF(CF3,$K$513)+COUNTIF(CF3,$K$524)+COUNTIF(CF3,$K$535) -> 0 | CS3: =COUNTIF(CF3,$K$338)+COUNTIF(CF3,$K$349)+COUNTIF(CF3,$K$360)+COUNTIF(CF3,$K$371)+COUNTIF(CF3,$K$382)+COUNTIF(CF3,$K$393)+COUNTIF(CF3,$K$404)+COUNTIF(CF3,$K$415)+COUNTIF(CF3,$K$426)+COUNTIF(CF3,$K$437)+COUNTIF(CF3,$K$481)+COUNTIF(CF3,$K$492)+COUNTIF(CF3,$K$503)+COUNTIF(CF3,$K$514)+COUNTIF(CF3,$K$525)+COUNTIF(CF3,$K$536) -> 0 | CT3: =COUNTIF(CF3,$K$339)+COUNTIF(CF3,$K$350)+COUNTIF(CF3,$K$361)+COUNTIF(CF3,$K$372)+COUNTIF(CF3,$K$383)+COUNTIF(CF3,$K$394)+COUNTIF(CF3,$K$405)+COUNTIF(CF3,$K$416)+COUNTIF(CF3,$K$427)+COUNTIF(CF3,$K$438)+COUNTIF(CF3,$K$482)+COUNTIF(CF3,$K$493)+COUNTIF(CF3,$K$504)+COUNTIF(CF3,$K$515)+COUNTIF(CF3,$K$526)+COUNTIF(CF3,$K$537) -> 0 | CV3: =IF(#REF!>0,#REF!,"") -> #REF! | CW3: =U3+AK3+BA3+BQ3+CG3 -> 0 | CX3: =V3+AL3+BB3+BR3+CH3 -> 0 | CY3: =W3+AM3+BC3+BS3+CI3 -> 0 | CZ3: =X3+AN3+BD3+BT3+CJ3 -> 0 | DA3: =Y3+AO3+BE3+BU3+CK3 -> 0 | DB3: =Z3+AP3+BF3+BV3+CL3 -> 0 | DC3: =AA3+AQ3+BG3+BW3+CM3 -> 0 | DD3: =AB3+AR3+BH3+BX3+CN3 -> 0 | ... DJ3: =AH3+AX3+BN3+CD3+CT3 -> 0 | DL3: Pazartesi | DM3: =IFERROR(VLOOKUP(C3,$T$3:$AH$60,2,0),0) -> 0 | DN3: =IFERROR(VLOOKUP(C4,$T$3:$AH$60,3,0),0) -> 0 | DO3: =IFERROR(VLOOKUP(C5,$T$3:$AH$60,4,0),0) -> 0 | DP3: =IFERROR(VLOOKUP(C6,$T$3:$AH$60,5,0),0) -> 0 | DQ3: =IFERROR(VLOOKUP(C7,$T$3:$AH$60,6,0),0) -> 0 | DR3: =IFERROR(VLOOKUP(C8,$T$3:$AH$60,7,0),0) -> 0 | DS3: =IFERROR(VLOOKUP(C9,$T$3:$AH$60,8,0),0) -> 0 | DT3: =IFERROR(VLOOKUP(C10,$T$3:$AH$60,9,0),0) -> 0
A4: 09.00 | M4: =A4 -> 09.00 | N4: =IF(DN3=0,"BOŞ",IF(DN3=1,"DERS",IF(DN3>1,"ÇAKIŞMA"))) -> BOŞ | O4: =IF(DN4=0,"BOŞ",IF(DN4=1,"DERS",IF(DN4>1,"ÇAKIŞMA"))) -> BOŞ | P4: =IF(DN5=0,"BOŞ",IF(DN5=1,"DERS",IF(DN5>1,"ÇAKIŞMA"))) -> BOŞ | Q4: =IF(DN6=0,"BOŞ",IF(DN6=1,"DERS",IF(DN6>1,"ÇAKIŞMA"))) -> BOŞ | R4: =IF(DN7=0,"BOŞ",IF(DN7=1,"DERS",IF(DN7>1,"ÇAKIŞMA"))) -> BOŞ | T4: =IF(#REF!>0,#REF!,"") -> #REF! | U4: =COUNTIF(T4,$C$3)+COUNTIF(T4,$C$14)+COUNTIF(T4,$C$25)+COUNTIF(T4,$C$36)+COUNTIF(T4,$C$47)+COUNTIF(T4,$C$58)+COUNTIF(T4,$C$69)+COUNTIF(T4,$C$80)+COUNTIF(T4,$C$91)+COUNTIF(T4,$C$102)+COUNTIF(T4,$C$113)+COUNTIF(T4,$C$124)+COUNTIF(T4,$C$135)+COUNTIF(T4,$C$146)+COUNTIF(T4,$C$157)+COUNTIF(T4,$C$168)+COUNTIF(T4,$C$179)+COUNTIF(T4,$C$190)+COUNTIF(T4,$C$201)+COUNTIF(T4,$C$212)+COUNTIF(T4,$C$223)+COUNTIF(T4,$C$234)+COUNTIF(T4,$C$245)+COUNTIF(T4,$C$256)+COUNTIF(T4,$C$267)+COUNTIF(T4,$C$278)+COUNTIF(T4,$C$289)+COUNTIF(T4,$C$300)+COUNTIF(T4,$C$311)+COUNTIF(T4,$C$322)+COUNTIF(T4,$C$444)+COUNTIF(T4,$C$455)+COUNTIF(T4,$C$466)+COUNTIF(T4,$C$477) -> 0 | V4: =COUNTIF(T4,$C$4)+COUNTIF(T4,$C$15)+COUNTIF(T4,$C$26)+COUNTIF(T4,$C$37)+COUNTIF(T4,$C$48)+COUNTIF(T4,$C$59)+COUNTIF(T4,$C$70)+COUNTIF(T4,$C$81)+COUNTIF(T4,$C$92)+COUNTIF(T4,$C$103)+COUNTIF(T4,$C$114)+COUNTIF(T4,$C$125)+COUNTIF(T4,$C$136)+COUNTIF(T4,$C$147)+COUNTIF(T4,$C$158)+COUNTIF(T4,$C$169)+COUNTIF(T4,$C$180)+COUNTIF(T4,$C$191)+COUNTIF(T4,$C$202)+COUNTIF(T4,$C$213)+COUNTIF(T4,$C$224)+COUNTIF(T4,$C$235)+COUNTIF(T4,$C$246)+COUNTIF(T4,$C$257)+COUNTIF(T4,$C$268)+COUNTIF(T4,$C$279)+COUNTIF(T4,$C$290)+COUNTIF(T4,$C$301)+COUNTIF(T4,$C$312)+COUNTIF(T4,$C$323)+COUNTIF(T4,$C$445)+COUNTIF(T4,$C$456)+COUNTIF(T4,$C$467)+COUNTIF(T4,$C$478) -> 0 | W4: =COUNTIF(T4,$C$5)+COUNTIF(T4,$C$16)+COUNTIF(T4,$C$27)+COUNTIF(T4,$C$38)+COUNTIF(T4,$C$49)+COUNTIF(T4,$C$60)+COUNTIF(T4,$C$71)+COUNTIF(T4,$C$82)+COUNTIF(T4,$C$93)+COUNTIF(T4,$C$104)+COUNTIF(T4,$C$115)+COUNTIF(T4,$C$126)+COUNTIF(T4,$C$137)+COUNTIF(T4,$C$148)+COUNTIF(T4,$C$159)+COUNTIF(T4,$C$170)+COUNTIF(T4,$C$181)+COUNTIF(T4,$C$192)+COUNTIF(T4,$C$203)+COUNTIF(T4,$C$214)+COUNTIF(T4,$C$225)+COUNTIF(T4,$C$236)+COUNTIF(T4,$C$247)+COUNTIF(T4,$C$258)+COUNTIF(T4,$C$269)+COUNTIF(T4,$C$280)+COUNTIF(T4,$C$291)+COUNTIF(T4,$C$302)+COUNTIF(T4,$C$313)+COUNTIF(T4,$C$324)+COUNTIF(T4,$C$446)+COUNTIF(T4,$C$457)+COUNTIF(T4,$C$468)+COUNTIF(T4,$C$479) -> 0 | X4: =COUNTIF(T4,$C$6)+COUNTIF(T4,$C$17)+COUNTIF(T4,$C$28)+COUNTIF(T4,$C$39)+COUNTIF(T4,$C$50)+COUNTIF(T4,$C$61)+COUNTIF(T4,$C$72)+COUNTIF(T4,$C$83)+COUNTIF(T4,$C$94)+COUNTIF(T4,$C$105)+COUNTIF(T4,$C$116)+COUNTIF(T4,$C$127)+COUNTIF(T4,$C$138)+COUNTIF(T4,$C$149)+COUNTIF(T4,$C$160)+COUNTIF(T4,$C$171)+COUNTIF(T4,$C$182)+COUNTIF(T4,$C$193)+COUNTIF(T4,$C$204)+COUNTIF(T4,$C$215)+COUNTIF(T4,$C$226)+COUNTIF(T4,$C$237)+COUNTIF(T4,$C$248)+COUNTIF(T4,$C$259)+COUNTIF(T4,$C$270)+COUNTIF(T4,$C$281)+COUNTIF(T4,$C$292)+COUNTIF(T4,$C$303)+COUNTIF(T4,$C$314)+COUNTIF(T4,$C$325)+COUNTIF(T4,$C$447)+COUNTIF(T4,$C$458)+COUNTIF(T4,$C$469)+COUNTIF(T4,$C$480) -> 0 | Y4: =COUNTIF(T4,$C$7)+COUNTIF(T4,$C$18)+COUNTIF(T4,$C$29)+COUNTIF(T4,$C$40)+COUNTIF(T4,$C$51)+COUNTIF(T4,$C$62)+COUNTIF(T4,$C$73)+COUNTIF(T4,$C$84)+COUNTIF(T4,$C$95)+COUNTIF(T4,$C$106)+COUNTIF(T4,$C$117)+COUNTIF(T4,$C$128)+COUNTIF(T4,$C$139)+COUNTIF(T4,$C$150)+COUNTIF(T4,$C$161)+COUNTIF(T4,$C$172)+COUNTIF(T4,$C$183)+COUNTIF(T4,$C$194)+COUNTIF(T4,$C$205)+COUNTIF(T4,$C$216)+COUNTIF(T4,$C$227)+COUNTIF(T4,$C$238)+COUNTIF(T4,$C$249)+COUNTIF(T4,$C$260)+COUNTIF(T4,$C$271)+COUNTIF(T4,$C$282)+COUNTIF(T4,$C$293)+COUNTIF(T4,$C$304)+COUNTIF(T4,$C$315)+COUNTIF(T4,$C$326)+COUNTIF(T4,$C$448)+COUNTIF(T4,$C$459)+COUNTIF(T4,$C$470)+COUNTIF(T4,$C$481) -> 0 | Z4: =COUNTIF(T4,$C$8)+COUNTIF(T4,$C$19)+COUNTIF(T4,$C$30)+COUNTIF(T4,$C$41)+COUNTIF(T4,$C$52)+COUNTIF(T4,$C$63)+COUNTIF(T4,$C$74)+COUNTIF(T4,$C$85)+COUNTIF(T4,$C$96)+COUNTIF(T4,$C$107)+COUNTIF(T4,$C$118)+COUNTIF(T4,$C$129)+COUNTIF(T4,$C$140)+COUNTIF(T4,$C$151)+COUNTIF(T4,$C$162)+COUNTIF(T4,$C$173)+COUNTIF(T4,$C$184)+COUNTIF(T4,$C$195)+COUNTIF(T4,$C$206)+COUNTIF(T4,$C$217)+COUNTIF(T4,$C$228)+COUNTIF(T4,$C$239)+COUNTIF(T4,$C$250)+COUNTIF(T4,$C$261)+COUNTIF(T4,$C$272)+COUNTIF(T4,$C$283)+COUNTIF(T4,$C$294)+COUNTIF(T4,$C$305)+COUNTIF(T4,$C$316)+COUNTIF(T4,$C$327)+COUNTIF(T4,$C$449)+COUNTIF(T4,$C$460)+COUNTIF(T4,$C$471)+COUNTIF(T4,$C$482) -> 0 | AA4: =COUNTIF(T4,$C$9)+COUNTIF(T4,$C$20)+COUNTIF(T4,$C$31)+COUNTIF(T4,$C$42)+COUNTIF(T4,$C$53)+COUNTIF(T4,$C$64)+COUNTIF(T4,$C$75)+COUNTIF(T4,$C$86)+COUNTIF(T4,$C$97)+COUNTIF(T4,$C$108)+COUNTIF(T4,$C$119)+COUNTIF(T4,$C$130)+COUNTIF(T4,$C$141)+COUNTIF(T4,$C$152)+COUNTIF(T4,$C$163)+COUNTIF(T4,$C$174)+ COUNTIF(T4,$C$185)+COUNTIF(T4,$C$196)+COUNTIF(T4,$C$207)+COUNTIF(T4,$C$218)+COUNTIF(T4,$C$229)+COUNTIF(T4,$C$240)+COUNTIF(T4,$C$251)+COUNTIF(T4,$C$262)+COUNTIF(T4,$C$273)+COUNTIF(T4,$C$284)+COUNTIF(T4,$C$295)+COUNTIF(T4,$C$306)+COUNTIF(T4,$C$317)+COUNTIF(T4,$C$328)+COUNTIF(T4,$C$450)+COUNTIF(T4,$C$461)+COUNTIF(T4,$C$472)+COUNTIF(T4,$C$483) -> 0 | AB4: =COUNTIF(T4,$C$10)+COUNTIF(T4,$C$21)+COUNTIF(T4,$C$32)+COUNTIF(T4,$C$43)+COUNTIF(T4,$C$54)+COUNTIF(T4,$C$65)+COUNTIF(T4,$C$76)+COUNTIF(T4,$C$87)+ COUNTIF(T4,$C$98)+COUNTIF(T4,$C$109)+COUNTIF(T4,$C$120)+COUNTIF(T4,$C$131)+COUNTIF(T4,$C$142)+COUNTIF(T4,$C$153)+COUNTIF(T4,$C$164)+COUNTIF(T4,$C$175)+ COUNTIF(T4,$C$186)+COUNTIF(T4,$C$197)+COUNTIF(T4,$C$208)+COUNTIF(T4,$C$219)+COUNTIF(T4,$C$230)+COUNTIF(T4,$C$241)+COUNTIF(T4,$C$252)+COUNTIF(T4,$C$263)+COUNTIF(T4,$C$274)+COUNTIF(T4,$C$285)+COUNTIF(T4,$C$296)+COUNTIF(T4,$C$307)+COUNTIF(T4,$C$318)+COUNTIF(T4,$C$329)+COUNTIF(T4,$C$451)+COUNTIF(T4,$C$462)+COUNTIF(T4,$C$473)+COUNTIF(T4,$C$484) -> 0 | AC4: =COUNTIF(T4,$C$334)+COUNTIF(T4,$C$345)+COUNTIF(T4,$C$356)+COUNTIF(T4,$C$367)+COUNTIF(T4,$C$378)+COUNTIF(T4,$C$389)+COUNTIF(T4,$C$400)+COUNTIF(T4,$C$411)+COUNTIF(T4,$C$422)+COUNTIF(T4,$C$433)+COUNTIF(T4,$C$477)+COUNTIF(T4,$C$488)+COUNTIF(T4,$C$499)+COUNTIF(T4,$C$510)+COUNTIF(T4,$C$521)+COUNTIF(T4,$C$532) -> 0 | AD4: =COUNTIF(T4,$C$335)+COUNTIF(T4,$C$346)+COUNTIF(T4,$C$357)+COUNTIF(T4,$C$368)+COUNTIF(T4,$C$379)+COUNTIF(T4,$C$390)+COUNTIF(T4,$C$401)+COUNTIF(T4,$C$412)+COUNTIF(T4,$C$423)+COUNTIF(T4,$C$434)+COUNTIF(T4,$C$478)+COUNTIF(T4,$C$489)+COUNTIF(T4,$C$500)+COUNTIF(T4,$C$511)+COUNTIF(T4,$C$522)+COUNTIF(T4,$C$533) -> 0 | AE4: =COUNTIF(T4,$C$336)+COUNTIF(T4,$C$347)+COUNTIF(T4,$C$358)+COUNTIF(T4,$C$369)+COUNTIF(T4,$C$380)+COUNTIF(T4,$C$391)+COUNTIF(T4,$C$402)+COUNTIF(T4,$C$413)+COUNTIF(T4,$C$424)+COUNTIF(T4,$C$435)+COUNTIF(T4,$C$479)+COUNTIF(T4,$C$490)+COUNTIF(T4,$C$501)+COUNTIF(T4,$C$512)+COUNTIF(T4,$C$523)+COUNTIF(T4,$C$534) -> 0 | AF4: =COUNTIF(T4,$C$337)+COUNTIF(T4,$C$348)+COUNTIF(T4,$C$359)+COUNTIF(T4,$C$370)+COUNTIF(T4,$C$381)+COUNTIF(T4,$C$392)+COUNTIF(T4,$C$403)+COUNTIF(T4,$C$414)+COUNTIF(T4,$C$425)+COUNTIF(T4,$C$436)+COUNTIF(T4,$C$480)+COUNTIF(T4,$C$491)+COUNTIF(T4,$C$502)+COUNTIF(T4,$C$513)+COUNTIF(T4,$C$524)+COUNTIF(T4,$C$535) -> 0 | AG4: =COUNTIF(T4,$C$338)+COUNTIF(T4,$C$349)+COUNTIF(T4,$C$360)+COUNTIF(T4,$C$371)+COUNTIF(T4,$C$382)+COUNTIF(T4,$C$393)+COUNTIF(T4,$C$404)+COUNTIF(T4,$C$415)+COUNTIF(T4,$C$426)+COUNTIF(T4,$C$437)+COUNTIF(T4,$C$481)+COUNTIF(T4,$C$492)+COUNTIF(T4,$C$503)+COUNTIF(T4,$C$514)+COUNTIF(T4,$C$525)+COUNTIF(T4,$C$536) -> 0 | AH4: =COUNTIF(T4,$C$339)+COUNTIF(T4,$C$350)+COUNTIF(T4,$C$361)+COUNTIF(T4,$C$372)+COUNTIF(T4,$C$383)+COUNTIF(T4,$C$394)+COUNTIF(T4,$C$405)+COUNTIF(T4,$C$416)+COUNTIF(T4,$C$427)+COUNTIF(T4,$C$438)+COUNTIF(T4,$C$482)+COUNTIF(T4,$C$493)+COUNTIF(T4,$C$504)+COUNTIF(T4,$C$515)+COUNTIF(T4,$C$526)+COUNTIF(T4,$C$537) -> 0 | AJ4: =IF(#REF!>0,#REF!,"") -> #REF! | AK4: =COUNTIF(AJ4,$E$3)+COUNTIF(AJ4,$E$14)+COUNTIF(AJ4,$E$25)+COUNTIF(AJ4,$E$36)+COUNTIF(AJ4,$E$47)+COUNTIF(AJ4,$E$58)+COUNTIF(AJ4,$E$69)+COUNTIF(AJ4,$E$80)+COUNTIF(AJ4,$E$91)+COUNTIF(AJ4,$E$102)+COUNTIF(AJ4,$E$113)+COUNTIF(AJ4,$E$124)+COUNTIF(AJ4,$E$135)+COUNTIF(AJ4,$E$146)+COUNTIF(AJ4,$E$157)+COUNTIF(AJ4,$E$168)+COUNTIF(AJ4,$E$179)+COUNTIF(AJ4,$E$190)+COUNTIF(AJ4,$E$201)+COUNTIF(AJ4,$E$212)+COUNTIF(AJ4,$E$223)+COUNTIF(AJ4,$E$234)+COUNTIF(AJ4,$E$245)+COUNTIF(AJ4,$E$256)+COUNTIF(AJ4,$E$267)+COUNTIF(AJ4,$E$278)+COUNTIF(AJ4,$E$289)+COUNTIF(AJ4,$E$300)+COUNTIF(AJ4,$E$311)+COUNTIF(AJ4,$E$322)+COUNTIF(AJ4,$E$444)+COUNTIF(AJ4,$E$455)+COUNTIF(AJ4,$E$466)+COUNTIF(AJ4,$E$477) -> 0 | AL4: =COUNTIF(AJ4,$E$4)+COUNTIF(AJ4,$E$15)+COUNTIF(AJ4,$E$26)+COUNTIF(AJ4,$E$37)+COUNTIF(AJ4,$E$48)+COUNTIF(AJ4,$E$59)+COUNTIF(AJ4,$E$70)+COUNTIF(AJ4,$E$81)+COUNTIF(AJ4,$E$92)+COUNTIF(AJ4,$E$103)+COUNTIF(AJ4,$E$114)+COUNTIF(AJ4,$E$125)+COUNTIF(AJ4,$E$136)+COUNTIF(AJ4,$E$147)+COUNTIF(AJ4,$E$158)+COUNTIF(AJ4,$E$169)+COUNTIF(AJ4,$E$180)+COUNTIF(AJ4,$E$191)+COUNTIF(AJ4,$E$202)+COUNTIF(AJ4,$E$213)+COUNTIF(AJ4,$E$224)+COUNTIF(AJ4,$E$235)+COUNTIF(AJ4,$E$246)+COUNTIF(AJ4,$E$257)+COUNTIF(AJ4,$E$268)+COUNTIF(AJ4,$E$279)+COUNTIF(AJ4,$E$290)+COUNTIF(AJ4,$E$301)+COUNTIF(AJ4,$E$312)+COUNTIF(AJ4,$E$323)+COUNTIF(AJ4,$E$445)+COUNTIF(AJ4,$E$456)+COUNTIF(AJ4,$E$467)+COUNTIF(AJ4,$E$478) -> 0 | AM4: =COUNTIF(AJ4,$E$5)+COUNTIF(AJ4,$E$16)+COUNTIF(AJ4,$E$27)+COUNTIF(AJ4,$E$38)+COUNTIF(AJ4,$E$49)+COUNTIF(AJ4,$E$60)+COUNTIF(AJ4,$E$71)+COUNTIF(AJ4,$E$82)+COUNTIF(AJ4,$E$93)+COUNTIF(AJ4,$E$104)+COUNTIF(AJ4,$E$115)+COUNTIF(AJ4,$E$126)+COUNTIF(AJ4,$E$137)+COUNTIF(AJ4,$E$148)+COUNTIF(AJ4,$E$159)+COUNTIF(AJ4,$E$170)+COUNTIF(AJ4,$E$181)+COUNTIF(AJ4,$E$192)+COUNTIF(AJ4,$E$203)+COUNTIF(AJ4,$E$214)+COUNTIF(AJ4,$E$225)+COUNTIF(AJ4,$E$236)+COUNTIF(AJ4,$E$247)+COUNTIF(AJ4,$E$258)+COUNTIF(AJ4,$E$269)+COUNTIF(AJ4,$E$280)+COUNTIF(AJ4,$E$291)+COUNTIF(AJ4,$E$302)+COUNTIF(AJ4,$E$313)+COUNTIF(AJ4,$E$324)+COUNTIF(AJ4,$E$446)+COUNTIF(AJ4,$E$457)+COUNTIF(AJ4,$E$468)+COUNTIF(AJ4,$E$479) -> 0 | AN4: =COUNTIF(AJ4,$E$6)+COUNTIF(AJ4,$E$17)+COUNTIF(AJ4,$E$28)+COUNTIF(AJ4,$E$39)+COUNTIF(AJ4,$E$50)+COUNTIF(AJ4,$E$61)+COUNTIF(AJ4,$E$72)+COUNTIF(AJ4,$E$83)+COUNTIF(AJ4,$E$94)+COUNTIF(AJ4,$E$105)+COUNTIF(AJ4,$E$116)+COUNTIF(AJ4,$E$127)+COUNTIF(AJ4,$E$138)+COUNTIF(AJ4,$E$149)+COUNTIF(AJ4,$E$160)+COUNTIF(AJ4,$E$171)+COUNTIF(AJ4,$E$182)+COUNTIF(AJ4,$E$193)+COUNTIF(AJ4,$E$204)+COUNTIF(AJ4,$E$215)+COUNTIF(AJ4,$E$226)+COUNTIF(AJ4,$E$237)+COUNTIF(AJ4,$E$248)+COUNTIF(AJ4,$E$259)+COUNTIF(AJ4,$E$270)+COUNTIF(AJ4,$E$281)+COUNTIF(AJ4,$E$292)+COUNTIF(AJ4,$E$303)+COUNTIF(AJ4,$E$314)+COUNTIF(AJ4,$E$325)+COUNTIF(AJ4,$E$447)+COUNTIF(AJ4,$E$458)+COUNTIF(AJ4,$E$469)+COUNTIF(AJ4,$E$480) -> 0 | AO4: =COUNTIF(AJ4,$E$7)+COUNTIF(AJ4,$E$18)+COUNTIF(AJ4,$E$29)+COUNTIF(AJ4,$E$40)+COUNTIF(AJ4,$E$51)+COUNTIF(AJ4,$E$62)+COUNTIF(AJ4,$E$73)+COUNTIF(AJ4,$E$84)+COUNTIF(AJ4,$E$95)+COUNTIF(AJ4,$E$106)+COUNTIF(AJ4,$E$117)+COUNTIF(AJ4,$E$128)+COUNTIF(AJ4,$E$139)+COUNTIF(AJ4,$E$150)+COUNTIF(AJ4,$E$161)+COUNTIF(AJ4,$E$172)+COUNTIF(AJ4,$E$183)+COUNTIF(AJ4,$E$194)+COUNTIF(AJ4,$E$205)+COUNTIF(AJ4,$E$216)+COUNTIF(AJ4,$E$227)+COUNTIF(AJ4,$E$238)+COUNTIF(AJ4,$E$249)+COUNTIF(AJ4,$E$260)+COUNTIF(AJ4,$E$271)+COUNTIF(AJ4,$E$282)+COUNTIF(AJ4,$E$293)+COUNTIF(AJ4,$E$304)+COUNTIF(AJ4,$E$315)+COUNTIF(AJ4,$E$326)+COUNTIF(AJ4,$E$448)+COUNTIF(AJ4,$E$459)+COUNTIF(AJ4,$E$470)+COUNTIF(AJ4,$E$481) -> 0 | AP4: =COUNTIF(AJ4,$E$8)+COUNTIF(AJ4,$E$19)+COUNTIF(AJ4,$E$30)+COUNTIF(AJ4,$E$41)+COUNTIF(AJ4,$E$52)+COUNTIF(AJ4,$E$63)+COUNTIF(AJ4,$E$74)+COUNTIF(AJ4,$E$85)+COUNTIF(AJ4,$E$96)+COUNTIF(AJ4,$E$107)+COUNTIF(AJ4,$E$118)+COUNTIF(AJ4,$E$129)+COUNTIF(AJ4,$E$140)+COUNTIF(AJ4,$E$151)+COUNTIF(AJ4,$E$162)+COUNTIF(AJ4,$E$173)+COUNTIF(AJ4,$E$184)+COUNTIF(AJ4,$E$195)+COUNTIF(AJ4,$E$206)+COUNTIF(AJ4,$E$217)+COUNTIF(AJ4,$E$228)+COUNTIF(AJ4,$E$239)+COUNTIF(AJ4,$E$250)+COUNTIF(AJ4,$E$261)+COUNTIF(AJ4,$E$272)+COUNTIF(AJ4,$E$283)+COUNTIF(AJ4,$E$294)+COUNTIF(AJ4,$E$305)+COUNTIF(AJ4,$E$316)+COUNTIF(AJ4,$E$327)+COUNTIF(AJ4,$E$449)+COUNTIF(AJ4,$E$460)+COUNTIF(AJ4,$E$471)+COUNTIF(AJ4,$E$482) -> 0 | AQ4: =COUNTIF(AJ4,$E$9)+COUNTIF(AJ4,$E$20)+COUNTIF(AJ4,$E$31)+COUNTIF(AJ4,$E$42)+COUNTIF(AJ4,$E$53)+COUNTIF(AJ4,$E$64)+COUNTIF(AJ4,$E$75)+COUNTIF(AJ4,$E$86)+COUNTIF(AJ4,$E$97)+COUNTIF(AJ4,$E$108)+COUNTIF(AJ4,$E$119)+COUNTIF(AJ4,$E$130)+COUNTIF(AJ4,$E$141)+COUNTIF(AJ4,$E$152)+COUNTIF(AJ4,$E$163)+COUNTIF(AJ4,$E$174)+ COUNTIF(AJ4,$E$185)+COUNTIF(AJ4,$E$196)+COUNTIF(AJ4,$E$207)+COUNTIF(AJ4,$E$218)+COUNTIF(AJ4,$E$229)+COUNTIF(AJ4,$E$240)+COUNTIF(AJ4,$E$251)+COUNTIF(AJ4,$E$262)+COUNTIF(AJ4,$E$273)+COUNTIF(AJ4,$E$284)+COUNTIF(AJ4,$E$295)+COUNTIF(AJ4,$E$306)+COUNTIF(AJ4,$E$317)+COUNTIF(AJ4,$E$328)+COUNTIF(AJ4,$E$450)+COUNTIF(AJ4,$E$461)+COUNTIF(AJ4,$E$472)+COUNTIF(AJ4,$E$483) -> 0 | AR4: =COUNTIF(AJ4,$E$10)+COUNTIF(AJ4,$E$21)+COUNTIF(AJ4,$E$32)+COUNTIF(AJ4,$E$43)+COUNTIF(AJ4,$E$54)+COUNTIF(AJ4,$E$65)+COUNTIF(AJ4,$E$76)+COUNTIF(AJ4,$E$87)+ COUNTIF(AJ4,$E$98)+COUNTIF(AJ4,$E$109)+COUNTIF(AJ4,$E$120)+COUNTIF(AJ4,$E$131)+COUNTIF(AJ4,$E$142)+COUNTIF(AJ4,$E$153)+COUNTIF(AJ4,$E$164)+COUNTIF(AJ4,$E$175)+ COUNTIF(AJ4,$E$186)+COUNTIF(AJ4,$E$197)+COUNTIF(AJ4,$E$208)+COUNTIF(AJ4,$E$219)+COUNTIF(AJ4,$E$230)+COUNTIF(AJ4,$E$241)+COUNTIF(AJ4,$E$252)+COUNTIF(AJ4,$E$263)+COUNTIF(AJ4,$E$274)+COUNTIF(AJ4,$E$285)+COUNTIF(AJ4,$E$296)+COUNTIF(AJ4,$E$307)+COUNTIF(AJ4,$E$318)+COUNTIF(AJ4,$E$329)+COUNTIF(AJ4,$E$451)+COUNTIF(AJ4,$E$462)+COUNTIF(AJ4,$E$473)+COUNTIF(AJ4,$E$484) -> 0 | AS4: =COUNTIF(AJ4,$E$334)+COUNTIF(AJ4,$E$345)+COUNTIF(AJ4,$E$356)+COUNTIF(AJ4,$E$367)+COUNTIF(AJ4,$E$378)+COUNTIF(AJ4,$E$389)+COUNTIF(AJ4,$E$400)+COUNTIF(AJ4,$E$411)+COUNTIF(AJ4,$E$422)+COUNTIF(AJ4,$E$433)+COUNTIF(AJ4,$E$477)+COUNTIF(AJ4,$E$488)+COUNTIF(AJ4,$E$499)+COUNTIF(AJ4,$E$510)+COUNTIF(AJ4,$E$521)+COUNTIF(AJ4,$E$532) -> 0 | AT4: =COUNTIF(AJ4,$E$335)+COUNTIF(AJ4,$E$346)+COUNTIF(AJ4,$E$357)+COUNTIF(AJ4,$E$368)+COUNTIF(AJ4,$E$379)+COUNTIF(AJ4,$E$390)+COUNTIF(AJ4,$E$401)+COUNTIF(AJ4,$E$412)+COUNTIF(AJ4,$E$423)+COUNTIF(AJ4,$E$434)+COUNTIF(AJ4,$E$478)+COUNTIF(AJ4,$E$489)+COUNTIF(AJ4,$E$500)+COUNTIF(AJ4,$E$511)+COUNTIF(AJ4,$E$522)+COUNTIF(AJ4,$E$533) -> 0 | AU4: =COUNTIF(AJ4,$E$336)+COUNTIF(AJ4,$E$347)+COUNTIF(AJ4,$E$358)+COUNTIF(AJ4,$E$369)+COUNTIF(AJ4,$E$380)+COUNTIF(AJ4,$E$391)+COUNTIF(AJ4,$E$402)+COUNTIF(AJ4,$E$413)+COUNTIF(AJ4,$E$424)+COUNTIF(AJ4,$E$435)+COUNTIF(AJ4,$E$479)+COUNTIF(AJ4,$E$490)+COUNTIF(AJ4,$E$501)+COUNTIF(AJ4,$E$512)+COUNTIF(AJ4,$E$523)+COUNTIF(AJ4,$E$534) -> 0 | AV4: =COUNTIF(AJ4,$E$337)+COUNTIF(AJ4,$E$348)+COUNTIF(AJ4,$E$359)+COUNTIF(AJ4,$E$370)+COUNTIF(AJ4,$E$381)+COUNTIF(AJ4,$E$392)+COUNTIF(AJ4,$E$403)+COUNTIF(AJ4,$E$414)+COUNTIF(AJ4,$E$425)+COUNTIF(AJ4,$E$436)+COUNTIF(AJ4,$E$480)+COUNTIF(AJ4,$E$491)+COUNTIF(AJ4,$E$502)+COUNTIF(AJ4,$E$513)+COUNTIF(AJ4,$E$524)+COUNTIF(AJ4,$E$535) -> 0 | AW4: =COUNTIF(AJ4,$E$338)+COUNTIF(AJ4,$E$349)+COUNTIF(AJ4,$E$360)+COUNTIF(AJ4,$E$371)+COUNTIF(AJ4,$E$382)+COUNTIF(AJ4,$E$393)+COUNTIF(AJ4,$E$404)+COUNTIF(AJ4,$E$415)+COUNTIF(AJ4,$E$426)+COUNTIF(AJ4,$E$437)+COUNTIF(AJ4,$E$481)+COUNTIF(AJ4,$E$492)+COUNTIF(AJ4,$E$503)+COUNTIF(AJ4,$E$514)+COUNTIF(AJ4,$E$525)+COUNTIF(AJ4,$E$536) -> 0 | AX4: =COUNTIF(AJ4,$E$339)+COUNTIF(AJ4,$E$350)+COUNTIF(AJ4,$E$361)+COUNTIF(AJ4,$E$372)+COUNTIF(AJ4,$E$383)+COUNTIF(AJ4,$E$394)+COUNTIF(AJ4,$E$405)+COUNTIF(AJ4,$E$416)+COUNTIF(AJ4,$E$427)+COUNTIF(AJ4,$E$438)+COUNTIF(AJ4,$E$482)+COUNTIF(AJ4,$E$493)+COUNTIF(AJ4,$E$504)+COUNTIF(AJ4,$E$515)+COUNTIF(AJ4,$E$526)+COUNTIF(AJ4,$E$537) -> 0 | AZ4: =IF(#REF!>0,#REF!,"") -> #REF! | BA4: =COUNTIF(AZ4,$G$3)+COUNTIF(AZ4,$G$14)+COUNTIF(AZ4,$G$25)+COUNTIF(AZ4,$G$36)+COUNTIF(AZ4,$G$47)+COUNTIF(AZ4,$G$58)+COUNTIF(AZ4,$G$69)+COUNTIF(AZ4,$G$80)+COUNTIF(AZ4,$G$91)+COUNTIF(AZ4,$G$102)+COUNTIF(AZ4,$G$113)+COUNTIF(AZ4,$G$124)+COUNTIF(AZ4,$G$135)+COUNTIF(AZ4,$G$146)+COUNTIF(AZ4,$G$157)+COUNTIF(AZ4,$G$168)+COUNTIF(AZ4,$G$179)+COUNTIF(AZ4,$G$190)+COUNTIF(AZ4,$G$201)+COUNTIF(AZ4,$G$212)+COUNTIF(AZ4,$G$223)+COUNTIF(AZ4,$G$234)+COUNTIF(AZ4,$G$245)+COUNTIF(AZ4,$G$256)+COUNTIF(AZ4,$G$267)+COUNTIF(AZ4,$G$278)+COUNTIF(AZ4,$G$289)+COUNTIF(AZ4,$G$300)+COUNTIF(AZ4,$G$311)+COUNTIF(AZ4,$G$322)+COUNTIF(AZ4,$G$444)+COUNTIF(AZ4,$G$455)+COUNTIF(AZ4,$G$466)+COUNTIF(AZ4,$G$477) -> 0 | BB4: =COUNTIF(AZ4,$G$4)+COUNTIF(AZ4,$G$15)+COUNTIF(AZ4,$G$26)+COUNTIF(AZ4,$G$37)+COUNTIF(AZ4,$G$48)+COUNTIF(AZ4,$G$59)+COUNTIF(AZ4,$G$70)+COUNTIF(AZ4,$G$81)+COUNTIF(AZ4,$G$92)+COUNTIF(AZ4,$G$103)+COUNTIF(AZ4,$G$114)+COUNTIF(AZ4,$G$125)+COUNTIF(AZ4,$G$136)+COUNTIF(AZ4,$G$147)+COUNTIF(AZ4,$G$158)+COUNTIF(AZ4,$G$169)+COUNTIF(AZ4,$G$180)+COUNTIF(AZ4,$G$191)+COUNTIF(AZ4,$G$202)+COUNTIF(AZ4,$G$213)+COUNTIF(AZ4,$G$224)+COUNTIF(AZ4,$G$235)+COUNTIF(AZ4,$G$246)+COUNTIF(AZ4,$G$257)+COUNTIF(AZ4,$G$268)+COUNTIF(AZ4,$G$279)+COUNTIF(AZ4,$G$290)+COUNTIF(AZ4,$G$301)+COUNTIF(AZ4,$G$312)+COUNTIF(AZ4,$G$323)+COUNTIF(AZ4,$G$445)+COUNTIF(AZ4,$G$456)+COUNTIF(AZ4,$G$467)+COUNTIF(AZ4,$G$478) -> 0 | BC4: =COUNTIF(AZ4,$G$5)+COUNTIF(AZ4,$G$16)+COUNTIF(AZ4,$G$27)+COUNTIF(AZ4,$G$38)+COUNTIF(AZ4,$G$49)+COUNTIF(AZ4,$G$60)+COUNTIF(AZ4,$G$71)+COUNTIF(AZ4,$G$82)+COUNTIF(AZ4,$G$93)+COUNTIF(AZ4,$G$104)+COUNTIF(AZ4,$G$115)+COUNTIF(AZ4,$G$126)+COUNTIF(AZ4,$G$137)+COUNTIF(AZ4,$G$148)+COUNTIF(AZ4,$G$159)+COUNTIF(AZ4,$G$170)+COUNTIF(AZ4,$G$181)+COUNTIF(AZ4,$G$192)+COUNTIF(AZ4,$G$203)+COUNTIF(AZ4,$G$214)+COUNTIF(AZ4,$G$225)+COUNTIF(AZ4,$G$236)+COUNTIF(AZ4,$G$247)+COUNTIF(AZ4,$G$258)+COUNTIF(AZ4,$G$269)+COUNTIF(AZ4,$G$280)+COUNTIF(AZ4,$G$291)+COUNTIF(AZ4,$G$302)+COUNTIF(AZ4,$G$313)+COUNTIF(AZ4,$G$324)+COUNTIF(AZ4,$G$446)+COUNTIF(AZ4,$G$457)+COUNTIF(AZ4,$G$468)+COUNTIF(AZ4,$G$479) -> 0 | BD4: =COUNTIF(AZ4,$G$6)+COUNTIF(AZ4,$G$17)+COUNTIF(AZ4,$G$28)+COUNTIF(AZ4,$G$39)+COUNTIF(AZ4,$G$50)+COUNTIF(AZ4,$G$61)+COUNTIF(AZ4,$G$72)+COUNTIF(AZ4,$G$83)+COUNTIF(AZ4,$G$94)+COUNTIF(AZ4,$G$105)+COUNTIF(AZ4,$G$116)+COUNTIF(AZ4,$G$127)+COUNTIF(AZ4,$G$138)+COUNTIF(AZ4,$G$149)+COUNTIF(AZ4,$G$160)+COUNTIF(AZ4,$G$171)+COUNTIF(AZ4,$G$182)+COUNTIF(AZ4,$G$193)+COUNTIF(AZ4,$G$204)+COUNTIF(AZ4,$G$215)+COUNTIF(AZ4,$G$226)+COUNTIF(AZ4,$G$237)+COUNTIF(AZ4,$G$248)+COUNTIF(AZ4,$G$259)+COUNTIF(AZ4,$G$270)+COUNTIF(AZ4,$G$281)+COUNTIF(AZ4,$G$292)+COUNTIF(AZ4,$G$303)+COUNTIF(AZ4,$G$314)+COUNTIF(AZ4,$G$325)+COUNTIF(AZ4,$G$447)+COUNTIF(AZ4,$G$458)+COUNTIF(AZ4,$G$469)+COUNTIF(AZ4,$G$480) -> 0 | BE4: =COUNTIF(AZ4,$G$7)+COUNTIF(AZ4,$G$18)+COUNTIF(AZ4,$G$29)+COUNTIF(AZ4,$G$40)+COUNTIF(AZ4,$G$51)+COUNTIF(AZ4,$G$62)+COUNTIF(AZ4,$G$73)+COUNTIF(AZ4,$G$84)+COUNTIF(AZ4,$G$95)+COUNTIF(AZ4,$G$106)+COUNTIF(AZ4,$G$117)+COUNTIF(AZ4,$G$128)+COUNTIF(AZ4,$G$139)+COUNTIF(AZ4,$G$150)+COUNTIF(AZ4,$G$161)+COUNTIF(AZ4,$G$172)+COUNTIF(AZ4,$G$183)+COUNTIF(AZ4,$G$194)+COUNTIF(AZ4,$G$205)+COUNTIF(AZ4,$G$216)+COUNTIF(AZ4,$G$227)+COUNTIF(AZ4,$G$238)+COUNTIF(AZ4,$G$249)+COUNTIF(AZ4,$G$260)+COUNTIF(AZ4,$G$271)+COUNTIF(AZ4,$G$282)+COUNTIF(AZ4,$G$293)+COUNTIF(AZ4,$G$304)+COUNTIF(AZ4,$G$315)+COUNTIF(AZ4,$G$326)+COUNTIF(AZ4,$G$448)+COUNTIF(AZ4,$G$459)+COUNTIF(AZ4,$G$470)+COUNTIF(AZ4,$G$481) -> 0 | BF4: =COUNTIF(AZ4,$G$8)+COUNTIF(AZ4,$G$19)+COUNTIF(AZ4,$G$30)+COUNTIF(AZ4,$G$41)+COUNTIF(AZ4,$G$52)+COUNTIF(AZ4,$G$63)+COUNTIF(AZ4,$G$74)+COUNTIF(AZ4,$G$85)+COUNTIF(AZ4,$G$96)+COUNTIF(AZ4,$G$107)+COUNTIF(AZ4,$G$118)+COUNTIF(AZ4,$G$129)+COUNTIF(AZ4,$G$140)+COUNTIF(AZ4,$G$151)+COUNTIF(AZ4,$G$162)+COUNTIF(AZ4,$G$173)+COUNTIF(AZ4,$G$184)+COUNTIF(AZ4,$G$195)+COUNTIF(AZ4,$G$206)+COUNTIF(AZ4,$G$217)+COUNTIF(AZ4,$G$228)+COUNTIF(AZ4,$G$239)+COUNTIF(AZ4,$G$250)+COUNTIF(AZ4,$G$261)+COUNTIF(AZ4,$G$272)+COUNTIF(AZ4,$G$283)+COUNTIF(AZ4,$G$294)+COUNTIF(AZ4,$G$305)+COUNTIF(AZ4,$G$316)+COUNTIF(AZ4,$G$327)+COUNTIF(AZ4,$G$449)+COUNTIF(AZ4,$G$460)+COUNTIF(AZ4,$G$471)+COUNTIF(AZ4,$G$482) -> 0 | BG4: =COUNTIF(AZ4,$G$9)+COUNTIF(AZ4,$G$20)+COUNTIF(AZ4,$G$31)+COUNTIF(AZ4,$G$42)+COUNTIF(AZ4,$G$53)+COUNTIF(AZ4,$G$64)+COUNTIF(AZ4,$G$75)+COUNTIF(AZ4,$G$86)+COUNTIF(AZ4,$G$97)+COUNTIF(AZ4,$G$108)+COUNTIF(AZ4,$G$119)+COUNTIF(AZ4,$G$130)+COUNTIF(AZ4,$G$141)+COUNTIF(AZ4,$G$152)+COUNTIF(AZ4,$G$163)+COUNTIF(AZ4,$G$174)+ COUNTIF(AZ4,$G$185)+COUNTIF(AZ4,$G$196)+COUNTIF(AZ4,$G$207)+COUNTIF(AZ4,$G$218)+COUNTIF(AZ4,$G$229)+COUNTIF(AZ4,$G$240)+COUNTIF(AZ4,$G$251)+COUNTIF(AZ4,$G$262)+COUNTIF(AZ4,$G$273)+COUNTIF(AZ4,$G$284)+COUNTIF(AZ4,$G$295)+COUNTIF(AZ4,$G$306)+COUNTIF(AZ4,$G$317)+COUNTIF(AZ4,$G$328)+COUNTIF(AZ4,$G$450)+COUNTIF(AZ4,$G$461)+COUNTIF(AZ4,$G$472)+COUNTIF(AZ4,$G$483) -> 0 | BH4: =COUNTIF(AZ4,$G$10)+COUNTIF(AZ4,$G$21)+COUNTIF(AZ4,$G$32)+COUNTIF(AZ4,$G$43)+COUNTIF(AZ4,$G$54)+COUNTIF(AZ4,$G$65)+COUNTIF(AZ4,$G$76)+COUNTIF(AZ4,$G$87)+ COUNTIF(AZ4,$G$98)+COUNTIF(AZ4,$G$109)+COUNTIF(AZ4,$G$120)+COUNTIF(AZ4,$G$131)+COUNTIF(AZ4,$G$142)+COUNTIF(AZ4,$G$153)+COUNTIF(AZ4,$G$164)+COUNTIF(AZ4,$G$175)+ COUNTIF(AZ4,$G$186)+COUNTIF(AZ4,$G$197)+COUNTIF(AZ4,$G$208)+COUNTIF(AZ4,$G$219)+COUNTIF(AZ4,$G$230)+COUNTIF(AZ4,$G$241)+COUNTIF(AZ4,$G$252)+COUNTIF(AZ4,$G$263)+COUNTIF(AZ4,$G$274)+COUNTIF(AZ4,$G$285)+COUNTIF(AZ4,$G$296)+COUNTIF(AZ4,$G$307)+COUNTIF(AZ4,$G$318)+COUNTIF(AZ4,$G$329)+COUNTIF(AZ4,$G$451)+COUNTIF(AZ4,$G$462)+COUNTIF(AZ4,$G$473)+COUNTIF(AZ4,$G$484) -> 0 | BI4: =COUNTIF(AZ4,$G$334)+COUNTIF(AZ4,$G$345)+COUNTIF(AZ4,$G$356)+COUNTIF(AZ4,$G$367)+COUNTIF(AZ4,$G$378)+COUNTIF(AZ4,$G$389)+COUNTIF(AZ4,$G$400)+COUNTIF(AZ4,$G$411)+COUNTIF(AZ4,$G$422)+COUNTIF(AZ4,$G$433)+COUNTIF(AZ4,$G$477)+COUNTIF(AZ4,$G$488)+COUNTIF(AZ4,$G$499)+COUNTIF(AZ4,$G$510)+COUNTIF(AZ4,$G$521)+COUNTIF(AZ4,$G$532) -> 0 | BJ4: =COUNTIF(AZ4,$G$335)+COUNTIF(AZ4,$G$346)+COUNTIF(AZ4,$G$357)+COUNTIF(AZ4,$G$368)+COUNTIF(AZ4,$G$379)+COUNTIF(AZ4,$G$390)+COUNTIF(AZ4,$G$401)+COUNTIF(AZ4,$G$412)+COUNTIF(AZ4,$G$423)+COUNTIF(AZ4,$G$434)+COUNTIF(AZ4,$G$478)+COUNTIF(AZ4,$G$489)+COUNTIF(AZ4,$G$500)+COUNTIF(AZ4,$G$511)+COUNTIF(AZ4,$G$522)+COUNTIF(AZ4,$G$533) -> 0 | BK4: =COUNTIF(AZ4,$G$336)+COUNTIF(AZ4,$G$347)+COUNTIF(AZ4,$G$358)+COUNTIF(AZ4,$G$369)+COUNTIF(AZ4,$G$380)+COUNTIF(AZ4,$G$391)+COUNTIF(AZ4,$G$402)+COUNTIF(AZ4,$G$413)+COUNTIF(AZ4,$G$424)+COUNTIF(AZ4,$G$435)+COUNTIF(AZ4,$G$479)+COUNTIF(AZ4,$G$490)+COUNTIF(AZ4,$G$501)+COUNTIF(AZ4,$G$512)+COUNTIF(AZ4,$G$523)+COUNTIF(AZ4,$G$534) -> 0 | BL4: =COUNTIF(AZ4,$G$337)+COUNTIF(AZ4,$G$348)+COUNTIF(AZ4,$G$359)+COUNTIF(AZ4,$G$370)+COUNTIF(AZ4,$G$381)+COUNTIF(AZ4,$G$392)+COUNTIF(AZ4,$G$403)+COUNTIF(AZ4,$G$414)+COUNTIF(AZ4,$G$425)+COUNTIF(AZ4,$G$436)+COUNTIF(AZ4,$G$480)+COUNTIF(AZ4,$G$491)+COUNTIF(AZ4,$G$502)+COUNTIF(AZ4,$G$513)+COUNTIF(AZ4,$G$524)+COUNTIF(AZ4,$G$535) -> 0 | BM4: =COUNTIF(AZ4,$G$338)+COUNTIF(AZ4,$G$349)+COUNTIF(AZ4,$G$360)+COUNTIF(AZ4,$G$371)+COUNTIF(AZ4,$G$382)+COUNTIF(AZ4,$G$393)+COUNTIF(AZ4,$G$404)+COUNTIF(AZ4,$G$415)+COUNTIF(AZ4,$G$426)+COUNTIF(AZ4,$G$437)+COUNTIF(AZ4,$G$481)+COUNTIF(AZ4,$G$492)+COUNTIF(AZ4,$G$503)+COUNTIF(AZ4,$G$514)+COUNTIF(AZ4,$G$525)+COUNTIF(AZ4,$G$536) -> 0 | BN4: =COUNTIF(AZ4,$G$339)+COUNTIF(AZ4,$G$350)+COUNTIF(AZ4,$G$361)+COUNTIF(AZ4,$G$372)+COUNTIF(AZ4,$G$383)+COUNTIF(AZ4,$G$394)+COUNTIF(AZ4,$G$405)+COUNTIF(AZ4,$G$416)+COUNTIF(AZ4,$G$427)+COUNTIF(AZ4,$G$438)+COUNTIF(AZ4,$G$482)+COUNTIF(AZ4,$G$493)+COUNTIF(AZ4,$G$504)+COUNTIF(AZ4,$G$515)+COUNTIF(AZ4,$G$526)+COUNTIF(AZ4,$G$537) -> 0 | BP4: =IF(#REF!>0,#REF!,"") -> #REF! | BQ4: =COUNTIF(BP4,$I$3)+COUNTIF(BP4,$I$14)+COUNTIF(BP4,$I$25)+COUNTIF(BP4,$I$36)+COUNTIF(BP4,$I$47)+COUNTIF(BP4,$I$58)+COUNTIF(BP4,$I$69)+COUNTIF(BP4,$I$80)+COUNTIF(BP4,$I$91)+COUNTIF(BP4,$I$102)+COUNTIF(BP4,$I$113)+COUNTIF(BP4,$I$124)+COUNTIF(BP4,$I$135)+COUNTIF(BP4,$I$146)+COUNTIF(BP4,$I$157)+COUNTIF(BP4,$I$168)+COUNTIF(BP4,$I$179)+COUNTIF(BP4,$I$190)+COUNTIF(BP4,$I$201)+COUNTIF(BP4,$I$212)+COUNTIF(BP4,$I$223)+COUNTIF(BP4,$I$234)+COUNTIF(BP4,$I$245)+COUNTIF(BP4,$I$256)+COUNTIF(BP4,$I$267)+COUNTIF(BP4,$I$278)+COUNTIF(BP4,$I$289)+COUNTIF(BP4,$I$300)+COUNTIF(BP4,$I$311)+COUNTIF(BP4,$I$322)+COUNTIF(BP4,$I$444)+COUNTIF(BP4,$I$455)+COUNTIF(BP4,$I$466)+COUNTIF(BP4,$I$477) -> 0 | BR4: =COUNTIF(BP4,$I$4)+COUNTIF(BP4,$I$15)+COUNTIF(BP4,$I$26)+COUNTIF(BP4,$I$37)+COUNTIF(BP4,$I$48)+COUNTIF(BP4,$I$59)+COUNTIF(BP4,$I$70)+COUNTIF(BP4,$I$81)+COUNTIF(BP4,$I$92)+COUNTIF(BP4,$I$103)+COUNTIF(BP4,$I$114)+COUNTIF(BP4,$I$125)+COUNTIF(BP4,$I$136)+COUNTIF(BP4,$I$147)+COUNTIF(BP4,$I$158)+COUNTIF(BP4,$I$169)+COUNTIF(BP4,$I$180)+COUNTIF(BP4,$I$191)+COUNTIF(BP4,$I$202)+COUNTIF(BP4,$I$213)+COUNTIF(BP4,$I$224)+COUNTIF(BP4,$I$235)+COUNTIF(BP4,$I$246)+COUNTIF(BP4,$I$257)+COUNTIF(BP4,$I$268)+COUNTIF(BP4,$I$279)+COUNTIF(BP4,$I$290)+COUNTIF(BP4,$I$301)+COUNTIF(BP4,$I$312)+COUNTIF(BP4,$I$323)+COUNTIF(BP4,$I$445)+COUNTIF(BP4,$I$456)+COUNTIF(BP4,$I$467)+COUNTIF(BP4,$I$478) -> 0 | BS4: =COUNTIF(BP4,$I$5)+COUNTIF(BP4,$I$16)+COUNTIF(BP4,$I$27)+COUNTIF(BP4,$I$38)+COUNTIF(BP4,$I$49)+COUNTIF(BP4,$I$60)+COUNTIF(BP4,$I$71)+COUNTIF(BP4,$I$82)+COUNTIF(BP4,$I$93)+COUNTIF(BP4,$I$104)+COUNTIF(BP4,$I$115)+COUNTIF(BP4,$I$126)+COUNTIF(BP4,$I$137)+COUNTIF(BP4,$I$148)+COUNTIF(BP4,$I$159)+COUNTIF(BP4,$I$170)+COUNTIF(BP4,$I$181)+COUNTIF(BP4,$I$192)+COUNTIF(BP4,$I$203)+COUNTIF(BP4,$I$214)+COUNTIF(BP4,$I$225)+COUNTIF(BP4,$I$236)+COUNTIF(BP4,$I$247)+COUNTIF(BP4,$I$258)+COUNTIF(BP4,$I$269)+COUNTIF(BP4,$I$280)+COUNTIF(BP4,$I$291)+COUNTIF(BP4,$I$302)+COUNTIF(BP4,$I$313)+COUNTIF(BP4,$I$324)+COUNTIF(BP4,$I$446)+COUNTIF(BP4,$I$457)+COUNTIF(BP4,$I$468)+COUNTIF(BP4,$I$479) -> 0 | BT4: =COUNTIF(BP4,$I$6)+COUNTIF(BP4,$I$17)+COUNTIF(BP4,$I$28)+COUNTIF(BP4,$I$39)+COUNTIF(BP4,$I$50)+COUNTIF(BP4,$I$61)+COUNTIF(BP4,$I$72)+COUNTIF(BP4,$I$83)+COUNTIF(BP4,$I$94)+COUNTIF(BP4,$I$105)+COUNTIF(BP4,$I$116)+COUNTIF(BP4,$I$127)+COUNTIF(BP4,$I$138)+COUNTIF(BP4,$I$149)+COUNTIF(BP4,$I$160)+COUNTIF(BP4,$I$171)+COUNTIF(BP4,$I$182)+COUNTIF(BP4,$I$193)+COUNTIF(BP4,$I$204)+COUNTIF(BP4,$I$215)+COUNTIF(BP4,$I$226)+COUNTIF(BP4,$I$237)+COUNTIF(BP4,$I$248)+COUNTIF(BP4,$I$259)+COUNTIF(BP4,$I$270)+COUNTIF(BP4,$I$281)+COUNTIF(BP4,$I$292)+COUNTIF(BP4,$I$303)+COUNTIF(BP4,$I$314)+COUNTIF(BP4,$I$325)+COUNTIF(BP4,$I$447)+COUNTIF(BP4,$I$458)+COUNTIF(BP4,$I$469)+COUNTIF(BP4,$I$480) -> 0 | BU4: =COUNTIF(BP4,$I$7)+COUNTIF(BP4,$I$18)+COUNTIF(BP4,$I$29)+COUNTIF(BP4,$I$40)+COUNTIF(BP4,$I$51)+COUNTIF(BP4,$I$62)+COUNTIF(BP4,$I$73)+COUNTIF(BP4,$I$84)+COUNTIF(BP4,$I$95)+COUNTIF(BP4,$I$106)+COUNTIF(BP4,$I$117)+COUNTIF(BP4,$I$128)+COUNTIF(BP4,$I$139)+COUNTIF(BP4,$I$150)+COUNTIF(BP4,$I$161)+COUNTIF(BP4,$I$172)+COUNTIF(BP4,$I$183)+COUNTIF(BP4,$I$194)+COUNTIF(BP4,$I$205)+COUNTIF(BP4,$I$216)+COUNTIF(BP4,$I$227)+COUNTIF(BP4,$I$238)+COUNTIF(BP4,$I$249)+COUNTIF(BP4,$I$260)+COUNTIF(BP4,$I$271)+COUNTIF(BP4,$I$282)+COUNTIF(BP4,$I$293)+COUNTIF(BP4,$I$304)+COUNTIF(BP4,$I$315)+COUNTIF(BP4,$I$326)+COUNTIF(BP4,$I$448)+COUNTIF(BP4,$I$459)+COUNTIF(BP4,$I$470)+COUNTIF(BP4,$I$481) -> 0 | BV4: =COUNTIF(BP4,$I$8)+COUNTIF(BP4,$I$19)+COUNTIF(BP4,$I$30)+COUNTIF(BP4,$I$41)+COUNTIF(BP4,$I$52)+COUNTIF(BP4,$I$63)+COUNTIF(BP4,$I$74)+COUNTIF(BP4,$I$85)+COUNTIF(BP4,$I$96)+COUNTIF(BP4,$I$107)+COUNTIF(BP4,$I$118)+COUNTIF(BP4,$I$129)+COUNTIF(BP4,$I$140)+COUNTIF(BP4,$I$151)+COUNTIF(BP4,$I$162)+COUNTIF(BP4,$I$173)+COUNTIF(BP4,$I$184)+COUNTIF(BP4,$I$195)+COUNTIF(BP4,$I$206)+COUNTIF(BP4,$I$217)+COUNTIF(BP4,$I$228)+COUNTIF(BP4,$I$239)+COUNTIF(BP4,$I$250)+COUNTIF(BP4,$I$261)+COUNTIF(BP4,$I$272)+COUNTIF(BP4,$I$283)+COUNTIF(BP4,$I$294)+COUNTIF(BP4,$I$305)+COUNTIF(BP4,$I$316)+COUNTIF(BP4,$I$327)+COUNTIF(BP4,$I$449)+COUNTIF(BP4,$I$460)+COUNTIF(BP4,$I$471)+COUNTIF(BP4,$I$482) -> 0 | BW4: =COUNTIF(BP4,$I$9)+COUNTIF(BP4,$I$20)+COUNTIF(BP4,$I$31)+COUNTIF(BP4,$I$42)+COUNTIF(BP4,$I$53)+COUNTIF(BP4,$I$64)+COUNTIF(BP4,$I$75)+COUNTIF(BP4,$I$86)+COUNTIF(BP4,$I$97)+COUNTIF(BP4,$I$108)+COUNTIF(BP4,$I$119)+COUNTIF(BP4,$I$130)+COUNTIF(BP4,$I$141)+COUNTIF(BP4,$I$152)+COUNTIF(BP4,$I$163)+COUNTIF(BP4,$I$174)+ COUNTIF(BP4,$I$185)+COUNTIF(BP4,$I$196)+COUNTIF(BP4,$I$207)+COUNTIF(BP4,$I$218)+COUNTIF(BP4,$I$229)+COUNTIF(BP4,$I$240)+COUNTIF(BP4,$I$251)+COUNTIF(BP4,$I$262)+COUNTIF(BP4,$I$273)+COUNTIF(BP4,$I$284)+COUNTIF(BP4,$I$295)+COUNTIF(BP4,$I$306)+COUNTIF(BP4,$I$317)+COUNTIF(BP4,$I$328)+COUNTIF(BP4,$I$450)+COUNTIF(BP4,$I$461)+COUNTIF(BP4,$I$472)+COUNTIF(BP4,$I$483) -> 0 | BX4: =COUNTIF(BP4,$I$10)+COUNTIF(BP4,$I$21)+COUNTIF(BP4,$I$32)+COUNTIF(BP4,$I$43)+COUNTIF(BP4,$I$54)+COUNTIF(BP4,$I$65)+COUNTIF(BP4,$I$76)+COUNTIF(BP4,$I$87)+ COUNTIF(BP4,$I$98)+COUNTIF(BP4,$I$109)+COUNTIF(BP4,$I$120)+COUNTIF(BP4,$I$131)+COUNTIF(BP4,$I$142)+COUNTIF(BP4,$I$153)+COUNTIF(BP4,$I$164)+COUNTIF(BP4,$I$175)+ COUNTIF(BP4,$I$186)+COUNTIF(BP4,$I$197)+COUNTIF(BP4,$I$208)+COUNTIF(BP4,$I$219)+COUNTIF(BP4,$I$230)+COUNTIF(BP4,$I$241)+COUNTIF(BP4,$I$252)+COUNTIF(BP4,$I$263)+COUNTIF(BP4,$I$274)+COUNTIF(BP4,$I$285)+COUNTIF(BP4,$I$296)+COUNTIF(BP4,$I$307)+COUNTIF(BP4,$I$318)+COUNTIF(BP4,$I$329)+COUNTIF(BP4,$I$451)+COUNTIF(BP4,$I$462)+COUNTIF(BP4,$I$473)+COUNTIF(BP4,$I$484) -> 0 | BY4: =COUNTIF(BP4,$I$334)+COUNTIF(BP4,$I$345)+COUNTIF(BP4,$I$356)+COUNTIF(BP4,$I$367)+COUNTIF(BP4,$I$378)+COUNTIF(BP4,$I$389)+COUNTIF(BP4,$I$400)+COUNTIF(BP4,$I$411)+COUNTIF(BP4,$I$422)+COUNTIF(BP4,$I$433)+COUNTIF(BP4,$I$477)+COUNTIF(BP4,$I$488)+COUNTIF(BP4,$I$499)+COUNTIF(BP4,$I$510)+COUNTIF(BP4,$I$521)+COUNTIF(BP4,$I$532) -> 0 | BZ4: =COUNTIF(BP4,$I$335)+COUNTIF(BP4,$I$346)+COUNTIF(BP4,$I$357)+COUNTIF(BP4,$I$368)+COUNTIF(BP4,$I$379)+COUNTIF(BP4,$I$390)+COUNTIF(BP4,$I$401)+COUNTIF(BP4,$I$412)+COUNTIF(BP4,$I$423)+COUNTIF(BP4,$I$434)+COUNTIF(BP4,$I$478)+COUNTIF(BP4,$I$489)+COUNTIF(BP4,$I$500)+COUNTIF(BP4,$I$511)+COUNTIF(BP4,$I$522)+COUNTIF(BP4,$I$533) -> 0 | CA4: =COUNTIF(BP4,$I$336)+COUNTIF(BP4,$I$347)+COUNTIF(BP4,$I$358)+COUNTIF(BP4,$I$369)+COUNTIF(BP4,$I$380)+COUNTIF(BP4,$I$391)+COUNTIF(BP4,$I$402)+COUNTIF(BP4,$I$413)+COUNTIF(BP4,$I$424)+COUNTIF(BP4,$I$435)+COUNTIF(BP4,$I$479)+COUNTIF(BP4,$I$490)+COUNTIF(BP4,$I$501)+COUNTIF(BP4,$I$512)+COUNTIF(BP4,$I$523)+COUNTIF(BP4,$I$534) -> 0 | CB4: =COUNTIF(BP4,$I$337)+COUNTIF(BP4,$I$348)+COUNTIF(BP4,$I$359)+COUNTIF(BP4,$I$370)+COUNTIF(BP4,$I$381)+COUNTIF(BP4,$I$392)+COUNTIF(BP4,$I$403)+COUNTIF(BP4,$I$414)+COUNTIF(BP4,$I$425)+COUNTIF(BP4,$I$436)+COUNTIF(BP4,$I$480)+COUNTIF(BP4,$I$491)+COUNTIF(BP4,$I$502)+COUNTIF(BP4,$I$513)+COUNTIF(BP4,$I$524)+COUNTIF(BP4,$I$535) -> 0 | CC4: =COUNTIF(BP4,$I$338)+COUNTIF(BP4,$I$349)+COUNTIF(BP4,$I$360)+COUNTIF(BP4,$I$371)+COUNTIF(BP4,$I$382)+COUNTIF(BP4,$I$393)+COUNTIF(BP4,$I$404)+COUNTIF(BP4,$I$415)+COUNTIF(BP4,$I$426)+COUNTIF(BP4,$I$437)+COUNTIF(BP4,$I$481)+COUNTIF(BP4,$I$492)+COUNTIF(BP4,$I$503)+COUNTIF(BP4,$I$514)+COUNTIF(BP4,$I$525)+COUNTIF(BP4,$I$536) -> 0 | CD4: =COUNTIF(BP4,$I$339)+COUNTIF(BP4,$I$350)+COUNTIF(BP4,$I$361)+COUNTIF(BP4,$I$372)+COUNTIF(BP4,$I$383)+COUNTIF(BP4,$I$394)+COUNTIF(BP4,$I$405)+COUNTIF(BP4,$I$416)+COUNTIF(BP4,$I$427)+COUNTIF(BP4,$I$438)+COUNTIF(BP4,$I$482)+COUNTIF(BP4,$I$493)+COUNTIF(BP4,$I$504)+COUNTIF(BP4,$I$515)+COUNTIF(BP4,$I$526)+COUNTIF(BP4,$I$537) -> 0 | CF4: =IF(#REF!>0,#REF!,"") -> #REF! | CG4: =COUNTIF(CF4,$K$3)+COUNTIF(CF4,$K$14)+COUNTIF(CF4,$K$25)+COUNTIF(CF4,$K$36)+COUNTIF(CF4,$K$47)+COUNTIF(CF4,$K$58)+COUNTIF(CF4,$K$69)+COUNTIF(CF4,$K$80)+COUNTIF(CF4,$K$91)+COUNTIF(CF4,$K$102)+COUNTIF(CF4,$K$113)+COUNTIF(CF4,$K$124)+COUNTIF(CF4,$K$135)+COUNTIF(CF4,$K$146)+COUNTIF(CF4,$K$157)+COUNTIF(CF4,$K$168)+COUNTIF(CF4,$K$179)+COUNTIF(CF4,$K$190)+COUNTIF(CF4,$K$201)+COUNTIF(CF4,$K$212)+COUNTIF(CF4,$K$223)+COUNTIF(CF4,$K$234)+COUNTIF(CF4,$K$245)+COUNTIF(CF4,$K$256)+COUNTIF(CF4,$K$267)+COUNTIF(CF4,$K$278)+COUNTIF(CF4,$K$289)+COUNTIF(CF4,$K$300)+COUNTIF(CF4,$K$311)+COUNTIF(CF4,$K$322)+COUNTIF(CF4,$K$444)+COUNTIF(CF4,$K$455)+COUNTIF(CF4,$K$466)+COUNTIF(CF4,$K$477) -> 0 | CH4: =COUNTIF(CF4,$K$4)+COUNTIF(CF4,$K$15)+COUNTIF(CF4,$K$26)+COUNTIF(CF4,$K$37)+COUNTIF(CF4,$K$48)+COUNTIF(CF4,$K$59)+COUNTIF(CF4,$K$70)+COUNTIF(CF4,$K$81)+COUNTIF(CF4,$K$92)+COUNTIF(CF4,$K$103)+COUNTIF(CF4,$K$114)+COUNTIF(CF4,$K$125)+COUNTIF(CF4,$K$136)+COUNTIF(CF4,$K$147)+COUNTIF(CF4,$K$158)+COUNTIF(CF4,$K$169)+COUNTIF(CF4,$K$180)+COUNTIF(CF4,$K$191)+COUNTIF(CF4,$K$202)+COUNTIF(CF4,$K$213)+COUNTIF(CF4,$K$224)+COUNTIF(CF4,$K$235)+COUNTIF(CF4,$K$246)+COUNTIF(CF4,$K$257)+COUNTIF(CF4,$K$268)+COUNTIF(CF4,$K$279)+COUNTIF(CF4,$K$290)+COUNTIF(CF4,$K$301)+COUNTIF(CF4,$K$312)+COUNTIF(CF4,$K$323)+COUNTIF(CF4,$K$445)+COUNTIF(CF4,$K$456)+COUNTIF(CF4,$K$467)+COUNTIF(CF4,$K$478) -> 0 | CI4: =COUNTIF(CF4,$K$5)+COUNTIF(CF4,$K$16)+COUNTIF(CF4,$K$27)+COUNTIF(CF4,$K$38)+COUNTIF(CF4,$K$49)+COUNTIF(CF4,$K$60)+COUNTIF(CF4,$K$71)+COUNTIF(CF4,$K$82)+COUNTIF(CF4,$K$93)+COUNTIF(CF4,$K$104)+COUNTIF(CF4,$K$115)+COUNTIF(CF4,$K$126)+COUNTIF(CF4,$K$137)+COUNTIF(CF4,$K$148)+COUNTIF(CF4,$K$159)+COUNTIF(CF4,$K$170)+COUNTIF(CF4,$K$181)+COUNTIF(CF4,$K$192)+COUNTIF(CF4,$K$203)+COUNTIF(CF4,$K$214)+COUNTIF(CF4,$K$225)+COUNTIF(CF4,$K$236)+COUNTIF(CF4,$K$247)+COUNTIF(CF4,$K$258)+COUNTIF(CF4,$K$269)+COUNTIF(CF4,$K$280)+COUNTIF(CF4,$K$291)+COUNTIF(CF4,$K$302)+COUNTIF(CF4,$K$313)+COUNTIF(CF4,$K$324)+COUNTIF(CF4,$K$446)+COUNTIF(CF4,$K$457)+COUNTIF(CF4,$K$468)+COUNTIF(CF4,$K$479) -> 0 | CJ4: =COUNTIF(CF4,$K$6)+COUNTIF(CF4,$K$17)+COUNTIF(CF4,$K$28)+COUNTIF(CF4,$K$39)+COUNTIF(CF4,$K$50)+COUNTIF(CF4,$K$61)+COUNTIF(CF4,$K$72)+COUNTIF(CF4,$K$83)+COUNTIF(CF4,$K$94)+COUNTIF(CF4,$K$105)+COUNTIF(CF4,$K$116)+COUNTIF(CF4,$K$127)+COUNTIF(CF4,$K$138)+COUNTIF(CF4,$K$149)+COUNTIF(CF4,$K$160)+COUNTIF(CF4,$K$171)+COUNTIF(CF4,$K$182)+COUNTIF(CF4,$K$193)+COUNTIF(CF4,$K$204)+COUNTIF(CF4,$K$215)+COUNTIF(CF4,$K$226)+COUNTIF(CF4,$K$237)+COUNTIF(CF4,$K$248)+COUNTIF(CF4,$K$259)+COUNTIF(CF4,$K$270)+COUNTIF(CF4,$K$281)+COUNTIF(CF4,$K$292)+COUNTIF(CF4,$K$303)+COUNTIF(CF4,$K$314)+COUNTIF(CF4,$K$325)+COUNTIF(CF4,$K$447)+COUNTIF(CF4,$K$458)+COUNTIF(CF4,$K$469)+COUNTIF(CF4,$K$480) -> 0 | CK4: =COUNTIF(CF4,$K$7)+COUNTIF(CF4,$K$18)+COUNTIF(CF4,$K$29)+COUNTIF(CF4,$K$40)+COUNTIF(CF4,$K$51)+COUNTIF(CF4,$K$62)+COUNTIF(CF4,$K$73)+COUNTIF(CF4,$K$84)+COUNTIF(CF4,$K$95)+COUNTIF(CF4,$K$106)+COUNTIF(CF4,$K$117)+COUNTIF(CF4,$K$128)+COUNTIF(CF4,$K$139)+COUNTIF(CF4,$K$150)+COUNTIF(CF4,$K$161)+COUNTIF(CF4,$K$172)+COUNTIF(CF4,$K$183)+COUNTIF(CF4,$K$194)+COUNTIF(CF4,$K$205)+COUNTIF(CF4,$K$216)+COUNTIF(CF4,$K$227)+COUNTIF(CF4,$K$238)+COUNTIF(CF4,$K$249)+COUNTIF(CF4,$K$260)+COUNTIF(CF4,$K$271)+COUNTIF(CF4,$K$282)+COUNTIF(CF4,$K$293)+COUNTIF(CF4,$K$304)+COUNTIF(CF4,$K$315)+COUNTIF(CF4,$K$326)+COUNTIF(CF4,$K$448)+COUNTIF(CF4,$K$459)+COUNTIF(CF4,$K$470)+COUNTIF(CF4,$K$481) -> 0 | CL4: =COUNTIF(CF4,$K$8)+COUNTIF(CF4,$K$19)+COUNTIF(CF4,$K$30)+COUNTIF(CF4,$K$41)+COUNTIF(CF4,$K$52)+COUNTIF(CF4,$K$63)+COUNTIF(CF4,$K$74)+COUNTIF(CF4,$K$85)+COUNTIF(CF4,$K$96)+COUNTIF(CF4,$K$107)+COUNTIF(CF4,$K$118)+COUNTIF(CF4,$K$129)+COUNTIF(CF4,$K$140)+COUNTIF(CF4,$K$151)+COUNTIF(CF4,$K$162)+COUNTIF(CF4,$K$173)+COUNTIF(CF4,$K$184)+COUNTIF(CF4,$K$195)+COUNTIF(CF4,$K$206)+COUNTIF(CF4,$K$217)+COUNTIF(CF4,$K$228)+COUNTIF(CF4,$K$239)+COUNTIF(CF4,$K$250)+COUNTIF(CF4,$K$261)+COUNTIF(CF4,$K$272)+COUNTIF(CF4,$K$283)+COUNTIF(CF4,$K$294)+COUNTIF(CF4,$K$305)+COUNTIF(CF4,$K$316)+COUNTIF(CF4,$K$327)+COUNTIF(CF4,$K$449)+COUNTIF(CF4,$K$460)+COUNTIF(CF4,$K$471)+COUNTIF(CF4,$K$482) -> 0 | CM4: =COUNTIF(CF4,$K$9)+COUNTIF(CF4,$K$20)+COUNTIF(CF4,$K$31)+COUNTIF(CF4,$K$42)+COUNTIF(CF4,$K$53)+COUNTIF(CF4,$K$64)+COUNTIF(CF4,$K$75)+COUNTIF(CF4,$K$86)+COUNTIF(CF4,$K$97)+COUNTIF(CF4,$K$108)+COUNTIF(CF4,$K$119)+COUNTIF(CF4,$K$130)+COUNTIF(CF4,$K$141)+COUNTIF(CF4,$K$152)+COUNTIF(CF4,$K$163)+COUNTIF(CF4,$K$174)+ COUNTIF(CF4,$K$185)+COUNTIF(CF4,$K$196)+COUNTIF(CF4,$K$207)+COUNTIF(CF4,$K$218)+COUNTIF(CF4,$K$229)+COUNTIF(CF4,$K$240)+COUNTIF(CF4,$K$251)+COUNTIF(CF4,$K$262)+COUNTIF(CF4,$K$273)+COUNTIF(CF4,$K$284)+COUNTIF(CF4,$K$295)+COUNTIF(CF4,$K$306)+COUNTIF(CF4,$K$317)+COUNTIF(CF4,$K$328)+COUNTIF(CF4,$K$450)+COUNTIF(CF4,$K$461)+COUNTIF(CF4,$K$472)+COUNTIF(CF4,$K$483) -> 0 | CN4: =COUNTIF(CF4,$K$10)+COUNTIF(CF4,$K$21)+COUNTIF(CF4,$K$32)+COUNTIF(CF4,$K$43)+COUNTIF(CF4,$K$54)+COUNTIF(CF4,$K$65)+COUNTIF(CF4,$K$76)+COUNTIF(CF4,$K$87)+ COUNTIF(CF4,$K$98)+COUNTIF(CF4,$K$109)+COUNTIF(CF4,$K$120)+COUNTIF(CF4,$K$131)+COUNTIF(CF4,$K$142)+COUNTIF(CF4,$K$153)+COUNTIF(CF4,$K$164)+COUNTIF(CF4,$K$175)+ COUNTIF(CF4,$K$186)+COUNTIF(CF4,$K$197)+COUNTIF(CF4,$K$208)+COUNTIF(CF4,$K$219)+COUNTIF(CF4,$K$230)+COUNTIF(CF4,$K$241)+COUNTIF(CF4,$K$252)+COUNTIF(CF4,$K$263)+COUNTIF(CF4,$K$274)+COUNTIF(CF4,$K$285)+COUNTIF(CF4,$K$296)+COUNTIF(CF4,$K$307)+COUNTIF(CF4,$K$318)+COUNTIF(CF4,$K$329)+COUNTIF(CF4,$K$451)+COUNTIF(CF4,$K$462)+COUNTIF(CF4,$K$473)+COUNTIF(CF4,$K$484) -> 0 | CO4: =COUNTIF(CF4,$K$334)+COUNTIF(CF4,$K$345)+COUNTIF(CF4,$K$356)+COUNTIF(CF4,$K$367)+COUNTIF(CF4,$K$378)+COUNTIF(CF4,$K$389)+COUNTIF(CF4,$K$400)+COUNTIF(CF4,$K$411)+COUNTIF(CF4,$K$422)+COUNTIF(CF4,$K$433)+COUNTIF(CF4,$K$477)+COUNTIF(CF4,$K$488)+COUNTIF(CF4,$K$499)+COUNTIF(CF4,$K$510)+COUNTIF(CF4,$K$521)+COUNTIF(CF4,$K$532) -> 0 | CP4: =COUNTIF(CF4,$K$335)+COUNTIF(CF4,$K$346)+COUNTIF(CF4,$K$357)+COUNTIF(CF4,$K$368)+COUNTIF(CF4,$K$379)+COUNTIF(CF4,$K$390)+COUNTIF(CF4,$K$401)+COUNTIF(CF4,$K$412)+COUNTIF(CF4,$K$423)+COUNTIF(CF4,$K$434)+COUNTIF(CF4,$K$478)+COUNTIF(CF4,$K$489)+COUNTIF(CF4,$K$500)+COUNTIF(CF4,$K$511)+COUNTIF(CF4,$K$522)+COUNTIF(CF4,$K$533) -> 0 | CQ4: =COUNTIF(CF4,$K$336)+COUNTIF(CF4,$K$347)+COUNTIF(CF4,$K$358)+COUNTIF(CF4,$K$369)+COUNTIF(CF4,$K$380)+COUNTIF(CF4,$K$391)+COUNTIF(CF4,$K$402)+COUNTIF(CF4,$K$413)+COUNTIF(CF4,$K$424)+COUNTIF(CF4,$K$435)+COUNTIF(CF4,$K$479)+COUNTIF(CF4,$K$490)+COUNTIF(CF4,$K$501)+COUNTIF(CF4,$K$512)+COUNTIF(CF4,$K$523)+COUNTIF(CF4,$K$534) -> 0 | CR4: =COUNTIF(CF4,$K$337)+COUNTIF(CF4,$K$348)+COUNTIF(CF4,$K$359)+COUNTIF(CF4,$K$370)+COUNTIF(CF4,$K$381)+COUNTIF(CF4,$K$392)+COUNTIF(CF4,$K$403)+COUNTIF(CF4,$K$414)+COUNTIF(CF4,$K$425)+COUNTIF(CF4,$K$436)+COUNTIF(CF4,$K$480)+COUNTIF(CF4,$K$491)+COUNTIF(CF4,$K$502)+COUNTIF(CF4,$K$513)+COUNTIF(CF4,$K$524)+COUNTIF(CF4,$K$535) -> 0 | CS4: =COUNTIF(CF4,$K$338)+COUNTIF(CF4,$K$349)+COUNTIF(CF4,$K$360)+COUNTIF(CF4,$K$371)+COUNTIF(CF4,$K$382)+COUNTIF(CF4,$K$393)+COUNTIF(CF4,$K$404)+COUNTIF(CF4,$K$415)+COUNTIF(CF4,$K$426)+COUNTIF(CF4,$K$437)+COUNTIF(CF4,$K$481)+COUNTIF(CF4,$K$492)+COUNTIF(CF4,$K$503)+COUNTIF(CF4,$K$514)+COUNTIF(CF4,$K$525)+COUNTIF(CF4,$K$536) -> 0 | CT4: =COUNTIF(CF4,$K$339)+COUNTIF(CF4,$K$350)+COUNTIF(CF4,$K$361)+COUNTIF(CF4,$K$372)+COUNTIF(CF4,$K$383)+COUNTIF(CF4,$K$394)+COUNTIF(CF4,$K$405)+COUNTIF(CF4,$K$416)+COUNTIF(CF4,$K$427)+COUNTIF(CF4,$K$438)+COUNTIF(CF4,$K$482)+COUNTIF(CF4,$K$493)+COUNTIF(CF4,$K$504)+COUNTIF(CF4,$K$515)+COUNTIF(CF4,$K$526)+COUNTIF(CF4,$K$537) -> 0 | CV4: =IF(#REF!>0,#REF!,"") -> #REF! | CW4: =U4+AK4+BA4+BQ4+CG4 -> 0 | CX4: =V4+AL4+BB4+BR4+CH4 -> 0 | CY4: =W4+AM4+BC4+BS4+CI4 -> 0 | CZ4: =X4+AN4+BD4+BT4+CJ4 -> 0 | DA4: =Y4+AO4+BE4+BU4+CK4 -> 0 | DB4: =Z4+AP4+BF4+BV4+CL4 -> 0 | DC4: =AA4+AQ4+BG4+BW4+CM4 -> 0 | DD4: =AB4+AR4+BH4+BX4+CN4 -> 0 | ... DJ4: =AH4+AX4+BN4+CD4+CT4 -> 0 | DL4: Salı | DM4: =IFERROR(VLOOKUP(E3,$AJ$3:$AX$60,2,0),0) -> 0 | DN4: =IFERROR(VLOOKUP(E4,$AJ$3:$AX$60,3,0),0) -> 0 | DO4: =IFERROR(VLOOKUP(E5,$AJ$3:$AX$60,4,0),0) -> 0 | DP4: =IFERROR(VLOOKUP(E6,$AJ$3:$AX$60,5,0),0) -> 0 | DQ4: =IFERROR(VLOOKUP(E7,$AJ$3:$AX$60,6,0),0) -> 0 | DR4: =IFERROR(VLOOKUP(E8,$AJ$3:$AX$60,7,0),0) -> 0 | DS4: =IFERROR(VLOOKUP(E9,$AJ$3:$AX$60,8,0),0) -> 0 | DT4: =IFERROR(VLOOKUP(E10,$AJ$3:$AX$60,9,0),0) -> 0
A5: 10.00 | M5: =A5 -> 10.00 | N5: =IF(DO3=0,"BOŞ",IF(DO3=1,"DERS",IF(DO3>1,"ÇAKIŞMA"))) -> BOŞ | O5: =IF(DO4=0,"BOŞ",IF(DO4=1,"DERS",IF(DO4>1,"ÇAKIŞMA"))) -> BOŞ | P5: =IF(DO5=0,"BOŞ",IF(DO5=1,"DERS",IF(DO5>1,"ÇAKIŞMA"))) -> BOŞ | Q5: =IF(DO6=0,"BOŞ",IF(DO6=1,"DERS",IF(DO6>1,"ÇAKIŞMA"))) -> BOŞ | R5: =IF(DO7=0,"BOŞ",IF(DO7=1,"DERS",IF(DO7>1,"ÇAKIŞMA"))) -> BOŞ | T5: =IF(#REF!>0,#REF!,"") -> #REF! | U5: =COUNTIF(T5,$C$3)+COUNTIF(T5,$C$14)+COUNTIF(T5,$C$25)+COUNTIF(T5,$C$36)+COUNTIF(T5,$C$47)+COUNTIF(T5,$C$58)+COUNTIF(T5,$C$69)+COUNTIF(T5,$C$80)+COUNTIF(T5,$C$91)+COUNTIF(T5,$C$102)+COUNTIF(T5,$C$113)+COUNTIF(T5,$C$124)+COUNTIF(T5,$C$135)+COUNTIF(T5,$C$146)+COUNTIF(T5,$C$157)+COUNTIF(T5,$C$168)+COUNTIF(T5,$C$179)+COUNTIF(T5,$C$190)+COUNTIF(T5,$C$201)+COUNTIF(T5,$C$212)+COUNTIF(T5,$C$223)+COUNTIF(T5,$C$234)+COUNTIF(T5,$C$245)+COUNTIF(T5,$C$256)+COUNTIF(T5,$C$267)+COUNTIF(T5,$C$278)+COUNTIF(T5,$C$289)+COUNTIF(T5,$C$300)+COUNTIF(T5,$C$311)+COUNTIF(T5,$C$322)+COUNTIF(T5,$C$444)+COUNTIF(T5,$C$455)+COUNTIF(T5,$C$466)+COUNTIF(T5,$C$477) -> 0 | V5: =COUNTIF(T5,$C$4)+COUNTIF(T5,$C$15)+COUNTIF(T5,$C$26)+COUNTIF(T5,$C$37)+COUNTIF(T5,$C$48)+COUNTIF(T5,$C$59)+COUNTIF(T5,$C$70)+COUNTIF(T5,$C$81)+COUNTIF(T5,$C$92)+COUNTIF(T5,$C$103)+COUNTIF(T5,$C$114)+COUNTIF(T5,$C$125)+COUNTIF(T5,$C$136)+COUNTIF(T5,$C$147)+COUNTIF(T5,$C$158)+COUNTIF(T5,$C$169)+COUNTIF(T5,$C$180)+COUNTIF(T5,$C$191)+COUNTIF(T5,$C$202)+COUNTIF(T5,$C$213)+COUNTIF(T5,$C$224)+COUNTIF(T5,$C$235)+COUNTIF(T5,$C$246)+COUNTIF(T5,$C$257)+COUNTIF(T5,$C$268)+COUNTIF(T5,$C$279)+COUNTIF(T5,$C$290)+COUNTIF(T5,$C$301)+COUNTIF(T5,$C$312)+COUNTIF(T5,$C$323)+COUNTIF(T5,$C$445)+COUNTIF(T5,$C$456)+COUNTIF(T5,$C$467)+COUNTIF(T5,$C$478) -> 0 | W5: =COUNTIF(T5,$C$5)+COUNTIF(T5,$C$16)+COUNTIF(T5,$C$27)+COUNTIF(T5,$C$38)+COUNTIF(T5,$C$49)+COUNTIF(T5,$C$60)+COUNTIF(T5,$C$71)+COUNTIF(T5,$C$82)+COUNTIF(T5,$C$93)+COUNTIF(T5,$C$104)+COUNTIF(T5,$C$115)+COUNTIF(T5,$C$126)+COUNTIF(T5,$C$137)+COUNTIF(T5,$C$148)+COUNTIF(T5,$C$159)+COUNTIF(T5,$C$170)+COUNTIF(T5,$C$181)+COUNTIF(T5,$C$192)+COUNTIF(T5,$C$203)+COUNTIF(T5,$C$214)+COUNTIF(T5,$C$225)+COUNTIF(T5,$C$236)+COUNTIF(T5,$C$247)+COUNTIF(T5,$C$258)+COUNTIF(T5,$C$269)+COUNTIF(T5,$C$280)+COUNTIF(T5,$C$291)+COUNTIF(T5,$C$302)+COUNTIF(T5,$C$313)+COUNTIF(T5,$C$324)+COUNTIF(T5,$C$446)+COUNTIF(T5,$C$457)+COUNTIF(T5,$C$468)+COUNTIF(T5,$C$479) -> 0 | X5: =COUNTIF(T5,$C$6)+COUNTIF(T5,$C$17)+COUNTIF(T5,$C$28)+COUNTIF(T5,$C$39)+COUNTIF(T5,$C$50)+COUNTIF(T5,$C$61)+COUNTIF(T5,$C$72)+COUNTIF(T5,$C$83)+COUNTIF(T5,$C$94)+COUNTIF(T5,$C$105)+COUNTIF(T5,$C$116)+COUNTIF(T5,$C$127)+COUNTIF(T5,$C$138)+COUNTIF(T5,$C$149)+COUNTIF(T5,$C$160)+COUNTIF(T5,$C$171)+COUNTIF(T5,$C$182)+COUNTIF(T5,$C$193)+COUNTIF(T5,$C$204)+COUNTIF(T5,$C$215)+COUNTIF(T5,$C$226)+COUNTIF(T5,$C$237)+COUNTIF(T5,$C$248)+COUNTIF(T5,$C$259)+COUNTIF(T5,$C$270)+COUNTIF(T5,$C$281)+COUNTIF(T5,$C$292)+COUNTIF(T5,$C$303)+COUNTIF(T5,$C$314)+COUNTIF(T5,$C$325)+COUNTIF(T5,$C$447)+COUNTIF(T5,$C$458)+COUNTIF(T5,$C$469)+COUNTIF(T5,$C$480) -> 0 | Y5: =COUNTIF(T5,$C$7)+COUNTIF(T5,$C$18)+COUNTIF(T5,$C$29)+COUNTIF(T5,$C$40)+COUNTIF(T5,$C$51)+COUNTIF(T5,$C$62)+COUNTIF(T5,$C$73)+COUNTIF(T5,$C$84)+COUNTIF(T5,$C$95)+COUNTIF(T5,$C$106)+COUNTIF(T5,$C$117)+COUNTIF(T5,$C$128)+COUNTIF(T5,$C$139)+COUNTIF(T5,$C$150)+COUNTIF(T5,$C$161)+COUNTIF(T5,$C$172)+COUNTIF(T5,$C$183)+COUNTIF(T5,$C$194)+COUNTIF(T5,$C$205)+COUNTIF(T5,$C$216)+COUNTIF(T5,$C$227)+COUNTIF(T5,$C$238)+COUNTIF(T5,$C$249)+COUNTIF(T5,$C$260)+COUNTIF(T5,$C$271)+COUNTIF(T5,$C$282)+COUNTIF(T5,$C$293)+COUNTIF(T5,$C$304)+COUNTIF(T5,$C$315)+COUNTIF(T5,$C$326)+COUNTIF(T5,$C$448)+COUNTIF(T5,$C$459)+COUNTIF(T5,$C$470)+COUNTIF(T5,$C$481) -> 0 | Z5: =COUNTIF(T5,$C$8)+COUNTIF(T5,$C$19)+COUNTIF(T5,$C$30)+COUNTIF(T5,$C$41)+COUNTIF(T5,$C$52)+COUNTIF(T5,$C$63)+COUNTIF(T5,$C$74)+COUNTIF(T5,$C$85)+COUNTIF(T5,$C$96)+COUNTIF(T5,$C$107)+COUNTIF(T5,$C$118)+COUNTIF(T5,$C$129)+COUNTIF(T5,$C$140)+COUNTIF(T5,$C$151)+COUNTIF(T5,$C$162)+COUNTIF(T5,$C$173)+COUNTIF(T5,$C$184)+COUNTIF(T5,$C$195)+COUNTIF(T5,$C$206)+COUNTIF(T5,$C$217)+COUNTIF(T5,$C$228)+COUNTIF(T5,$C$239)+COUNTIF(T5,$C$250)+COUNTIF(T5,$C$261)+COUNTIF(T5,$C$272)+COUNTIF(T5,$C$283)+COUNTIF(T5,$C$294)+COUNTIF(T5,$C$305)+COUNTIF(T5,$C$316)+COUNTIF(T5,$C$327)+COUNTIF(T5,$C$449)+COUNTIF(T5,$C$460)+COUNTIF(T5,$C$471)+COUNTIF(T5,$C$482) -> 0 | AA5: =COUNTIF(T5,$C$9)+COUNTIF(T5,$C$20)+COUNTIF(T5,$C$31)+COUNTIF(T5,$C$42)+COUNTIF(T5,$C$53)+COUNTIF(T5,$C$64)+COUNTIF(T5,$C$75)+COUNTIF(T5,$C$86)+COUNTIF(T5,$C$97)+COUNTIF(T5,$C$108)+COUNTIF(T5,$C$119)+COUNTIF(T5,$C$130)+COUNTIF(T5,$C$141)+COUNTIF(T5,$C$152)+COUNTIF(T5,$C$163)+COUNTIF(T5,$C$174)+ COUNTIF(T5,$C$185)+COUNTIF(T5,$C$196)+COUNTIF(T5,$C$207)+COUNTIF(T5,$C$218)+COUNTIF(T5,$C$229)+COUNTIF(T5,$C$240)+COUNTIF(T5,$C$251)+COUNTIF(T5,$C$262)+COUNTIF(T5,$C$273)+COUNTIF(T5,$C$284)+COUNTIF(T5,$C$295)+COUNTIF(T5,$C$306)+COUNTIF(T5,$C$317)+COUNTIF(T5,$C$328)+COUNTIF(T5,$C$450)+COUNTIF(T5,$C$461)+COUNTIF(T5,$C$472)+COUNTIF(T5,$C$483) -> 0 | AB5: =COUNTIF(T5,$C$10)+COUNTIF(T5,$C$21)+COUNTIF(T5,$C$32)+COUNTIF(T5,$C$43)+COUNTIF(T5,$C$54)+COUNTIF(T5,$C$65)+COUNTIF(T5,$C$76)+COUNTIF(T5,$C$87)+ COUNTIF(T5,$C$98)+COUNTIF(T5,$C$109)+COUNTIF(T5,$C$120)+COUNTIF(T5,$C$131)+COUNTIF(T5,$C$142)+COUNTIF(T5,$C$153)+COUNTIF(T5,$C$164)+COUNTIF(T5,$C$175)+ COUNTIF(T5,$C$186)+COUNTIF(T5,$C$197)+COUNTIF(T5,$C$208)+COUNTIF(T5,$C$219)+COUNTIF(T5,$C$230)+COUNTIF(T5,$C$241)+COUNTIF(T5,$C$252)+COUNTIF(T5,$C$263)+COUNTIF(T5,$C$274)+COUNTIF(T5,$C$285)+COUNTIF(T5,$C$296)+COUNTIF(T5,$C$307)+COUNTIF(T5,$C$318)+COUNTIF(T5,$C$329)+COUNTIF(T5,$C$451)+COUNTIF(T5,$C$462)+COUNTIF(T5,$C$473)+COUNTIF(T5,$C$484) -> 0 | AC5: =COUNTIF(T5,$C$334)+COUNTIF(T5,$C$345)+COUNTIF(T5,$C$356)+COUNTIF(T5,$C$367)+COUNTIF(T5,$C$378)+COUNTIF(T5,$C$389)+COUNTIF(T5,$C$400)+COUNTIF(T5,$C$411)+COUNTIF(T5,$C$422)+COUNTIF(T5,$C$433)+COUNTIF(T5,$C$477)+COUNTIF(T5,$C$488)+COUNTIF(T5,$C$499)+COUNTIF(T5,$C$510)+COUNTIF(T5,$C$521)+COUNTIF(T5,$C$532) -> 0 | AD5: =COUNTIF(T5,$C$335)+COUNTIF(T5,$C$346)+COUNTIF(T5,$C$357)+COUNTIF(T5,$C$368)+COUNTIF(T5,$C$379)+COUNTIF(T5,$C$390)+COUNTIF(T5,$C$401)+COUNTIF(T5,$C$412)+COUNTIF(T5,$C$423)+COUNTIF(T5,$C$434)+COUNTIF(T5,$C$478)+COUNTIF(T5,$C$489)+COUNTIF(T5,$C$500)+COUNTIF(T5,$C$511)+COUNTIF(T5,$C$522)+COUNTIF(T5,$C$533) -> 0 | AE5: =COUNTIF(T5,$C$336)+COUNTIF(T5,$C$347)+COUNTIF(T5,$C$358)+COUNTIF(T5,$C$369)+COUNTIF(T5,$C$380)+COUNTIF(T5,$C$391)+COUNTIF(T5,$C$402)+COUNTIF(T5,$C$413)+COUNTIF(T5,$C$424)+COUNTIF(T5,$C$435)+COUNTIF(T5,$C$479)+COUNTIF(T5,$C$490)+COUNTIF(T5,$C$501)+COUNTIF(T5,$C$512)+COUNTIF(T5,$C$523)+COUNTIF(T5,$C$534) -> 0 | AF5: =COUNTIF(T5,$C$337)+COUNTIF(T5,$C$348)+COUNTIF(T5,$C$359)+COUNTIF(T5,$C$370)+COUNTIF(T5,$C$381)+COUNTIF(T5,$C$392)+COUNTIF(T5,$C$403)+COUNTIF(T5,$C$414)+COUNTIF(T5,$C$425)+COUNTIF(T5,$C$436)+COUNTIF(T5,$C$480)+COUNTIF(T5,$C$491)+COUNTIF(T5,$C$502)+COUNTIF(T5,$C$513)+COUNTIF(T5,$C$524)+COUNTIF(T5,$C$535) -> 0 | AG5: =COUNTIF(T5,$C$338)+COUNTIF(T5,$C$349)+COUNTIF(T5,$C$360)+COUNTIF(T5,$C$371)+COUNTIF(T5,$C$382)+COUNTIF(T5,$C$393)+COUNTIF(T5,$C$404)+COUNTIF(T5,$C$415)+COUNTIF(T5,$C$426)+COUNTIF(T5,$C$437)+COUNTIF(T5,$C$481)+COUNTIF(T5,$C$492)+COUNTIF(T5,$C$503)+COUNTIF(T5,$C$514)+COUNTIF(T5,$C$525)+COUNTIF(T5,$C$536) -> 0 | AH5: =COUNTIF(T5,$C$339)+COUNTIF(T5,$C$350)+COUNTIF(T5,$C$361)+COUNTIF(T5,$C$372)+COUNTIF(T5,$C$383)+COUNTIF(T5,$C$394)+COUNTIF(T5,$C$405)+COUNTIF(T5,$C$416)+COUNTIF(T5,$C$427)+COUNTIF(T5,$C$438)+COUNTIF(T5,$C$482)+COUNTIF(T5,$C$493)+COUNTIF(T5,$C$504)+COUNTIF(T5,$C$515)+COUNTIF(T5,$C$526)+COUNTIF(T5,$C$537) -> 0 | AJ5: =IF(#REF!>0,#REF!,"") -> #REF! | AK5: =COUNTIF(AJ5,$E$3)+COUNTIF(AJ5,$E$14)+COUNTIF(AJ5,$E$25)+COUNTIF(AJ5,$E$36)+COUNTIF(AJ5,$E$47)+COUNTIF(AJ5,$E$58)+COUNTIF(AJ5,$E$69)+COUNTIF(AJ5,$E$80)+COUNTIF(AJ5,$E$91)+COUNTIF(AJ5,$E$102)+COUNTIF(AJ5,$E$113)+COUNTIF(AJ5,$E$124)+COUNTIF(AJ5,$E$135)+COUNTIF(AJ5,$E$146)+COUNTIF(AJ5,$E$157)+COUNTIF(AJ5,$E$168)+COUNTIF(AJ5,$E$179)+COUNTIF(AJ5,$E$190)+COUNTIF(AJ5,$E$201)+COUNTIF(AJ5,$E$212)+COUNTIF(AJ5,$E$223)+COUNTIF(AJ5,$E$234)+COUNTIF(AJ5,$E$245)+COUNTIF(AJ5,$E$256)+COUNTIF(AJ5,$E$267)+COUNTIF(AJ5,$E$278)+COUNTIF(AJ5,$E$289)+COUNTIF(AJ5,$E$300)+COUNTIF(AJ5,$E$311)+COUNTIF(AJ5,$E$322)+COUNTIF(AJ5,$E$444)+COUNTIF(AJ5,$E$455)+COUNTIF(AJ5,$E$466)+COUNTIF(AJ5,$E$477) -> 0 | AL5: =COUNTIF(AJ5,$E$4)+COUNTIF(AJ5,$E$15)+COUNTIF(AJ5,$E$26)+COUNTIF(AJ5,$E$37)+COUNTIF(AJ5,$E$48)+COUNTIF(AJ5,$E$59)+COUNTIF(AJ5,$E$70)+COUNTIF(AJ5,$E$81)+COUNTIF(AJ5,$E$92)+COUNTIF(AJ5,$E$103)+COUNTIF(AJ5,$E$114)+COUNTIF(AJ5,$E$125)+COUNTIF(AJ5,$E$136)+COUNTIF(AJ5,$E$147)+COUNTIF(AJ5,$E$158)+COUNTIF(AJ5,$E$169)+COUNTIF(AJ5,$E$180)+COUNTIF(AJ5,$E$191)+COUNTIF(AJ5,$E$202)+COUNTIF(AJ5,$E$213)+COUNTIF(AJ5,$E$224)+COUNTIF(AJ5,$E$235)+COUNTIF(AJ5,$E$246)+COUNTIF(AJ5,$E$257)+COUNTIF(AJ5,$E$268)+COUNTIF(AJ5,$E$279)+COUNTIF(AJ5,$E$290)+COUNTIF(AJ5,$E$301)+COUNTIF(AJ5,$E$312)+COUNTIF(AJ5,$E$323)+COUNTIF(AJ5,$E$445)+COUNTIF(AJ5,$E$456)+COUNTIF(AJ5,$E$467)+COUNTIF(AJ5,$E$478) -> 0 | AM5: =COUNTIF(AJ5,$E$5)+COUNTIF(AJ5,$E$16)+COUNTIF(AJ5,$E$27)+COUNTIF(AJ5,$E$38)+COUNTIF(AJ5,$E$49)+COUNTIF(AJ5,$E$60)+COUNTIF(AJ5,$E$71)+COUNTIF(AJ5,$E$82)+COUNTIF(AJ5,$E$93)+COUNTIF(AJ5,$E$104)+COUNTIF(AJ5,$E$115)+COUNTIF(AJ5,$E$126)+COUNTIF(AJ5,$E$137)+COUNTIF(AJ5,$E$148)+COUNTIF(AJ5,$E$159)+COUNTIF(AJ5,$E$170)+COUNTIF(AJ5,$E$181)+COUNTIF(AJ5,$E$192)+COUNTIF(AJ5,$E$203)+COUNTIF(AJ5,$E$214)+COUNTIF(AJ5,$E$225)+COUNTIF(AJ5,$E$236)+COUNTIF(AJ5,$E$247)+COUNTIF(AJ5,$E$258)+COUNTIF(AJ5,$E$269)+COUNTIF(AJ5,$E$280)+COUNTIF(AJ5,$E$291)+COUNTIF(AJ5,$E$302)+COUNTIF(AJ5,$E$313)+COUNTIF(AJ5,$E$324)+COUNTIF(AJ5,$E$446)+COUNTIF(AJ5,$E$457)+COUNTIF(AJ5,$E$468)+COUNTIF(AJ5,$E$479) -> 0 | AN5: =COUNTIF(AJ5,$E$6)+COUNTIF(AJ5,$E$17)+COUNTIF(AJ5,$E$28)+COUNTIF(AJ5,$E$39)+COUNTIF(AJ5,$E$50)+COUNTIF(AJ5,$E$61)+COUNTIF(AJ5,$E$72)+COUNTIF(AJ5,$E$83)+COUNTIF(AJ5,$E$94)+COUNTIF(AJ5,$E$105)+COUNTIF(AJ5,$E$116)+COUNTIF(AJ5,$E$127)+COUNTIF(AJ5,$E$138)+COUNTIF(AJ5,$E$149)+COUNTIF(AJ5,$E$160)+COUNTIF(AJ5,$E$171)+COUNTIF(AJ5,$E$182)+COUNTIF(AJ5,$E$193)+COUNTIF(AJ5,$E$204)+COUNTIF(AJ5,$E$215)+COUNTIF(AJ5,$E$226)+COUNTIF(AJ5,$E$237)+COUNTIF(AJ5,$E$248)+COUNTIF(AJ5,$E$259)+COUNTIF(AJ5,$E$270)+COUNTIF(AJ5,$E$281)+COUNTIF(AJ5,$E$292)+COUNTIF(AJ5,$E$303)+COUNTIF(AJ5,$E$314)+COUNTIF(AJ5,$E$325)+COUNTIF(AJ5,$E$447)+COUNTIF(AJ5,$E$458)+COUNTIF(AJ5,$E$469)+COUNTIF(AJ5,$E$480) -> 0 | AO5: =COUNTIF(AJ5,$E$7)+COUNTIF(AJ5,$E$18)+COUNTIF(AJ5,$E$29)+COUNTIF(AJ5,$E$40)+COUNTIF(AJ5,$E$51)+COUNTIF(AJ5,$E$62)+COUNTIF(AJ5,$E$73)+COUNTIF(AJ5,$E$84)+COUNTIF(AJ5,$E$95)+COUNTIF(AJ5,$E$106)+COUNTIF(AJ5,$E$117)+COUNTIF(AJ5,$E$128)+COUNTIF(AJ5,$E$139)+COUNTIF(AJ5,$E$150)+COUNTIF(AJ5,$E$161)+COUNTIF(AJ5,$E$172)+COUNTIF(AJ5,$E$183)+COUNTIF(AJ5,$E$194)+COUNTIF(AJ5,$E$205)+COUNTIF(AJ5,$E$216)+COUNTIF(AJ5,$E$227)+COUNTIF(AJ5,$E$238)+COUNTIF(AJ5,$E$249)+COUNTIF(AJ5,$E$260)+COUNTIF(AJ5,$E$271)+COUNTIF(AJ5,$E$282)+COUNTIF(AJ5,$E$293)+COUNTIF(AJ5,$E$304)+COUNTIF(AJ5,$E$315)+COUNTIF(AJ5,$E$326)+COUNTIF(AJ5,$E$448)+COUNTIF(AJ5,$E$459)+COUNTIF(AJ5,$E$470)+COUNTIF(AJ5,$E$481) -> 0 | AP5: =COUNTIF(AJ5,$E$8)+COUNTIF(AJ5,$E$19)+COUNTIF(AJ5,$E$30)+COUNTIF(AJ5,$E$41)+COUNTIF(AJ5,$E$52)+COUNTIF(AJ5,$E$63)+COUNTIF(AJ5,$E$74)+COUNTIF(AJ5,$E$85)+COUNTIF(AJ5,$E$96)+COUNTIF(AJ5,$E$107)+COUNTIF(AJ5,$E$118)+COUNTIF(AJ5,$E$129)+COUNTIF(AJ5,$E$140)+COUNTIF(AJ5,$E$151)+COUNTIF(AJ5,$E$162)+COUNTIF(AJ5,$E$173)+COUNTIF(AJ5,$E$184)+COUNTIF(AJ5,$E$195)+COUNTIF(AJ5,$E$206)+COUNTIF(AJ5,$E$217)+COUNTIF(AJ5,$E$228)+COUNTIF(AJ5,$E$239)+COUNTIF(AJ5,$E$250)+COUNTIF(AJ5,$E$261)+COUNTIF(AJ5,$E$272)+COUNTIF(AJ5,$E$283)+COUNTIF(AJ5,$E$294)+COUNTIF(AJ5,$E$305)+COUNTIF(AJ5,$E$316)+COUNTIF(AJ5,$E$327)+COUNTIF(AJ5,$E$449)+COUNTIF(AJ5,$E$460)+COUNTIF(AJ5,$E$471)+COUNTIF(AJ5,$E$482) -> 0 | AQ5: =COUNTIF(AJ5,$E$9)+COUNTIF(AJ5,$E$20)+COUNTIF(AJ5,$E$31)+COUNTIF(AJ5,$E$42)+COUNTIF(AJ5,$E$53)+COUNTIF(AJ5,$E$64)+COUNTIF(AJ5,$E$75)+COUNTIF(AJ5,$E$86)+COUNTIF(AJ5,$E$97)+COUNTIF(AJ5,$E$108)+COUNTIF(AJ5,$E$119)+COUNTIF(AJ5,$E$130)+COUNTIF(AJ5,$E$141)+COUNTIF(AJ5,$E$152)+COUNTIF(AJ5,$E$163)+COUNTIF(AJ5,$E$174)+ COUNTIF(AJ5,$E$185)+COUNTIF(AJ5,$E$196)+COUNTIF(AJ5,$E$207)+COUNTIF(AJ5,$E$218)+COUNTIF(AJ5,$E$229)+COUNTIF(AJ5,$E$240)+COUNTIF(AJ5,$E$251)+COUNTIF(AJ5,$E$262)+COUNTIF(AJ5,$E$273)+COUNTIF(AJ5,$E$284)+COUNTIF(AJ5,$E$295)+COUNTIF(AJ5,$E$306)+COUNTIF(AJ5,$E$317)+COUNTIF(AJ5,$E$328)+COUNTIF(AJ5,$E$450)+COUNTIF(AJ5,$E$461)+COUNTIF(AJ5,$E$472)+COUNTIF(AJ5,$E$483) -> 0 | AR5: =COUNTIF(AJ5,$E$10)+COUNTIF(AJ5,$E$21)+COUNTIF(AJ5,$E$32)+COUNTIF(AJ5,$E$43)+COUNTIF(AJ5,$E$54)+COUNTIF(AJ5,$E$65)+COUNTIF(AJ5,$E$76)+COUNTIF(AJ5,$E$87)+ COUNTIF(AJ5,$E$98)+COUNTIF(AJ5,$E$109)+COUNTIF(AJ5,$E$120)+COUNTIF(AJ5,$E$131)+COUNTIF(AJ5,$E$142)+COUNTIF(AJ5,$E$153)+COUNTIF(AJ5,$E$164)+COUNTIF(AJ5,$E$175)+ COUNTIF(AJ5,$E$186)+COUNTIF(AJ5,$E$197)+COUNTIF(AJ5,$E$208)+COUNTIF(AJ5,$E$219)+COUNTIF(AJ5,$E$230)+COUNTIF(AJ5,$E$241)+COUNTIF(AJ5,$E$252)+COUNTIF(AJ5,$E$263)+COUNTIF(AJ5,$E$274)+COUNTIF(AJ5,$E$285)+COUNTIF(AJ5,$E$296)+COUNTIF(AJ5,$E$307)+COUNTIF(AJ5,$E$318)+COUNTIF(AJ5,$E$329)+COUNTIF(AJ5,$E$451)+COUNTIF(AJ5,$E$462)+COUNTIF(AJ5,$E$473)+COUNTIF(AJ5,$E$484) -> 0 | AS5: =COUNTIF(AJ5,$E$334)+COUNTIF(AJ5,$E$345)+COUNTIF(AJ5,$E$356)+COUNTIF(AJ5,$E$367)+COUNTIF(AJ5,$E$378)+COUNTIF(AJ5,$E$389)+COUNTIF(AJ5,$E$400)+COUNTIF(AJ5,$E$411)+COUNTIF(AJ5,$E$422)+COUNTIF(AJ5,$E$433)+COUNTIF(AJ5,$E$477)+COUNTIF(AJ5,$E$488)+COUNTIF(AJ5,$E$499)+COUNTIF(AJ5,$E$510)+COUNTIF(AJ5,$E$521)+COUNTIF(AJ5,$E$532) -> 0 | AT5: =COUNTIF(AJ5,$E$335)+COUNTIF(AJ5,$E$346)+COUNTIF(AJ5,$E$357)+COUNTIF(AJ5,$E$368)+COUNTIF(AJ5,$E$379)+COUNTIF(AJ5,$E$390)+COUNTIF(AJ5,$E$401)+COUNTIF(AJ5,$E$412)+COUNTIF(AJ5,$E$423)+COUNTIF(AJ5,$E$434)+COUNTIF(AJ5,$E$478)+COUNTIF(AJ5,$E$489)+COUNTIF(AJ5,$E$500)+COUNTIF(AJ5,$E$511)+COUNTIF(AJ5,$E$522)+COUNTIF(AJ5,$E$533) -> 0 | AU5: =COUNTIF(AJ5,$E$336)+COUNTIF(AJ5,$E$347)+COUNTIF(AJ5,$E$358)+COUNTIF(AJ5,$E$369)+COUNTIF(AJ5,$E$380)+COUNTIF(AJ5,$E$391)+COUNTIF(AJ5,$E$402)+COUNTIF(AJ5,$E$413)+COUNTIF(AJ5,$E$424)+COUNTIF(AJ5,$E$435)+COUNTIF(AJ5,$E$479)+COUNTIF(AJ5,$E$490)+COUNTIF(AJ5,$E$501)+COUNTIF(AJ5,$E$512)+COUNTIF(AJ5,$E$523)+COUNTIF(AJ5,$E$534) -> 0 | AV5: =COUNTIF(AJ5,$E$337)+COUNTIF(AJ5,$E$348)+COUNTIF(AJ5,$E$359)+COUNTIF(AJ5,$E$370)+COUNTIF(AJ5,$E$381)+COUNTIF(AJ5,$E$392)+COUNTIF(AJ5,$E$403)+COUNTIF(AJ5,$E$414)+COUNTIF(AJ5,$E$425)+COUNTIF(AJ5,$E$436)+COUNTIF(AJ5,$E$480)+COUNTIF(AJ5,$E$491)+COUNTIF(AJ5,$E$502)+COUNTIF(AJ5,$E$513)+COUNTIF(AJ5,$E$524)+COUNTIF(AJ5,$E$535) -> 0 | AW5: =COUNTIF(AJ5,$E$338)+COUNTIF(AJ5,$E$349)+COUNTIF(AJ5,$E$360)+COUNTIF(AJ5,$E$371)+COUNTIF(AJ5,$E$382)+COUNTIF(AJ5,$E$393)+COUNTIF(AJ5,$E$404)+COUNTIF(AJ5,$E$415)+COUNTIF(AJ5,$E$426)+COUNTIF(AJ5,$E$437)+COUNTIF(AJ5,$E$481)+COUNTIF(AJ5,$E$492)+COUNTIF(AJ5,$E$503)+COUNTIF(AJ5,$E$514)+COUNTIF(AJ5,$E$525)+COUNTIF(AJ5,$E$536) -> 0 | AX5: =COUNTIF(AJ5,$E$339)+COUNTIF(AJ5,$E$350)+COUNTIF(AJ5,$E$361)+COUNTIF(AJ5,$E$372)+COUNTIF(AJ5,$E$383)+COUNTIF(AJ5,$E$394)+COUNTIF(AJ5,$E$405)+COUNTIF(AJ5,$E$416)+COUNTIF(AJ5,$E$427)+COUNTIF(AJ5,$E$438)+COUNTIF(AJ5,$E$482)+COUNTIF(AJ5,$E$493)+COUNTIF(AJ5,$E$504)+COUNTIF(AJ5,$E$515)+COUNTIF(AJ5,$E$526)+COUNTIF(AJ5,$E$537) -> 0 | AZ5: =IF(#REF!>0,#REF!,"") -> #REF! | BA5: =COUNTIF(AZ5,$G$3)+COUNTIF(AZ5,$G$14)+COUNTIF(AZ5,$G$25)+COUNTIF(AZ5,$G$36)+COUNTIF(AZ5,$G$47)+COUNTIF(AZ5,$G$58)+COUNTIF(AZ5,$G$69)+COUNTIF(AZ5,$G$80)+COUNTIF(AZ5,$G$91)+COUNTIF(AZ5,$G$102)+COUNTIF(AZ5,$G$113)+COUNTIF(AZ5,$G$124)+COUNTIF(AZ5,$G$135)+COUNTIF(AZ5,$G$146)+COUNTIF(AZ5,$G$157)+COUNTIF(AZ5,$G$168)+COUNTIF(AZ5,$G$179)+COUNTIF(AZ5,$G$190)+COUNTIF(AZ5,$G$201)+COUNTIF(AZ5,$G$212)+COUNTIF(AZ5,$G$223)+COUNTIF(AZ5,$G$234)+COUNTIF(AZ5,$G$245)+COUNTIF(AZ5,$G$256)+COUNTIF(AZ5,$G$267)+COUNTIF(AZ5,$G$278)+COUNTIF(AZ5,$G$289)+COUNTIF(AZ5,$G$300)+COUNTIF(AZ5,$G$311)+COUNTIF(AZ5,$G$322)+COUNTIF(AZ5,$G$444)+COUNTIF(AZ5,$G$455)+COUNTIF(AZ5,$G$466)+COUNTIF(AZ5,$G$477) -> 0 | BB5: =COUNTIF(AZ5,$G$4)+COUNTIF(AZ5,$G$15)+COUNTIF(AZ5,$G$26)+COUNTIF(AZ5,$G$37)+COUNTIF(AZ5,$G$48)+COUNTIF(AZ5,$G$59)+COUNTIF(AZ5,$G$70)+COUNTIF(AZ5,$G$81)+COUNTIF(AZ5,$G$92)+COUNTIF(AZ5,$G$103)+COUNTIF(AZ5,$G$114)+COUNTIF(AZ5,$G$125)+COUNTIF(AZ5,$G$136)+COUNTIF(AZ5,$G$147)+COUNTIF(AZ5,$G$158)+COUNTIF(AZ5,$G$169)+COUNTIF(AZ5,$G$180)+COUNTIF(AZ5,$G$191)+COUNTIF(AZ5,$G$202)+COUNTIF(AZ5,$G$213)+COUNTIF(AZ5,$G$224)+COUNTIF(AZ5,$G$235)+COUNTIF(AZ5,$G$246)+COUNTIF(AZ5,$G$257)+COUNTIF(AZ5,$G$268)+COUNTIF(AZ5,$G$279)+COUNTIF(AZ5,$G$290)+COUNTIF(AZ5,$G$301)+COUNTIF(AZ5,$G$312)+COUNTIF(AZ5,$G$323)+COUNTIF(AZ5,$G$445)+COUNTIF(AZ5,$G$456)+COUNTIF(AZ5,$G$467)+COUNTIF(AZ5,$G$478) -> 0 | BC5: =COUNTIF(AZ5,$G$5)+COUNTIF(AZ5,$G$16)+COUNTIF(AZ5,$G$27)+COUNTIF(AZ5,$G$38)+COUNTIF(AZ5,$G$49)+COUNTIF(AZ5,$G$60)+COUNTIF(AZ5,$G$71)+COUNTIF(AZ5,$G$82)+COUNTIF(AZ5,$G$93)+COUNTIF(AZ5,$G$104)+COUNTIF(AZ5,$G$115)+COUNTIF(AZ5,$G$126)+COUNTIF(AZ5,$G$137)+COUNTIF(AZ5,$G$148)+COUNTIF(AZ5,$G$159)+COUNTIF(AZ5,$G$170)+COUNTIF(AZ5,$G$181)+COUNTIF(AZ5,$G$192)+COUNTIF(AZ5,$G$203)+COUNTIF(AZ5,$G$214)+COUNTIF(AZ5,$G$225)+COUNTIF(AZ5,$G$236)+COUNTIF(AZ5,$G$247)+COUNTIF(AZ5,$G$258)+COUNTIF(AZ5,$G$269)+COUNTIF(AZ5,$G$280)+COUNTIF(AZ5,$G$291)+COUNTIF(AZ5,$G$302)+COUNTIF(AZ5,$G$313)+COUNTIF(AZ5,$G$324)+COUNTIF(AZ5,$G$446)+COUNTIF(AZ5,$G$457)+COUNTIF(AZ5,$G$468)+COUNTIF(AZ5,$G$479) -> 0 | BD5: =COUNTIF(AZ5,$G$6)+COUNTIF(AZ5,$G$17)+COUNTIF(AZ5,$G$28)+COUNTIF(AZ5,$G$39)+COUNTIF(AZ5,$G$50)+COUNTIF(AZ5,$G$61)+COUNTIF(AZ5,$G$72)+COUNTIF(AZ5,$G$83)+COUNTIF(AZ5,$G$94)+COUNTIF(AZ5,$G$105)+COUNTIF(AZ5,$G$116)+COUNTIF(AZ5,$G$127)+COUNTIF(AZ5,$G$138)+COUNTIF(AZ5,$G$149)+COUNTIF(AZ5,$G$160)+COUNTIF(AZ5,$G$171)+COUNTIF(AZ5,$G$182)+COUNTIF(AZ5,$G$193)+COUNTIF(AZ5,$G$204)+COUNTIF(AZ5,$G$215)+COUNTIF(AZ5,$G$226)+COUNTIF(AZ5,$G$237)+COUNTIF(AZ5,$G$248)+COUNTIF(AZ5,$G$259)+COUNTIF(AZ5,$G$270)+COUNTIF(AZ5,$G$281)+COUNTIF(AZ5,$G$292)+COUNTIF(AZ5,$G$303)+COUNTIF(AZ5,$G$314)+COUNTIF(AZ5,$G$325)+COUNTIF(AZ5,$G$447)+COUNTIF(AZ5,$G$458)+COUNTIF(AZ5,$G$469)+COUNTIF(AZ5,$G$480) -> 0 | BE5: =COUNTIF(AZ5,$G$7)+COUNTIF(AZ5,$G$18)+COUNTIF(AZ5,$G$29)+COUNTIF(AZ5,$G$40)+COUNTIF(AZ5,$G$51)+COUNTIF(AZ5,$G$62)+COUNTIF(AZ5,$G$73)+COUNTIF(AZ5,$G$84)+COUNTIF(AZ5,$G$95)+COUNTIF(AZ5,$G$106)+COUNTIF(AZ5,$G$117)+COUNTIF(AZ5,$G$128)+COUNTIF(AZ5,$G$139)+COUNTIF(AZ5,$G$150)+COUNTIF(AZ5,$G$161)+COUNTIF(AZ5,$G$172)+COUNTIF(AZ5,$G$183)+COUNTIF(AZ5,$G$194)+COUNTIF(AZ5,$G$205)+COUNTIF(AZ5,$G$216)+COUNTIF(AZ5,$G$227)+COUNTIF(AZ5,$G$238)+COUNTIF(AZ5,$G$249)+COUNTIF(AZ5,$G$260)+COUNTIF(AZ5,$G$271)+COUNTIF(AZ5,$G$282)+COUNTIF(AZ5,$G$293)+COUNTIF(AZ5,$G$304)+COUNTIF(AZ5,$G$315)+COUNTIF(AZ5,$G$326)+COUNTIF(AZ5,$G$448)+COUNTIF(AZ5,$G$459)+COUNTIF(AZ5,$G$470)+COUNTIF(AZ5,$G$481) -> 0 | BF5: =COUNTIF(AZ5,$G$8)+COUNTIF(AZ5,$G$19)+COUNTIF(AZ5,$G$30)+COUNTIF(AZ5,$G$41)+COUNTIF(AZ5,$G$52)+COUNTIF(AZ5,$G$63)+COUNTIF(AZ5,$G$74)+COUNTIF(AZ5,$G$85)+COUNTIF(AZ5,$G$96)+COUNTIF(AZ5,$G$107)+COUNTIF(AZ5,$G$118)+COUNTIF(AZ5,$G$129)+COUNTIF(AZ5,$G$140)+COUNTIF(AZ5,$G$151)+COUNTIF(AZ5,$G$162)+COUNTIF(AZ5,$G$173)+COUNTIF(AZ5,$G$184)+COUNTIF(AZ5,$G$195)+COUNTIF(AZ5,$G$206)+COUNTIF(AZ5,$G$217)+COUNTIF(AZ5,$G$228)+COUNTIF(AZ5,$G$239)+COUNTIF(AZ5,$G$250)+COUNTIF(AZ5,$G$261)+COUNTIF(AZ5,$G$272)+COUNTIF(AZ5,$G$283)+COUNTIF(AZ5,$G$294)+COUNTIF(AZ5,$G$305)+COUNTIF(AZ5,$G$316)+COUNTIF(AZ5,$G$327)+COUNTIF(AZ5,$G$449)+COUNTIF(AZ5,$G$460)+COUNTIF(AZ5,$G$471)+COUNTIF(AZ5,$G$482) -> 0 | BG5: =COUNTIF(AZ5,$G$9)+COUNTIF(AZ5,$G$20)+COUNTIF(AZ5,$G$31)+COUNTIF(AZ5,$G$42)+COUNTIF(AZ5,$G$53)+COUNTIF(AZ5,$G$64)+COUNTIF(AZ5,$G$75)+COUNTIF(AZ5,$G$86)+COUNTIF(AZ5,$G$97)+COUNTIF(AZ5,$G$108)+COUNTIF(AZ5,$G$119)+COUNTIF(AZ5,$G$130)+COUNTIF(AZ5,$G$141)+COUNTIF(AZ5,$G$152)+COUNTIF(AZ5,$G$163)+COUNTIF(AZ5,$G$174)+ COUNTIF(AZ5,$G$185)+COUNTIF(AZ5,$G$196)+COUNTIF(AZ5,$G$207)+COUNTIF(AZ5,$G$218)+COUNTIF(AZ5,$G$229)+COUNTIF(AZ5,$G$240)+COUNTIF(AZ5,$G$251)+COUNTIF(AZ5,$G$262)+COUNTIF(AZ5,$G$273)+COUNTIF(AZ5,$G$284)+COUNTIF(AZ5,$G$295)+COUNTIF(AZ5,$G$306)+COUNTIF(AZ5,$G$317)+COUNTIF(AZ5,$G$328)+COUNTIF(AZ5,$G$450)+COUNTIF(AZ5,$G$461)+COUNTIF(AZ5,$G$472)+COUNTIF(AZ5,$G$483) -> 0 | BH5: =COUNTIF(AZ5,$G$10)+COUNTIF(AZ5,$G$21)+COUNTIF(AZ5,$G$32)+COUNTIF(AZ5,$G$43)+COUNTIF(AZ5,$G$54)+COUNTIF(AZ5,$G$65)+COUNTIF(AZ5,$G$76)+COUNTIF(AZ5,$G$87)+ COUNTIF(AZ5,$G$98)+COUNTIF(AZ5,$G$109)+COUNTIF(AZ5,$G$120)+COUNTIF(AZ5,$G$131)+COUNTIF(AZ5,$G$142)+COUNTIF(AZ5,$G$153)+COUNTIF(AZ5,$G$164)+COUNTIF(AZ5,$G$175)+ COUNTIF(AZ5,$G$186)+COUNTIF(AZ5,$G$197)+COUNTIF(AZ5,$G$208)+COUNTIF(AZ5,$G$219)+COUNTIF(AZ5,$G$230)+COUNTIF(AZ5,$G$241)+COUNTIF(AZ5,$G$252)+COUNTIF(AZ5,$G$263)+COUNTIF(AZ5,$G$274)+COUNTIF(AZ5,$G$285)+COUNTIF(AZ5,$G$296)+COUNTIF(AZ5,$G$307)+COUNTIF(AZ5,$G$318)+COUNTIF(AZ5,$G$329)+COUNTIF(AZ5,$G$451)+COUNTIF(AZ5,$G$462)+COUNTIF(AZ5,$G$473)+COUNTIF(AZ5,$G$484) -> 0 | BI5: =COUNTIF(AZ5,$G$334)+COUNTIF(AZ5,$G$345)+COUNTIF(AZ5,$G$356)+COUNTIF(AZ5,$G$367)+COUNTIF(AZ5,$G$378)+COUNTIF(AZ5,$G$389)+COUNTIF(AZ5,$G$400)+COUNTIF(AZ5,$G$411)+COUNTIF(AZ5,$G$422)+COUNTIF(AZ5,$G$433)+COUNTIF(AZ5,$G$477)+COUNTIF(AZ5,$G$488)+COUNTIF(AZ5,$G$499)+COUNTIF(AZ5,$G$510)+COUNTIF(AZ5,$G$521)+COUNTIF(AZ5,$G$532) -> 0 | BJ5: =COUNTIF(AZ5,$G$335)+COUNTIF(AZ5,$G$346)+COUNTIF(AZ5,$G$357)+COUNTIF(AZ5,$G$368)+COUNTIF(AZ5,$G$379)+COUNTIF(AZ5,$G$390)+COUNTIF(AZ5,$G$401)+COUNTIF(AZ5,$G$412)+COUNTIF(AZ5,$G$423)+COUNTIF(AZ5,$G$434)+COUNTIF(AZ5,$G$478)+COUNTIF(AZ5,$G$489)+COUNTIF(AZ5,$G$500)+COUNTIF(AZ5,$G$511)+COUNTIF(AZ5,$G$522)+COUNTIF(AZ5,$G$533) -> 0 | BK5: =COUNTIF(AZ5,$G$336)+COUNTIF(AZ5,$G$347)+COUNTIF(AZ5,$G$358)+COUNTIF(AZ5,$G$369)+COUNTIF(AZ5,$G$380)+COUNTIF(AZ5,$G$391)+COUNTIF(AZ5,$G$402)+COUNTIF(AZ5,$G$413)+COUNTIF(AZ5,$G$424)+COUNTIF(AZ5,$G$435)+COUNTIF(AZ5,$G$479)+COUNTIF(AZ5,$G$490)+COUNTIF(AZ5,$G$501)+COUNTIF(AZ5,$G$512)+COUNTIF(AZ5,$G$523)+COUNTIF(AZ5,$G$534) -> 0 | BL5: =COUNTIF(AZ5,$G$337)+COUNTIF(AZ5,$G$348)+COUNTIF(AZ5,$G$359)+COUNTIF(AZ5,$G$370)+COUNTIF(AZ5,$G$381)+COUNTIF(AZ5,$G$392)+COUNTIF(AZ5,$G$403)+COUNTIF(AZ5,$G$414)+COUNTIF(AZ5,$G$425)+COUNTIF(AZ5,$G$436)+COUNTIF(AZ5,$G$480)+COUNTIF(AZ5,$G$491)+COUNTIF(AZ5,$G$502)+COUNTIF(AZ5,$G$513)+COUNTIF(AZ5,$G$524)+COUNTIF(AZ5,$G$535) -> 0 | BM5: =COUNTIF(AZ5,$G$338)+COUNTIF(AZ5,$G$349)+COUNTIF(AZ5,$G$360)+COUNTIF(AZ5,$G$371)+COUNTIF(AZ5,$G$382)+COUNTIF(AZ5,$G$393)+COUNTIF(AZ5,$G$404)+COUNTIF(AZ5,$G$415)+COUNTIF(AZ5,$G$426)+COUNTIF(AZ5,$G$437)+COUNTIF(AZ5,$G$481)+COUNTIF(AZ5,$G$492)+COUNTIF(AZ5,$G$503)+COUNTIF(AZ5,$G$514)+COUNTIF(AZ5,$G$525)+COUNTIF(AZ5,$G$536) -> 0 | BN5: =COUNTIF(AZ5,$G$339)+COUNTIF(AZ5,$G$350)+COUNTIF(AZ5,$G$361)+COUNTIF(AZ5,$G$372)+COUNTIF(AZ5,$G$383)+COUNTIF(AZ5,$G$394)+COUNTIF(AZ5,$G$405)+COUNTIF(AZ5,$G$416)+COUNTIF(AZ5,$G$427)+COUNTIF(AZ5,$G$438)+COUNTIF(AZ5,$G$482)+COUNTIF(AZ5,$G$493)+COUNTIF(AZ5,$G$504)+COUNTIF(AZ5,$G$515)+COUNTIF(AZ5,$G$526)+COUNTIF(AZ5,$G$537) -> 0 | BP5: =IF(#REF!>0,#REF!,"") -> #REF! | BQ5: =COUNTIF(BP5,$I$3)+COUNTIF(BP5,$I$14)+COUNTIF(BP5,$I$25)+COUNTIF(BP5,$I$36)+COUNTIF(BP5,$I$47)+COUNTIF(BP5,$I$58)+COUNTIF(BP5,$I$69)+COUNTIF(BP5,$I$80)+COUNTIF(BP5,$I$91)+COUNTIF(BP5,$I$102)+COUNTIF(BP5,$I$113)+COUNTIF(BP5,$I$124)+COUNTIF(BP5,$I$135)+COUNTIF(BP5,$I$146)+COUNTIF(BP5,$I$157)+COUNTIF(BP5,$I$168)+COUNTIF(BP5,$I$179)+COUNTIF(BP5,$I$190)+COUNTIF(BP5,$I$201)+COUNTIF(BP5,$I$212)+COUNTIF(BP5,$I$223)+COUNTIF(BP5,$I$234)+COUNTIF(BP5,$I$245)+COUNTIF(BP5,$I$256)+COUNTIF(BP5,$I$267)+COUNTIF(BP5,$I$278)+COUNTIF(BP5,$I$289)+COUNTIF(BP5,$I$300)+COUNTIF(BP5,$I$311)+COUNTIF(BP5,$I$322)+COUNTIF(BP5,$I$444)+COUNTIF(BP5,$I$455)+COUNTIF(BP5,$I$466)+COUNTIF(BP5,$I$477) -> 0 | BR5: =COUNTIF(BP5,$I$4)+COUNTIF(BP5,$I$15)+COUNTIF(BP5,$I$26)+COUNTIF(BP5,$I$37)+COUNTIF(BP5,$I$48)+COUNTIF(BP5,$I$59)+COUNTIF(BP5,$I$70)+COUNTIF(BP5,$I$81)+COUNTIF(BP5,$I$92)+COUNTIF(BP5,$I$103)+COUNTIF(BP5,$I$114)+COUNTIF(BP5,$I$125)+COUNTIF(BP5,$I$136)+COUNTIF(BP5,$I$147)+COUNTIF(BP5,$I$158)+COUNTIF(BP5,$I$169)+COUNTIF(BP5,$I$180)+COUNTIF(BP5,$I$191)+COUNTIF(BP5,$I$202)+COUNTIF(BP5,$I$213)+COUNTIF(BP5,$I$224)+COUNTIF(BP5,$I$235)+COUNTIF(BP5,$I$246)+COUNTIF(BP5,$I$257)+COUNTIF(BP5,$I$268)+COUNTIF(BP5,$I$279)+COUNTIF(BP5,$I$290)+COUNTIF(BP5,$I$301)+COUNTIF(BP5,$I$312)+COUNTIF(BP5,$I$323)+COUNTIF(BP5,$I$445)+COUNTIF(BP5,$I$456)+COUNTIF(BP5,$I$467)+COUNTIF(BP5,$I$478) -> 0 | BS5: =COUNTIF(BP5,$I$5)+COUNTIF(BP5,$I$16)+COUNTIF(BP5,$I$27)+COUNTIF(BP5,$I$38)+COUNTIF(BP5,$I$49)+COUNTIF(BP5,$I$60)+COUNTIF(BP5,$I$71)+COUNTIF(BP5,$I$82)+COUNTIF(BP5,$I$93)+COUNTIF(BP5,$I$104)+COUNTIF(BP5,$I$115)+COUNTIF(BP5,$I$126)+COUNTIF(BP5,$I$137)+COUNTIF(BP5,$I$148)+COUNTIF(BP5,$I$159)+COUNTIF(BP5,$I$170)+COUNTIF(BP5,$I$181)+COUNTIF(BP5,$I$192)+COUNTIF(BP5,$I$203)+COUNTIF(BP5,$I$214)+COUNTIF(BP5,$I$225)+COUNTIF(BP5,$I$236)+COUNTIF(BP5,$I$247)+COUNTIF(BP5,$I$258)+COUNTIF(BP5,$I$269)+COUNTIF(BP5,$I$280)+COUNTIF(BP5,$I$291)+COUNTIF(BP5,$I$302)+COUNTIF(BP5,$I$313)+COUNTIF(BP5,$I$324)+COUNTIF(BP5,$I$446)+COUNTIF(BP5,$I$457)+COUNTIF(BP5,$I$468)+COUNTIF(BP5,$I$479) -> 0 | BT5: =COUNTIF(BP5,$I$6)+COUNTIF(BP5,$I$17)+COUNTIF(BP5,$I$28)+COUNTIF(BP5,$I$39)+COUNTIF(BP5,$I$50)+COUNTIF(BP5,$I$61)+COUNTIF(BP5,$I$72)+COUNTIF(BP5,$I$83)+COUNTIF(BP5,$I$94)+COUNTIF(BP5,$I$105)+COUNTIF(BP5,$I$116)+COUNTIF(BP5,$I$127)+COUNTIF(BP5,$I$138)+COUNTIF(BP5,$I$149)+COUNTIF(BP5,$I$160)+COUNTIF(BP5,$I$171)+COUNTIF(BP5,$I$182)+COUNTIF(BP5,$I$193)+COUNTIF(BP5,$I$204)+COUNTIF(BP5,$I$215)+COUNTIF(BP5,$I$226)+COUNTIF(BP5,$I$237)+COUNTIF(BP5,$I$248)+COUNTIF(BP5,$I$259)+COUNTIF(BP5,$I$270)+COUNTIF(BP5,$I$281)+COUNTIF(BP5,$I$292)+COUNTIF(BP5,$I$303)+COUNTIF(BP5,$I$314)+COUNTIF(BP5,$I$325)+COUNTIF(BP5,$I$447)+COUNTIF(BP5,$I$458)+COUNTIF(BP5,$I$469)+COUNTIF(BP5,$I$480) -> 0 | BU5: =COUNTIF(BP5,$I$7)+COUNTIF(BP5,$I$18)+COUNTIF(BP5,$I$29)+COUNTIF(BP5,$I$40)+COUNTIF(BP5,$I$51)+COUNTIF(BP5,$I$62)+COUNTIF(BP5,$I$73)+COUNTIF(BP5,$I$84)+COUNTIF(BP5,$I$95)+COUNTIF(BP5,$I$106)+COUNTIF(BP5,$I$117)+COUNTIF(BP5,$I$128)+COUNTIF(BP5,$I$139)+COUNTIF(BP5,$I$150)+COUNTIF(BP5,$I$161)+COUNTIF(BP5,$I$172)+COUNTIF(BP5,$I$183)+COUNTIF(BP5,$I$194)+COUNTIF(BP5,$I$205)+COUNTIF(BP5,$I$216)+COUNTIF(BP5,$I$227)+COUNTIF(BP5,$I$238)+COUNTIF(BP5,$I$249)+COUNTIF(BP5,$I$260)+COUNTIF(BP5,$I$271)+COUNTIF(BP5,$I$282)+COUNTIF(BP5,$I$293)+COUNTIF(BP5,$I$304)+COUNTIF(BP5,$I$315)+COUNTIF(BP5,$I$326)+COUNTIF(BP5,$I$448)+COUNTIF(BP5,$I$459)+COUNTIF(BP5,$I$470)+COUNTIF(BP5,$I$481) -> 0 | BV5: =COUNTIF(BP5,$I$8)+COUNTIF(BP5,$I$19)+COUNTIF(BP5,$I$30)+COUNTIF(BP5,$I$41)+COUNTIF(BP5,$I$52)+COUNTIF(BP5,$I$63)+COUNTIF(BP5,$I$74)+COUNTIF(BP5,$I$85)+COUNTIF(BP5,$I$96)+COUNTIF(BP5,$I$107)+COUNTIF(BP5,$I$118)+COUNTIF(BP5,$I$129)+COUNTIF(BP5,$I$140)+COUNTIF(BP5,$I$151)+COUNTIF(BP5,$I$162)+COUNTIF(BP5,$I$173)+COUNTIF(BP5,$I$184)+COUNTIF(BP5,$I$195)+COUNTIF(BP5,$I$206)+COUNTIF(BP5,$I$217)+COUNTIF(BP5,$I$228)+COUNTIF(BP5,$I$239)+COUNTIF(BP5,$I$250)+COUNTIF(BP5,$I$261)+COUNTIF(BP5,$I$272)+COUNTIF(BP5,$I$283)+COUNTIF(BP5,$I$294)+COUNTIF(BP5,$I$305)+COUNTIF(BP5,$I$316)+COUNTIF(BP5,$I$327)+COUNTIF(BP5,$I$449)+COUNTIF(BP5,$I$460)+COUNTIF(BP5,$I$471)+COUNTIF(BP5,$I$482) -> 0 | BW5: =COUNTIF(BP5,$I$9)+COUNTIF(BP5,$I$20)+COUNTIF(BP5,$I$31)+COUNTIF(BP5,$I$42)+COUNTIF(BP5,$I$53)+COUNTIF(BP5,$I$64)+COUNTIF(BP5,$I$75)+COUNTIF(BP5,$I$86)+COUNTIF(BP5,$I$97)+COUNTIF(BP5,$I$108)+COUNTIF(BP5,$I$119)+COUNTIF(BP5,$I$130)+COUNTIF(BP5,$I$141)+COUNTIF(BP5,$I$152)+COUNTIF(BP5,$I$163)+COUNTIF(BP5,$I$174)+ COUNTIF(BP5,$I$185)+COUNTIF(BP5,$I$196)+COUNTIF(BP5,$I$207)+COUNTIF(BP5,$I$218)+COUNTIF(BP5,$I$229)+COUNTIF(BP5,$I$240)+COUNTIF(BP5,$I$251)+COUNTIF(BP5,$I$262)+COUNTIF(BP5,$I$273)+COUNTIF(BP5,$I$284)+COUNTIF(BP5,$I$295)+COUNTIF(BP5,$I$306)+COUNTIF(BP5,$I$317)+COUNTIF(BP5,$I$328)+COUNTIF(BP5,$I$450)+COUNTIF(BP5,$I$461)+COUNTIF(BP5,$I$472)+COUNTIF(BP5,$I$483) -> 0 | BX5: =COUNTIF(BP5,$I$10)+COUNTIF(BP5,$I$21)+COUNTIF(BP5,$I$32)+COUNTIF(BP5,$I$43)+COUNTIF(BP5,$I$54)+COUNTIF(BP5,$I$65)+COUNTIF(BP5,$I$76)+COUNTIF(BP5,$I$87)+ COUNTIF(BP5,$I$98)+COUNTIF(BP5,$I$109)+COUNTIF(BP5,$I$120)+COUNTIF(BP5,$I$131)+COUNTIF(BP5,$I$142)+COUNTIF(BP5,$I$153)+COUNTIF(BP5,$I$164)+COUNTIF(BP5,$I$175)+ COUNTIF(BP5,$I$186)+COUNTIF(BP5,$I$197)+COUNTIF(BP5,$I$208)+COUNTIF(BP5,$I$219)+COUNTIF(BP5,$I$230)+COUNTIF(BP5,$I$241)+COUNTIF(BP5,$I$252)+COUNTIF(BP5,$I$263)+COUNTIF(BP5,$I$274)+COUNTIF(BP5,$I$285)+COUNTIF(BP5,$I$296)+COUNTIF(BP5,$I$307)+COUNTIF(BP5,$I$318)+COUNTIF(BP5,$I$329)+COUNTIF(BP5,$I$451)+COUNTIF(BP5,$I$462)+COUNTIF(BP5,$I$473)+COUNTIF(BP5,$I$484) -> 0 | BY5: =COUNTIF(BP5,$I$334)+COUNTIF(BP5,$I$345)+COUNTIF(BP5,$I$356)+COUNTIF(BP5,$I$367)+COUNTIF(BP5,$I$378)+COUNTIF(BP5,$I$389)+COUNTIF(BP5,$I$400)+COUNTIF(BP5,$I$411)+COUNTIF(BP5,$I$422)+COUNTIF(BP5,$I$433)+COUNTIF(BP5,$I$477)+COUNTIF(BP5,$I$488)+COUNTIF(BP5,$I$499)+COUNTIF(BP5,$I$510)+COUNTIF(BP5,$I$521)+COUNTIF(BP5,$I$532) -> 0 | BZ5: =COUNTIF(BP5,$I$335)+COUNTIF(BP5,$I$346)+COUNTIF(BP5,$I$357)+COUNTIF(BP5,$I$368)+COUNTIF(BP5,$I$379)+COUNTIF(BP5,$I$390)+COUNTIF(BP5,$I$401)+COUNTIF(BP5,$I$412)+COUNTIF(BP5,$I$423)+COUNTIF(BP5,$I$434)+COUNTIF(BP5,$I$478)+COUNTIF(BP5,$I$489)+COUNTIF(BP5,$I$500)+COUNTIF(BP5,$I$511)+COUNTIF(BP5,$I$522)+COUNTIF(BP5,$I$533) -> 0 | CA5: =COUNTIF(BP5,$I$336)+COUNTIF(BP5,$I$347)+COUNTIF(BP5,$I$358)+COUNTIF(BP5,$I$369)+COUNTIF(BP5,$I$380)+COUNTIF(BP5,$I$391)+COUNTIF(BP5,$I$402)+COUNTIF(BP5,$I$413)+COUNTIF(BP5,$I$424)+COUNTIF(BP5,$I$435)+COUNTIF(BP5,$I$479)+COUNTIF(BP5,$I$490)+COUNTIF(BP5,$I$501)+COUNTIF(BP5,$I$512)+COUNTIF(BP5,$I$523)+COUNTIF(BP5,$I$534) -> 0 | CB5: =COUNTIF(BP5,$I$337)+COUNTIF(BP5,$I$348)+COUNTIF(BP5,$I$359)+COUNTIF(BP5,$I$370)+COUNTIF(BP5,$I$381)+COUNTIF(BP5,$I$392)+COUNTIF(BP5,$I$403)+COUNTIF(BP5,$I$414)+COUNTIF(BP5,$I$425)+COUNTIF(BP5,$I$436)+COUNTIF(BP5,$I$480)+COUNTIF(BP5,$I$491)+COUNTIF(BP5,$I$502)+COUNTIF(BP5,$I$513)+COUNTIF(BP5,$I$524)+COUNTIF(BP5,$I$535) -> 0 | CC5: =COUNTIF(BP5,$I$338)+COUNTIF(BP5,$I$349)+COUNTIF(BP5,$I$360)+COUNTIF(BP5,$I$371)+COUNTIF(BP5,$I$382)+COUNTIF(BP5,$I$393)+COUNTIF(BP5,$I$404)+COUNTIF(BP5,$I$415)+COUNTIF(BP5,$I$426)+COUNTIF(BP5,$I$437)+COUNTIF(BP5,$I$481)+COUNTIF(BP5,$I$492)+COUNTIF(BP5,$I$503)+COUNTIF(BP5,$I$514)+COUNTIF(BP5,$I$525)+COUNTIF(BP5,$I$536) -> 0 | CD5: =COUNTIF(BP5,$I$339)+COUNTIF(BP5,$I$350)+COUNTIF(BP5,$I$361)+COUNTIF(BP5,$I$372)+COUNTIF(BP5,$I$383)+COUNTIF(BP5,$I$394)+COUNTIF(BP5,$I$405)+COUNTIF(BP5,$I$416)+COUNTIF(BP5,$I$427)+COUNTIF(BP5,$I$438)+COUNTIF(BP5,$I$482)+COUNTIF(BP5,$I$493)+COUNTIF(BP5,$I$504)+COUNTIF(BP5,$I$515)+COUNTIF(BP5,$I$526)+COUNTIF(BP5,$I$537) -> 0 | CF5: =IF(#REF!>0,#REF!,"") -> #REF! | CG5: =COUNTIF(CF5,$K$3)+COUNTIF(CF5,$K$14)+COUNTIF(CF5,$K$25)+COUNTIF(CF5,$K$36)+COUNTIF(CF5,$K$47)+COUNTIF(CF5,$K$58)+COUNTIF(CF5,$K$69)+COUNTIF(CF5,$K$80)+COUNTIF(CF5,$K$91)+COUNTIF(CF5,$K$102)+COUNTIF(CF5,$K$113)+COUNTIF(CF5,$K$124)+COUNTIF(CF5,$K$135)+COUNTIF(CF5,$K$146)+COUNTIF(CF5,$K$157)+COUNTIF(CF5,$K$168)+COUNTIF(CF5,$K$179)+COUNTIF(CF5,$K$190)+COUNTIF(CF5,$K$201)+COUNTIF(CF5,$K$212)+COUNTIF(CF5,$K$223)+COUNTIF(CF5,$K$234)+COUNTIF(CF5,$K$245)+COUNTIF(CF5,$K$256)+COUNTIF(CF5,$K$267)+COUNTIF(CF5,$K$278)+COUNTIF(CF5,$K$289)+COUNTIF(CF5,$K$300)+COUNTIF(CF5,$K$311)+COUNTIF(CF5,$K$322)+COUNTIF(CF5,$K$444)+COUNTIF(CF5,$K$455)+COUNTIF(CF5,$K$466)+COUNTIF(CF5,$K$477) -> 0 | CH5: =COUNTIF(CF5,$K$4)+COUNTIF(CF5,$K$15)+COUNTIF(CF5,$K$26)+COUNTIF(CF5,$K$37)+COUNTIF(CF5,$K$48)+COUNTIF(CF5,$K$59)+COUNTIF(CF5,$K$70)+COUNTIF(CF5,$K$81)+COUNTIF(CF5,$K$92)+COUNTIF(CF5,$K$103)+COUNTIF(CF5,$K$114)+COUNTIF(CF5,$K$125)+COUNTIF(CF5,$K$136)+COUNTIF(CF5,$K$147)+COUNTIF(CF5,$K$158)+COUNTIF(CF5,$K$169)+COUNTIF(CF5,$K$180)+COUNTIF(CF5,$K$191)+COUNTIF(CF5,$K$202)+COUNTIF(CF5,$K$213)+COUNTIF(CF5,$K$224)+COUNTIF(CF5,$K$235)+COUNTIF(CF5,$K$246)+COUNTIF(CF5,$K$257)+COUNTIF(CF5,$K$268)+COUNTIF(CF5,$K$279)+COUNTIF(CF5,$K$290)+COUNTIF(CF5,$K$301)+COUNTIF(CF5,$K$312)+COUNTIF(CF5,$K$323)+COUNTIF(CF5,$K$445)+COUNTIF(CF5,$K$456)+COUNTIF(CF5,$K$467)+COUNTIF(CF5,$K$478) -> 0 | CI5: =COUNTIF(CF5,$K$5)+COUNTIF(CF5,$K$16)+COUNTIF(CF5,$K$27)+COUNTIF(CF5,$K$38)+COUNTIF(CF5,$K$49)+COUNTIF(CF5,$K$60)+COUNTIF(CF5,$K$71)+COUNTIF(CF5,$K$82)+COUNTIF(CF5,$K$93)+COUNTIF(CF5,$K$104)+COUNTIF(CF5,$K$115)+COUNTIF(CF5,$K$126)+COUNTIF(CF5,$K$137)+COUNTIF(CF5,$K$148)+COUNTIF(CF5,$K$159)+COUNTIF(CF5,$K$170)+COUNTIF(CF5,$K$181)+COUNTIF(CF5,$K$192)+COUNTIF(CF5,$K$203)+COUNTIF(CF5,$K$214)+COUNTIF(CF5,$K$225)+COUNTIF(CF5,$K$236)+COUNTIF(CF5,$K$247)+COUNTIF(CF5,$K$258)+COUNTIF(CF5,$K$269)+COUNTIF(CF5,$K$280)+COUNTIF(CF5,$K$291)+COUNTIF(CF5,$K$302)+COUNTIF(CF5,$K$313)+COUNTIF(CF5,$K$324)+COUNTIF(CF5,$K$446)+COUNTIF(CF5,$K$457)+COUNTIF(CF5,$K$468)+COUNTIF(CF5,$K$479) -> 0 | CJ5: =COUNTIF(CF5,$K$6)+COUNTIF(CF5,$K$17)+COUNTIF(CF5,$K$28)+COUNTIF(CF5,$K$39)+COUNTIF(CF5,$K$50)+COUNTIF(CF5,$K$61)+COUNTIF(CF5,$K$72)+COUNTIF(CF5,$K$83)+COUNTIF(CF5,$K$94)+COUNTIF(CF5,$K$105)+COUNTIF(CF5,$K$116)+COUNTIF(CF5,$K$127)+COUNTIF(CF5,$K$138)+COUNTIF(CF5,$K$149)+COUNTIF(CF5,$K$160)+COUNTIF(CF5,$K$171)+COUNTIF(CF5,$K$182)+COUNTIF(CF5,$K$193)+COUNTIF(CF5,$K$204)+COUNTIF(CF5,$K$215)+COUNTIF(CF5,$K$226)+COUNTIF(CF5,$K$237)+COUNTIF(CF5,$K$248)+COUNTIF(CF5,$K$259)+COUNTIF(CF5,$K$270)+COUNTIF(CF5,$K$281)+COUNTIF(CF5,$K$292)+COUNTIF(CF5,$K$303)+COUNTIF(CF5,$K$314)+COUNTIF(CF5,$K$325)+COUNTIF(CF5,$K$447)+COUNTIF(CF5,$K$458)+COUNTIF(CF5,$K$469)+COUNTIF(CF5,$K$480) -> 0 | CK5: =COUNTIF(CF5,$K$7)+COUNTIF(CF5,$K$18)+COUNTIF(CF5,$K$29)+COUNTIF(CF5,$K$40)+COUNTIF(CF5,$K$51)+COUNTIF(CF5,$K$62)+COUNTIF(CF5,$K$73)+COUNTIF(CF5,$K$84)+COUNTIF(CF5,$K$95)+COUNTIF(CF5,$K$106)+COUNTIF(CF5,$K$117)+COUNTIF(CF5,$K$128)+COUNTIF(CF5,$K$139)+COUNTIF(CF5,$K$150)+COUNTIF(CF5,$K$161)+COUNTIF(CF5,$K$172)+COUNTIF(CF5,$K$183)+COUNTIF(CF5,$K$194)+COUNTIF(CF5,$K$205)+COUNTIF(CF5,$K$216)+COUNTIF(CF5,$K$227)+COUNTIF(CF5,$K$238)+COUNTIF(CF5,$K$249)+COUNTIF(CF5,$K$260)+COUNTIF(CF5,$K$271)+COUNTIF(CF5,$K$282)+COUNTIF(CF5,$K$293)+COUNTIF(CF5,$K$304)+COUNTIF(CF5,$K$315)+COUNTIF(CF5,$K$326)+COUNTIF(CF5,$K$448)+COUNTIF(CF5,$K$459)+COUNTIF(CF5,$K$470)+COUNTIF(CF5,$K$481) -> 0 | CL5: =COUNTIF(CF5,$K$8)+COUNTIF(CF5,$K$19)+COUNTIF(CF5,$K$30)+COUNTIF(CF5,$K$41)+COUNTIF(CF5,$K$52)+COUNTIF(CF5,$K$63)+COUNTIF(CF5,$K$74)+COUNTIF(CF5,$K$85)+COUNTIF(CF5,$K$96)+COUNTIF(CF5,$K$107)+COUNTIF(CF5,$K$118)+COUNTIF(CF5,$K$129)+COUNTIF(CF5,$K$140)+COUNTIF(CF5,$K$151)+COUNTIF(CF5,$K$162)+COUNTIF(CF5,$K$173)+COUNTIF(CF5,$K$184)+COUNTIF(CF5,$K$195)+COUNTIF(CF5,$K$206)+COUNTIF(CF5,$K$217)+COUNTIF(CF5,$K$228)+COUNTIF(CF5,$K$239)+COUNTIF(CF5,$K$250)+COUNTIF(CF5,$K$261)+COUNTIF(CF5,$K$272)+COUNTIF(CF5,$K$283)+COUNTIF(CF5,$K$294)+COUNTIF(CF5,$K$305)+COUNTIF(CF5,$K$316)+COUNTIF(CF5,$K$327)+COUNTIF(CF5,$K$449)+COUNTIF(CF5,$K$460)+COUNTIF(CF5,$K$471)+COUNTIF(CF5,$K$482) -> 0 | CM5: =COUNTIF(CF5,$K$9)+COUNTIF(CF5,$K$20)+COUNTIF(CF5,$K$31)+COUNTIF(CF5,$K$42)+COUNTIF(CF5,$K$53)+COUNTIF(CF5,$K$64)+COUNTIF(CF5,$K$75)+COUNTIF(CF5,$K$86)+COUNTIF(CF5,$K$97)+COUNTIF(CF5,$K$108)+COUNTIF(CF5,$K$119)+COUNTIF(CF5,$K$130)+COUNTIF(CF5,$K$141)+COUNTIF(CF5,$K$152)+COUNTIF(CF5,$K$163)+COUNTIF(CF5,$K$174)+ COUNTIF(CF5,$K$185)+COUNTIF(CF5,$K$196)+COUNTIF(CF5,$K$207)+COUNTIF(CF5,$K$218)+COUNTIF(CF5,$K$229)+COUNTIF(CF5,$K$240)+COUNTIF(CF5,$K$251)+COUNTIF(CF5,$K$262)+COUNTIF(CF5,$K$273)+COUNTIF(CF5,$K$284)+COUNTIF(CF5,$K$295)+COUNTIF(CF5,$K$306)+COUNTIF(CF5,$K$317)+COUNTIF(CF5,$K$328)+COUNTIF(CF5,$K$450)+COUNTIF(CF5,$K$461)+COUNTIF(CF5,$K$472)+COUNTIF(CF5,$K$483) -> 0 | CN5: =COUNTIF(CF5,$K$10)+COUNTIF(CF5,$K$21)+COUNTIF(CF5,$K$32)+COUNTIF(CF5,$K$43)+COUNTIF(CF5,$K$54)+COUNTIF(CF5,$K$65)+COUNTIF(CF5,$K$76)+COUNTIF(CF5,$K$87)+ COUNTIF(CF5,$K$98)+COUNTIF(CF5,$K$109)+COUNTIF(CF5,$K$120)+COUNTIF(CF5,$K$131)+COUNTIF(CF5,$K$142)+COUNTIF(CF5,$K$153)+COUNTIF(CF5,$K$164)+COUNTIF(CF5,$K$175)+ COUNTIF(CF5,$K$186)+COUNTIF(CF5,$K$197)+COUNTIF(CF5,$K$208)+COUNTIF(CF5,$K$219)+COUNTIF(CF5,$K$230)+COUNTIF(CF5,$K$241)+COUNTIF(CF5,$K$252)+COUNTIF(CF5,$K$263)+COUNTIF(CF5,$K$274)+COUNTIF(CF5,$K$285)+COUNTIF(CF5,$K$296)+COUNTIF(CF5,$K$307)+COUNTIF(CF5,$K$318)+COUNTIF(CF5,$K$329)+COUNTIF(CF5,$K$451)+COUNTIF(CF5,$K$462)+COUNTIF(CF5,$K$473)+COUNTIF(CF5,$K$484) -> 0 | CO5: =COUNTIF(CF5,$K$334)+COUNTIF(CF5,$K$345)+COUNTIF(CF5,$K$356)+COUNTIF(CF5,$K$367)+COUNTIF(CF5,$K$378)+COUNTIF(CF5,$K$389)+COUNTIF(CF5,$K$400)+COUNTIF(CF5,$K$411)+COUNTIF(CF5,$K$422)+COUNTIF(CF5,$K$433)+COUNTIF(CF5,$K$477)+COUNTIF(CF5,$K$488)+COUNTIF(CF5,$K$499)+COUNTIF(CF5,$K$510)+COUNTIF(CF5,$K$521)+COUNTIF(CF5,$K$532) -> 0 | CP5: =COUNTIF(CF5,$K$335)+COUNTIF(CF5,$K$346)+COUNTIF(CF5,$K$357)+COUNTIF(CF5,$K$368)+COUNTIF(CF5,$K$379)+COUNTIF(CF5,$K$390)+COUNTIF(CF5,$K$401)+COUNTIF(CF5,$K$412)+COUNTIF(CF5,$K$423)+COUNTIF(CF5,$K$434)+COUNTIF(CF5,$K$478)+COUNTIF(CF5,$K$489)+COUNTIF(CF5,$K$500)+COUNTIF(CF5,$K$511)+COUNTIF(CF5,$K$522)+COUNTIF(CF5,$K$533) -> 0 | CQ5: =COUNTIF(CF5,$K$336)+COUNTIF(CF5,$K$347)+COUNTIF(CF5,$K$358)+COUNTIF(CF5,$K$369)+COUNTIF(CF5,$K$380)+COUNTIF(CF5,$K$391)+COUNTIF(CF5,$K$402)+COUNTIF(CF5,$K$413)+COUNTIF(CF5,$K$424)+COUNTIF(CF5,$K$435)+COUNTIF(CF5,$K$479)+COUNTIF(CF5,$K$490)+COUNTIF(CF5,$K$501)+COUNTIF(CF5,$K$512)+COUNTIF(CF5,$K$523)+COUNTIF(CF5,$K$534) -> 0 | CR5: =COUNTIF(CF5,$K$337)+COUNTIF(CF5,$K$348)+COUNTIF(CF5,$K$359)+COUNTIF(CF5,$K$370)+COUNTIF(CF5,$K$381)+COUNTIF(CF5,$K$392)+COUNTIF(CF5,$K$403)+COUNTIF(CF5,$K$414)+COUNTIF(CF5,$K$425)+COUNTIF(CF5,$K$436)+COUNTIF(CF5,$K$480)+COUNTIF(CF5,$K$491)+COUNTIF(CF5,$K$502)+COUNTIF(CF5,$K$513)+COUNTIF(CF5,$K$524)+COUNTIF(CF5,$K$535) -> 0 | CS5: =COUNTIF(CF5,$K$338)+COUNTIF(CF5,$K$349)+COUNTIF(CF5,$K$360)+COUNTIF(CF5,$K$371)+COUNTIF(CF5,$K$382)+COUNTIF(CF5,$K$393)+COUNTIF(CF5,$K$404)+COUNTIF(CF5,$K$415)+COUNTIF(CF5,$K$426)+COUNTIF(CF5,$K$437)+COUNTIF(CF5,$K$481)+COUNTIF(CF5,$K$492)+COUNTIF(CF5,$K$503)+COUNTIF(CF5,$K$514)+COUNTIF(CF5,$K$525)+COUNTIF(CF5,$K$536) -> 0 | CT5: =COUNTIF(CF5,$K$339)+COUNTIF(CF5,$K$350)+COUNTIF(CF5,$K$361)+COUNTIF(CF5,$K$372)+COUNTIF(CF5,$K$383)+COUNTIF(CF5,$K$394)+COUNTIF(CF5,$K$405)+COUNTIF(CF5,$K$416)+COUNTIF(CF5,$K$427)+COUNTIF(CF5,$K$438)+COUNTIF(CF5,$K$482)+COUNTIF(CF5,$K$493)+COUNTIF(CF5,$K$504)+COUNTIF(CF5,$K$515)+COUNTIF(CF5,$K$526)+COUNTIF(CF5,$K$537) -> 0 | CV5: =IF(#REF!>0,#REF!,"") -> #REF! | CW5: =U5+AK5+BA5+BQ5+CG5 -> 0 | CX5: =V5+AL5+BB5+BR5+CH5 -> 0 | CY5: =W5+AM5+BC5+BS5+CI5 -> 0 | CZ5: =X5+AN5+BD5+BT5+CJ5 -> 0 | DA5: =Y5+AO5+BE5+BU5+CK5 -> 0 | DB5: =Z5+AP5+BF5+BV5+CL5 -> 0 | DC5: =AA5+AQ5+BG5+BW5+CM5 -> 0 | DD5: =AB5+AR5+BH5+BX5+CN5 -> 0 | ... DJ5: =AH5+AX5+BN5+CD5+CT5 -> 0 | DL5: Çarşamba | DM5: =IFERROR(VLOOKUP(G3,$AZ$3:$BN$60,2,0),0) -> 0 | DN5: =IFERROR(VLOOKUP(G4,$AZ$3:$BN$60,3,0),0) -> 0 | DO5: =IFERROR(VLOOKUP(G5,$AZ$3:$BN$60,4,0),0) -> 0 | DP5: =IFERROR(VLOOKUP(G6,$AZ$3:$BN$60,5,0),0) -> 0 | DQ5: =IFERROR(VLOOKUP(G7,$AZ$3:$BN$60,6,0),0) -> 0 | DR5: =IFERROR(VLOOKUP(G8,$AZ$3:$BN$60,7,0),0) -> 0 | DS5: =IFERROR(VLOOKUP(G9,$AZ$3:$BN$60,8,0),0) -> 0 | DT5: =IFERROR(VLOOKUP(G10,$AZ$3:$BN$60,9,0),0) -> 0
A6: 11.00 | M6: =A6 -> 11.00 | N6: =IF(DP3=0,"BOŞ",IF(DP3=1,"DERS",IF(DP3>1,"ÇAKIŞMA"))) -> BOŞ | O6: =IF(DP4=0,"BOŞ",IF(DP4=1,"DERS",IF(DP4>1,"ÇAKIŞMA"))) -> BOŞ | P6: =IF(DP5=0,"BOŞ",IF(DP5=1,"DERS",IF(DP5>1,"ÇAKIŞMA"))) -> BOŞ | Q6: =IF(DP6=0,"BOŞ",IF(DP6=1,"DERS",IF(DP6>1,"ÇAKIŞMA"))) -> BOŞ | R6: =IF(DP7=0,"BOŞ",IF(DP7=1,"DERS",IF(DP7>1,"ÇAKIŞMA"))) -> BOŞ | T6: =IF(#REF!>0,#REF!,"") -> #REF! | U6: =COUNTIF(T6,$C$3)+COUNTIF(T6,$C$14)+COUNTIF(T6,$C$25)+COUNTIF(T6,$C$36)+COUNTIF(T6,$C$47)+COUNTIF(T6,$C$58)+COUNTIF(T6,$C$69)+COUNTIF(T6,$C$80)+COUNTIF(T6,$C$91)+COUNTIF(T6,$C$102)+COUNTIF(T6,$C$113)+COUNTIF(T6,$C$124)+COUNTIF(T6,$C$135)+COUNTIF(T6,$C$146)+COUNTIF(T6,$C$157)+COUNTIF(T6,$C$168)+COUNTIF(T6,$C$179)+COUNTIF(T6,$C$190)+COUNTIF(T6,$C$201)+COUNTIF(T6,$C$212)+COUNTIF(T6,$C$223)+COUNTIF(T6,$C$234)+COUNTIF(T6,$C$245)+COUNTIF(T6,$C$256)+COUNTIF(T6,$C$267)+COUNTIF(T6,$C$278)+COUNTIF(T6,$C$289)+COUNTIF(T6,$C$300)+COUNTIF(T6,$C$311)+COUNTIF(T6,$C$322)+COUNTIF(T6,$C$444)+COUNTIF(T6,$C$455)+COUNTIF(T6,$C$466)+COUNTIF(T6,$C$477) -> 0 | V6: =COUNTIF(T6,$C$4)+COUNTIF(T6,$C$15)+COUNTIF(T6,$C$26)+COUNTIF(T6,$C$37)+COUNTIF(T6,$C$48)+COUNTIF(T6,$C$59)+COUNTIF(T6,$C$70)+COUNTIF(T6,$C$81)+COUNTIF(T6,$C$92)+COUNTIF(T6,$C$103)+COUNTIF(T6,$C$114)+COUNTIF(T6,$C$125)+COUNTIF(T6,$C$136)+COUNTIF(T6,$C$147)+COUNTIF(T6,$C$158)+COUNTIF(T6,$C$169)+COUNTIF(T6,$C$180)+COUNTIF(T6,$C$191)+COUNTIF(T6,$C$202)+COUNTIF(T6,$C$213)+COUNTIF(T6,$C$224)+COUNTIF(T6,$C$235)+COUNTIF(T6,$C$246)+COUNTIF(T6,$C$257)+COUNTIF(T6,$C$268)+COUNTIF(T6,$C$279)+COUNTIF(T6,$C$290)+COUNTIF(T6,$C$301)+COUNTIF(T6,$C$312)+COUNTIF(T6,$C$323)+COUNTIF(T6,$C$445)+COUNTIF(T6,$C$456)+COUNTIF(T6,$C$467)+COUNTIF(T6,$C$478) -> 0 | W6: =COUNTIF(T6,$C$5)+COUNTIF(T6,$C$16)+COUNTIF(T6,$C$27)+COUNTIF(T6,$C$38)+COUNTIF(T6,$C$49)+COUNTIF(T6,$C$60)+COUNTIF(T6,$C$71)+COUNTIF(T6,$C$82)+COUNTIF(T6,$C$93)+COUNTIF(T6,$C$104)+COUNTIF(T6,$C$115)+COUNTIF(T6,$C$126)+COUNTIF(T6,$C$137)+COUNTIF(T6,$C$148)+COUNTIF(T6,$C$159)+COUNTIF(T6,$C$170)+COUNTIF(T6,$C$181)+COUNTIF(T6,$C$192)+COUNTIF(T6,$C$203)+COUNTIF(T6,$C$214)+COUNTIF(T6,$C$225)+COUNTIF(T6,$C$236)+COUNTIF(T6,$C$247)+COUNTIF(T6,$C$258)+COUNTIF(T6,$C$269)+COUNTIF(T6,$C$280)+COUNTIF(T6,$C$291)+COUNTIF(T6,$C$302)+COUNTIF(T6,$C$313)+COUNTIF(T6,$C$324)+COUNTIF(T6,$C$446)+COUNTIF(T6,$C$457)+COUNTIF(T6,$C$468)+COUNTIF(T6,$C$479) -> 0 | X6: =COUNTIF(T6,$C$6)+COUNTIF(T6,$C$17)+COUNTIF(T6,$C$28)+COUNTIF(T6,$C$39)+COUNTIF(T6,$C$50)+COUNTIF(T6,$C$61)+COUNTIF(T6,$C$72)+COUNTIF(T6,$C$83)+COUNTIF(T6,$C$94)+COUNTIF(T6,$C$105)+COUNTIF(T6,$C$116)+COUNTIF(T6,$C$127)+COUNTIF(T6,$C$138)+COUNTIF(T6,$C$149)+COUNTIF(T6,$C$160)+COUNTIF(T6,$C$171)+COUNTIF(T6,$C$182)+COUNTIF(T6,$C$193)+COUNTIF(T6,$C$204)+COUNTIF(T6,$C$215)+COUNTIF(T6,$C$226)+COUNTIF(T6,$C$237)+COUNTIF(T6,$C$248)+COUNTIF(T6,$C$259)+COUNTIF(T6,$C$270)+COUNTIF(T6,$C$281)+COUNTIF(T6,$C$292)+COUNTIF(T6,$C$303)+COUNTIF(T6,$C$314)+COUNTIF(T6,$C$325)+COUNTIF(T6,$C$447)+COUNTIF(T6,$C$458)+COUNTIF(T6,$C$469)+COUNTIF(T6,$C$480) -> 0 | Y6: =COUNTIF(T6,$C$7)+COUNTIF(T6,$C$18)+COUNTIF(T6,$C$29)+COUNTIF(T6,$C$40)+COUNTIF(T6,$C$51)+COUNTIF(T6,$C$62)+COUNTIF(T6,$C$73)+COUNTIF(T6,$C$84)+COUNTIF(T6,$C$95)+COUNTIF(T6,$C$106)+COUNTIF(T6,$C$117)+COUNTIF(T6,$C$128)+COUNTIF(T6,$C$139)+COUNTIF(T6,$C$150)+COUNTIF(T6,$C$161)+COUNTIF(T6,$C$172)+COUNTIF(T6,$C$183)+COUNTIF(T6,$C$194)+COUNTIF(T6,$C$205)+COUNTIF(T6,$C$216)+COUNTIF(T6,$C$227)+COUNTIF(T6,$C$238)+COUNTIF(T6,$C$249)+COUNTIF(T6,$C$260)+COUNTIF(T6,$C$271)+COUNTIF(T6,$C$282)+COUNTIF(T6,$C$293)+COUNTIF(T6,$C$304)+COUNTIF(T6,$C$315)+COUNTIF(T6,$C$326)+COUNTIF(T6,$C$448)+COUNTIF(T6,$C$459)+COUNTIF(T6,$C$470)+COUNTIF(T6,$C$481) -> 0 | Z6: =COUNTIF(T6,$C$8)+COUNTIF(T6,$C$19)+COUNTIF(T6,$C$30)+COUNTIF(T6,$C$41)+COUNTIF(T6,$C$52)+COUNTIF(T6,$C$63)+COUNTIF(T6,$C$74)+COUNTIF(T6,$C$85)+COUNTIF(T6,$C$96)+COUNTIF(T6,$C$107)+COUNTIF(T6,$C$118)+COUNTIF(T6,$C$129)+COUNTIF(T6,$C$140)+COUNTIF(T6,$C$151)+COUNTIF(T6,$C$162)+COUNTIF(T6,$C$173)+COUNTIF(T6,$C$184)+COUNTIF(T6,$C$195)+COUNTIF(T6,$C$206)+COUNTIF(T6,$C$217)+COUNTIF(T6,$C$228)+COUNTIF(T6,$C$239)+COUNTIF(T6,$C$250)+COUNTIF(T6,$C$261)+COUNTIF(T6,$C$272)+COUNTIF(T6,$C$283)+COUNTIF(T6,$C$294)+COUNTIF(T6,$C$305)+COUNTIF(T6,$C$316)+COUNTIF(T6,$C$327)+COUNTIF(T6,$C$449)+COUNTIF(T6,$C$460)+COUNTIF(T6,$C$471)+COUNTIF(T6,$C$482) -> 0 | AA6: =COUNTIF(T6,$C$9)+COUNTIF(T6,$C$20)+COUNTIF(T6,$C$31)+COUNTIF(T6,$C$42)+COUNTIF(T6,$C$53)+COUNTIF(T6,$C$64)+COUNTIF(T6,$C$75)+COUNTIF(T6,$C$86)+COUNTIF(T6,$C$97)+COUNTIF(T6,$C$108)+COUNTIF(T6,$C$119)+COUNTIF(T6,$C$130)+COUNTIF(T6,$C$141)+COUNTIF(T6,$C$152)+COUNTIF(T6,$C$163)+COUNTIF(T6,$C$174)+ COUNTIF(T6,$C$185)+COUNTIF(T6,$C$196)+COUNTIF(T6,$C$207)+COUNTIF(T6,$C$218)+COUNTIF(T6,$C$229)+COUNTIF(T6,$C$240)+COUNTIF(T6,$C$251)+COUNTIF(T6,$C$262)+COUNTIF(T6,$C$273)+COUNTIF(T6,$C$284)+COUNTIF(T6,$C$295)+COUNTIF(T6,$C$306)+COUNTIF(T6,$C$317)+COUNTIF(T6,$C$328)+COUNTIF(T6,$C$450)+COUNTIF(T6,$C$461)+COUNTIF(T6,$C$472)+COUNTIF(T6,$C$483) -> 0 | AB6: =COUNTIF(T6,$C$10)+COUNTIF(T6,$C$21)+COUNTIF(T6,$C$32)+COUNTIF(T6,$C$43)+COUNTIF(T6,$C$54)+COUNTIF(T6,$C$65)+COUNTIF(T6,$C$76)+COUNTIF(T6,$C$87)+ COUNTIF(T6,$C$98)+COUNTIF(T6,$C$109)+COUNTIF(T6,$C$120)+COUNTIF(T6,$C$131)+COUNTIF(T6,$C$142)+COUNTIF(T6,$C$153)+COUNTIF(T6,$C$164)+COUNTIF(T6,$C$175)+ COUNTIF(T6,$C$186)+COUNTIF(T6,$C$197)+COUNTIF(T6,$C$208)+COUNTIF(T6,$C$219)+COUNTIF(T6,$C$230)+COUNTIF(T6,$C$241)+COUNTIF(T6,$C$252)+COUNTIF(T6,$C$263)+COUNTIF(T6,$C$274)+COUNTIF(T6,$C$285)+COUNTIF(T6,$C$296)+COUNTIF(T6,$C$307)+COUNTIF(T6,$C$318)+COUNTIF(T6,$C$329)+COUNTIF(T6,$C$451)+COUNTIF(T6,$C$462)+COUNTIF(T6,$C$473)+COUNTIF(T6,$C$484) -> 0 | AC6: =COUNTIF(T6,$C$334)+COUNTIF(T6,$C$345)+COUNTIF(T6,$C$356)+COUNTIF(T6,$C$367)+COUNTIF(T6,$C$378)+COUNTIF(T6,$C$389)+COUNTIF(T6,$C$400)+COUNTIF(T6,$C$411)+COUNTIF(T6,$C$422)+COUNTIF(T6,$C$433)+COUNTIF(T6,$C$477)+COUNTIF(T6,$C$488)+COUNTIF(T6,$C$499)+COUNTIF(T6,$C$510)+COUNTIF(T6,$C$521)+COUNTIF(T6,$C$532) -> 0 | AD6: =COUNTIF(T6,$C$335)+COUNTIF(T6,$C$346)+COUNTIF(T6,$C$357)+COUNTIF(T6,$C$368)+COUNTIF(T6,$C$379)+COUNTIF(T6,$C$390)+COUNTIF(T6,$C$401)+COUNTIF(T6,$C$412)+COUNTIF(T6,$C$423)+COUNTIF(T6,$C$434)+COUNTIF(T6,$C$478)+COUNTIF(T6,$C$489)+COUNTIF(T6,$C$500)+COUNTIF(T6,$C$511)+COUNTIF(T6,$C$522)+COUNTIF(T6,$C$533) -> 0 | AE6: =COUNTIF(T6,$C$336)+COUNTIF(T6,$C$347)+COUNTIF(T6,$C$358)+COUNTIF(T6,$C$369)+COUNTIF(T6,$C$380)+COUNTIF(T6,$C$391)+COUNTIF(T6,$C$402)+COUNTIF(T6,$C$413)+COUNTIF(T6,$C$424)+COUNTIF(T6,$C$435)+COUNTIF(T6,$C$479)+COUNTIF(T6,$C$490)+COUNTIF(T6,$C$501)+COUNTIF(T6,$C$512)+COUNTIF(T6,$C$523)+COUNTIF(T6,$C$534) -> 0 | AF6: =COUNTIF(T6,$C$337)+COUNTIF(T6,$C$348)+COUNTIF(T6,$C$359)+COUNTIF(T6,$C$370)+COUNTIF(T6,$C$381)+COUNTIF(T6,$C$392)+COUNTIF(T6,$C$403)+COUNTIF(T6,$C$414)+COUNTIF(T6,$C$425)+COUNTIF(T6,$C$436)+COUNTIF(T6,$C$480)+COUNTIF(T6,$C$491)+COUNTIF(T6,$C$502)+COUNTIF(T6,$C$513)+COUNTIF(T6,$C$524)+COUNTIF(T6,$C$535) -> 0 | AG6: =COUNTIF(T6,$C$338)+COUNTIF(T6,$C$349)+COUNTIF(T6,$C$360)+COUNTIF(T6,$C$371)+COUNTIF(T6,$C$382)+COUNTIF(T6,$C$393)+COUNTIF(T6,$C$404)+COUNTIF(T6,$C$415)+COUNTIF(T6,$C$426)+COUNTIF(T6,$C$437)+COUNTIF(T6,$C$481)+COUNTIF(T6,$C$492)+COUNTIF(T6,$C$503)+COUNTIF(T6,$C$514)+COUNTIF(T6,$C$525)+COUNTIF(T6,$C$536) -> 0 | AH6: =COUNTIF(T6,$C$339)+COUNTIF(T6,$C$350)+COUNTIF(T6,$C$361)+COUNTIF(T6,$C$372)+COUNTIF(T6,$C$383)+COUNTIF(T6,$C$394)+COUNTIF(T6,$C$405)+COUNTIF(T6,$C$416)+COUNTIF(T6,$C$427)+COUNTIF(T6,$C$438)+COUNTIF(T6,$C$482)+COUNTIF(T6,$C$493)+COUNTIF(T6,$C$504)+COUNTIF(T6,$C$515)+COUNTIF(T6,$C$526)+COUNTIF(T6,$C$537) -> 0 | AJ6: =IF(#REF!>0,#REF!,"") -> #REF! | AK6: =COUNTIF(AJ6,$E$3)+COUNTIF(AJ6,$E$14)+COUNTIF(AJ6,$E$25)+COUNTIF(AJ6,$E$36)+COUNTIF(AJ6,$E$47)+COUNTIF(AJ6,$E$58)+COUNTIF(AJ6,$E$69)+COUNTIF(AJ6,$E$80)+COUNTIF(AJ6,$E$91)+COUNTIF(AJ6,$E$102)+COUNTIF(AJ6,$E$113)+COUNTIF(AJ6,$E$124)+COUNTIF(AJ6,$E$135)+COUNTIF(AJ6,$E$146)+COUNTIF(AJ6,$E$157)+COUNTIF(AJ6,$E$168)+COUNTIF(AJ6,$E$179)+COUNTIF(AJ6,$E$190)+COUNTIF(AJ6,$E$201)+COUNTIF(AJ6,$E$212)+COUNTIF(AJ6,$E$223)+COUNTIF(AJ6,$E$234)+COUNTIF(AJ6,$E$245)+COUNTIF(AJ6,$E$256)+COUNTIF(AJ6,$E$267)+COUNTIF(AJ6,$E$278)+COUNTIF(AJ6,$E$289)+COUNTIF(AJ6,$E$300)+COUNTIF(AJ6,$E$311)+COUNTIF(AJ6,$E$322)+COUNTIF(AJ6,$E$444)+COUNTIF(AJ6,$E$455)+COUNTIF(AJ6,$E$466)+COUNTIF(AJ6,$E$477) -> 0 | AL6: =COUNTIF(AJ6,$E$4)+COUNTIF(AJ6,$E$15)+COUNTIF(AJ6,$E$26)+COUNTIF(AJ6,$E$37)+COUNTIF(AJ6,$E$48)+COUNTIF(AJ6,$E$59)+COUNTIF(AJ6,$E$70)+COUNTIF(AJ6,$E$81)+COUNTIF(AJ6,$E$92)+COUNTIF(AJ6,$E$103)+COUNTIF(AJ6,$E$114)+COUNTIF(AJ6,$E$125)+COUNTIF(AJ6,$E$136)+COUNTIF(AJ6,$E$147)+COUNTIF(AJ6,$E$158)+COUNTIF(AJ6,$E$169)+COUNTIF(AJ6,$E$180)+COUNTIF(AJ6,$E$191)+COUNTIF(AJ6,$E$202)+COUNTIF(AJ6,$E$213)+COUNTIF(AJ6,$E$224)+COUNTIF(AJ6,$E$235)+COUNTIF(AJ6,$E$246)+COUNTIF(AJ6,$E$257)+COUNTIF(AJ6,$E$268)+COUNTIF(AJ6,$E$279)+COUNTIF(AJ6,$E$290)+COUNTIF(AJ6,$E$301)+COUNTIF(AJ6,$E$312)+COUNTIF(AJ6,$E$323)+COUNTIF(AJ6,$E$445)+COUNTIF(AJ6,$E$456)+COUNTIF(AJ6,$E$467)+COUNTIF(AJ6,$E$478) -> 0 | AM6: =COUNTIF(AJ6,$E$5)+COUNTIF(AJ6,$E$16)+COUNTIF(AJ6,$E$27)+COUNTIF(AJ6,$E$38)+COUNTIF(AJ6,$E$49)+COUNTIF(AJ6,$E$60)+COUNTIF(AJ6,$E$71)+COUNTIF(AJ6,$E$82)+COUNTIF(AJ6,$E$93)+COUNTIF(AJ6,$E$104)+COUNTIF(AJ6,$E$115)+COUNTIF(AJ6,$E$126)+COUNTIF(AJ6,$E$137)+COUNTIF(AJ6,$E$148)+COUNTIF(AJ6,$E$159)+COUNTIF(AJ6,$E$170)+COUNTIF(AJ6,$E$181)+COUNTIF(AJ6,$E$192)+COUNTIF(AJ6,$E$203)+COUNTIF(AJ6,$E$214)+COUNTIF(AJ6,$E$225)+COUNTIF(AJ6,$E$236)+COUNTIF(AJ6,$E$247)+COUNTIF(AJ6,$E$258)+COUNTIF(AJ6,$E$269)+COUNTIF(AJ6,$E$280)+COUNTIF(AJ6,$E$291)+COUNTIF(AJ6,$E$302)+COUNTIF(AJ6,$E$313)+COUNTIF(AJ6,$E$324)+COUNTIF(AJ6,$E$446)+COUNTIF(AJ6,$E$457)+COUNTIF(AJ6,$E$468)+COUNTIF(AJ6,$E$479) -> 0 | AN6: =COUNTIF(AJ6,$E$6)+COUNTIF(AJ6,$E$17)+COUNTIF(AJ6,$E$28)+COUNTIF(AJ6,$E$39)+COUNTIF(AJ6,$E$50)+COUNTIF(AJ6,$E$61)+COUNTIF(AJ6,$E$72)+COUNTIF(AJ6,$E$83)+COUNTIF(AJ6,$E$94)+COUNTIF(AJ6,$E$105)+COUNTIF(AJ6,$E$116)+COUNTIF(AJ6,$E$127)+COUNTIF(AJ6,$E$138)+COUNTIF(AJ6,$E$149)+COUNTIF(AJ6,$E$160)+COUNTIF(AJ6,$E$171)+COUNTIF(AJ6,$E$182)+COUNTIF(AJ6,$E$193)+COUNTIF(AJ6,$E$204)+COUNTIF(AJ6,$E$215)+COUNTIF(AJ6,$E$226)+COUNTIF(AJ6,$E$237)+COUNTIF(AJ6,$E$248)+COUNTIF(AJ6,$E$259)+COUNTIF(AJ6,$E$270)+COUNTIF(AJ6,$E$281)+COUNTIF(AJ6,$E$292)+COUNTIF(AJ6,$E$303)+COUNTIF(AJ6,$E$314)+COUNTIF(AJ6,$E$325)+COUNTIF(AJ6,$E$447)+COUNTIF(AJ6,$E$458)+COUNTIF(AJ6,$E$469)+COUNTIF(AJ6,$E$480) -> 0 | AO6: =COUNTIF(AJ6,$E$7)+COUNTIF(AJ6,$E$18)+COUNTIF(AJ6,$E$29)+COUNTIF(AJ6,$E$40)+COUNTIF(AJ6,$E$51)+COUNTIF(AJ6,$E$62)+COUNTIF(AJ6,$E$73)+COUNTIF(AJ6,$E$84)+COUNTIF(AJ6,$E$95)+COUNTIF(AJ6,$E$106)+COUNTIF(AJ6,$E$117)+COUNTIF(AJ6,$E$128)+COUNTIF(AJ6,$E$139)+COUNTIF(AJ6,$E$150)+COUNTIF(AJ6,$E$161)+COUNTIF(AJ6,$E$172)+COUNTIF(AJ6,$E$183)+COUNTIF(AJ6,$E$194)+COUNTIF(AJ6,$E$205)+COUNTIF(AJ6,$E$216)+COUNTIF(AJ6,$E$227)+COUNTIF(AJ6,$E$238)+COUNTIF(AJ6,$E$249)+COUNTIF(AJ6,$E$260)+COUNTIF(AJ6,$E$271)+COUNTIF(AJ6,$E$282)+COUNTIF(AJ6,$E$293)+COUNTIF(AJ6,$E$304)+COUNTIF(AJ6,$E$315)+COUNTIF(AJ6,$E$326)+COUNTIF(AJ6,$E$448)+COUNTIF(AJ6,$E$459)+COUNTIF(AJ6,$E$470)+COUNTIF(AJ6,$E$481) -> 0 | AP6: =COUNTIF(AJ6,$E$8)+COUNTIF(AJ6,$E$19)+COUNTIF(AJ6,$E$30)+COUNTIF(AJ6,$E$41)+COUNTIF(AJ6,$E$52)+COUNTIF(AJ6,$E$63)+COUNTIF(AJ6,$E$74)+COUNTIF(AJ6,$E$85)+COUNTIF(AJ6,$E$96)+COUNTIF(AJ6,$E$107)+COUNTIF(AJ6,$E$118)+COUNTIF(AJ6,$E$129)+COUNTIF(AJ6,$E$140)+COUNTIF(AJ6,$E$151)+COUNTIF(AJ6,$E$162)+COUNTIF(AJ6,$E$173)+COUNTIF(AJ6,$E$184)+COUNTIF(AJ6,$E$195)+COUNTIF(AJ6,$E$206)+COUNTIF(AJ6,$E$217)+COUNTIF(AJ6,$E$228)+COUNTIF(AJ6,$E$239)+COUNTIF(AJ6,$E$250)+COUNTIF(AJ6,$E$261)+COUNTIF(AJ6,$E$272)+COUNTIF(AJ6,$E$283)+COUNTIF(AJ6,$E$294)+COUNTIF(AJ6,$E$305)+COUNTIF(AJ6,$E$316)+COUNTIF(AJ6,$E$327)+COUNTIF(AJ6,$E$449)+COUNTIF(AJ6,$E$460)+COUNTIF(AJ6,$E$471)+COUNTIF(AJ6,$E$482) -> 0 | AQ6: =COUNTIF(AJ6,$E$9)+COUNTIF(AJ6,$E$20)+COUNTIF(AJ6,$E$31)+COUNTIF(AJ6,$E$42)+COUNTIF(AJ6,$E$53)+COUNTIF(AJ6,$E$64)+COUNTIF(AJ6,$E$75)+COUNTIF(AJ6,$E$86)+COUNTIF(AJ6,$E$97)+COUNTIF(AJ6,$E$108)+COUNTIF(AJ6,$E$119)+COUNTIF(AJ6,$E$130)+COUNTIF(AJ6,$E$141)+COUNTIF(AJ6,$E$152)+COUNTIF(AJ6,$E$163)+COUNTIF(AJ6,$E$174)+ COUNTIF(AJ6,$E$185)+COUNTIF(AJ6,$E$196)+COUNTIF(AJ6,$E$207)+COUNTIF(AJ6,$E$218)+COUNTIF(AJ6,$E$229)+COUNTIF(AJ6,$E$240)+COUNTIF(AJ6,$E$251)+COUNTIF(AJ6,$E$262)+COUNTIF(AJ6,$E$273)+COUNTIF(AJ6,$E$284)+COUNTIF(AJ6,$E$295)+COUNTIF(AJ6,$E$306)+COUNTIF(AJ6,$E$317)+COUNTIF(AJ6,$E$328)+COUNTIF(AJ6,$E$450)+COUNTIF(AJ6,$E$461)+COUNTIF(AJ6,$E$472)+COUNTIF(AJ6,$E$483) -> 0 | AR6: =COUNTIF(AJ6,$E$10)+COUNTIF(AJ6,$E$21)+COUNTIF(AJ6,$E$32)+COUNTIF(AJ6,$E$43)+COUNTIF(AJ6,$E$54)+COUNTIF(AJ6,$E$65)+COUNTIF(AJ6,$E$76)+COUNTIF(AJ6,$E$87)+ COUNTIF(AJ6,$E$98)+COUNTIF(AJ6,$E$109)+COUNTIF(AJ6,$E$120)+COUNTIF(AJ6,$E$131)+COUNTIF(AJ6,$E$142)+COUNTIF(AJ6,$E$153)+COUNTIF(AJ6,$E$164)+COUNTIF(AJ6,$E$175)+ COUNTIF(AJ6,$E$186)+COUNTIF(AJ6,$E$197)+COUNTIF(AJ6,$E$208)+COUNTIF(AJ6,$E$219)+COUNTIF(AJ6,$E$230)+COUNTIF(AJ6,$E$241)+COUNTIF(AJ6,$E$252)+COUNTIF(AJ6,$E$263)+COUNTIF(AJ6,$E$274)+COUNTIF(AJ6,$E$285)+COUNTIF(AJ6,$E$296)+COUNTIF(AJ6,$E$307)+COUNTIF(AJ6,$E$318)+COUNTIF(AJ6,$E$329)+COUNTIF(AJ6,$E$451)+COUNTIF(AJ6,$E$462)+COUNTIF(AJ6,$E$473)+COUNTIF(AJ6,$E$484) -> 0 | AS6: =COUNTIF(AJ6,$E$334)+COUNTIF(AJ6,$E$345)+COUNTIF(AJ6,$E$356)+COUNTIF(AJ6,$E$367)+COUNTIF(AJ6,$E$378)+COUNTIF(AJ6,$E$389)+COUNTIF(AJ6,$E$400)+COUNTIF(AJ6,$E$411)+COUNTIF(AJ6,$E$422)+COUNTIF(AJ6,$E$433)+COUNTIF(AJ6,$E$477)+COUNTIF(AJ6,$E$488)+COUNTIF(AJ6,$E$499)+COUNTIF(AJ6,$E$510)+COUNTIF(AJ6,$E$521)+COUNTIF(AJ6,$E$532) -> 0 | AT6: =COUNTIF(AJ6,$E$335)+COUNTIF(AJ6,$E$346)+COUNTIF(AJ6,$E$357)+COUNTIF(AJ6,$E$368)+COUNTIF(AJ6,$E$379)+COUNTIF(AJ6,$E$390)+COUNTIF(AJ6,$E$401)+COUNTIF(AJ6,$E$412)+COUNTIF(AJ6,$E$423)+COUNTIF(AJ6,$E$434)+COUNTIF(AJ6,$E$478)+COUNTIF(AJ6,$E$489)+COUNTIF(AJ6,$E$500)+COUNTIF(AJ6,$E$511)+COUNTIF(AJ6,$E$522)+COUNTIF(AJ6,$E$533) -> 0 | AU6: =COUNTIF(AJ6,$E$336)+COUNTIF(AJ6,$E$347)+COUNTIF(AJ6,$E$358)+COUNTIF(AJ6,$E$369)+COUNTIF(AJ6,$E$380)+COUNTIF(AJ6,$E$391)+COUNTIF(AJ6,$E$402)+COUNTIF(AJ6,$E$413)+COUNTIF(AJ6,$E$424)+COUNTIF(AJ6,$E$435)+COUNTIF(AJ6,$E$479)+COUNTIF(AJ6,$E$490)+COUNTIF(AJ6,$E$501)+COUNTIF(AJ6,$E$512)+COUNTIF(AJ6,$E$523)+COUNTIF(AJ6,$E$534) -> 0 | AV6: =COUNTIF(AJ6,$E$337)+COUNTIF(AJ6,$E$348)+COUNTIF(AJ6,$E$359)+COUNTIF(AJ6,$E$370)+COUNTIF(AJ6,$E$381)+COUNTIF(AJ6,$E$392)+COUNTIF(AJ6,$E$403)+COUNTIF(AJ6,$E$414)+COUNTIF(AJ6,$E$425)+COUNTIF(AJ6,$E$436)+COUNTIF(AJ6,$E$480)+COUNTIF(AJ6,$E$491)+COUNTIF(AJ6,$E$502)+COUNTIF(AJ6,$E$513)+COUNTIF(AJ6,$E$524)+COUNTIF(AJ6,$E$535) -> 0 | AW6: =COUNTIF(AJ6,$E$338)+COUNTIF(AJ6,$E$349)+COUNTIF(AJ6,$E$360)+COUNTIF(AJ6,$E$371)+COUNTIF(AJ6,$E$382)+COUNTIF(AJ6,$E$393)+COUNTIF(AJ6,$E$404)+COUNTIF(AJ6,$E$415)+COUNTIF(AJ6,$E$426)+COUNTIF(AJ6,$E$437)+COUNTIF(AJ6,$E$481)+COUNTIF(AJ6,$E$492)+COUNTIF(AJ6,$E$503)+COUNTIF(AJ6,$E$514)+COUNTIF(AJ6,$E$525)+COUNTIF(AJ6,$E$536) -> 0 | AX6: =COUNTIF(AJ6,$E$339)+COUNTIF(AJ6,$E$350)+COUNTIF(AJ6,$E$361)+COUNTIF(AJ6,$E$372)+COUNTIF(AJ6,$E$383)+COUNTIF(AJ6,$E$394)+COUNTIF(AJ6,$E$405)+COUNTIF(AJ6,$E$416)+COUNTIF(AJ6,$E$427)+COUNTIF(AJ6,$E$438)+COUNTIF(AJ6,$E$482)+COUNTIF(AJ6,$E$493)+COUNTIF(AJ6,$E$504)+COUNTIF(AJ6,$E$515)+COUNTIF(AJ6,$E$526)+COUNTIF(AJ6,$E$537) -> 0 | AZ6: =IF(#REF!>0,#REF!,"") -> #REF! | BA6: =COUNTIF(AZ6,$G$3)+COUNTIF(AZ6,$G$14)+COUNTIF(AZ6,$G$25)+COUNTIF(AZ6,$G$36)+COUNTIF(AZ6,$G$47)+COUNTIF(AZ6,$G$58)+COUNTIF(AZ6,$G$69)+COUNTIF(AZ6,$G$80)+COUNTIF(AZ6,$G$91)+COUNTIF(AZ6,$G$102)+COUNTIF(AZ6,$G$113)+COUNTIF(AZ6,$G$124)+COUNTIF(AZ6,$G$135)+COUNTIF(AZ6,$G$146)+COUNTIF(AZ6,$G$157)+COUNTIF(AZ6,$G$168)+COUNTIF(AZ6,$G$179)+COUNTIF(AZ6,$G$190)+COUNTIF(AZ6,$G$201)+COUNTIF(AZ6,$G$212)+COUNTIF(AZ6,$G$223)+COUNTIF(AZ6,$G$234)+COUNTIF(AZ6,$G$245)+COUNTIF(AZ6,$G$256)+COUNTIF(AZ6,$G$267)+COUNTIF(AZ6,$G$278)+COUNTIF(AZ6,$G$289)+COUNTIF(AZ6,$G$300)+COUNTIF(AZ6,$G$311)+COUNTIF(AZ6,$G$322)+COUNTIF(AZ6,$G$444)+COUNTIF(AZ6,$G$455)+COUNTIF(AZ6,$G$466)+COUNTIF(AZ6,$G$477) -> 0 | BB6: =COUNTIF(AZ6,$G$4)+COUNTIF(AZ6,$G$15)+COUNTIF(AZ6,$G$26)+COUNTIF(AZ6,$G$37)+COUNTIF(AZ6,$G$48)+COUNTIF(AZ6,$G$59)+COUNTIF(AZ6,$G$70)+COUNTIF(AZ6,$G$81)+COUNTIF(AZ6,$G$92)+COUNTIF(AZ6,$G$103)+COUNTIF(AZ6,$G$114)+COUNTIF(AZ6,$G$125)+COUNTIF(AZ6,$G$136)+COUNTIF(AZ6,$G$147)+COUNTIF(AZ6,$G$158)+COUNTIF(AZ6,$G$169)+COUNTIF(AZ6,$G$180)+COUNTIF(AZ6,$G$191)+COUNTIF(AZ6,$G$202)+COUNTIF(AZ6,$G$213)+COUNTIF(AZ6,$G$224)+COUNTIF(AZ6,$G$235)+COUNTIF(AZ6,$G$246)+COUNTIF(AZ6,$G$257)+COUNTIF(AZ6,$G$268)+COUNTIF(AZ6,$G$279)+COUNTIF(AZ6,$G$290)+COUNTIF(AZ6,$G$301)+COUNTIF(AZ6,$G$312)+COUNTIF(AZ6,$G$323)+COUNTIF(AZ6,$G$445)+COUNTIF(AZ6,$G$456)+COUNTIF(AZ6,$G$467)+COUNTIF(AZ6,$G$478) -> 0 | BC6: =COUNTIF(AZ6,$G$5)+COUNTIF(AZ6,$G$16)+COUNTIF(AZ6,$G$27)+COUNTIF(AZ6,$G$38)+COUNTIF(AZ6,$G$49)+COUNTIF(AZ6,$G$60)+COUNTIF(AZ6,$G$71)+COUNTIF(AZ6,$G$82)+COUNTIF(AZ6,$G$93)+COUNTIF(AZ6,$G$104)+COUNTIF(AZ6,$G$115)+COUNTIF(AZ6,$G$126)+COUNTIF(AZ6,$G$137)+COUNTIF(AZ6,$G$148)+COUNTIF(AZ6,$G$159)+COUNTIF(AZ6,$G$170)+COUNTIF(AZ6,$G$181)+COUNTIF(AZ6,$G$192)+COUNTIF(AZ6,$G$203)+COUNTIF(AZ6,$G$214)+COUNTIF(AZ6,$G$225)+COUNTIF(AZ6,$G$236)+COUNTIF(AZ6,$G$247)+COUNTIF(AZ6,$G$258)+COUNTIF(AZ6,$G$269)+COUNTIF(AZ6,$G$280)+COUNTIF(AZ6,$G$291)+COUNTIF(AZ6,$G$302)+COUNTIF(AZ6,$G$313)+COUNTIF(AZ6,$G$324)+COUNTIF(AZ6,$G$446)+COUNTIF(AZ6,$G$457)+COUNTIF(AZ6,$G$468)+COUNTIF(AZ6,$G$479) -> 0 | BD6: =COUNTIF(AZ6,$G$6)+COUNTIF(AZ6,$G$17)+COUNTIF(AZ6,$G$28)+COUNTIF(AZ6,$G$39)+COUNTIF(AZ6,$G$50)+COUNTIF(AZ6,$G$61)+COUNTIF(AZ6,$G$72)+COUNTIF(AZ6,$G$83)+COUNTIF(AZ6,$G$94)+COUNTIF(AZ6,$G$105)+COUNTIF(AZ6,$G$116)+COUNTIF(AZ6,$G$127)+COUNTIF(AZ6,$G$138)+COUNTIF(AZ6,$G$149)+COUNTIF(AZ6,$G$160)+COUNTIF(AZ6,$G$171)+COUNTIF(AZ6,$G$182)+COUNTIF(AZ6,$G$193)+COUNTIF(AZ6,$G$204)+COUNTIF(AZ6,$G$215)+COUNTIF(AZ6,$G$226)+COUNTIF(AZ6,$G$237)+COUNTIF(AZ6,$G$248)+COUNTIF(AZ6,$G$259)+COUNTIF(AZ6,$G$270)+COUNTIF(AZ6,$G$281)+COUNTIF(AZ6,$G$292)+COUNTIF(AZ6,$G$303)+COUNTIF(AZ6,$G$314)+COUNTIF(AZ6,$G$325)+COUNTIF(AZ6,$G$447)+COUNTIF(AZ6,$G$458)+COUNTIF(AZ6,$G$469)+COUNTIF(AZ6,$G$480) -> 0 | BE6: =COUNTIF(AZ6,$G$7)+COUNTIF(AZ6,$G$18)+COUNTIF(AZ6,$G$29)+COUNTIF(AZ6,$G$40)+COUNTIF(AZ6,$G$51)+COUNTIF(AZ6,$G$62)+COUNTIF(AZ6,$G$73)+COUNTIF(AZ6,$G$84)+COUNTIF(AZ6,$G$95)+COUNTIF(AZ6,$G$106)+COUNTIF(AZ6,$G$117)+COUNTIF(AZ6,$G$128)+COUNTIF(AZ6,$G$139)+COUNTIF(AZ6,$G$150)+COUNTIF(AZ6,$G$161)+COUNTIF(AZ6,$G$172)+COUNTIF(AZ6,$G$183)+COUNTIF(AZ6,$G$194)+COUNTIF(AZ6,$G$205)+COUNTIF(AZ6,$G$216)+COUNTIF(AZ6,$G$227)+COUNTIF(AZ6,$G$238)+COUNTIF(AZ6,$G$249)+COUNTIF(AZ6,$G$260)+COUNTIF(AZ6,$G$271)+COUNTIF(AZ6,$G$282)+COUNTIF(AZ6,$G$293)+COUNTIF(AZ6,$G$304)+COUNTIF(AZ6,$G$315)+COUNTIF(AZ6,$G$326)+COUNTIF(AZ6,$G$448)+COUNTIF(AZ6,$G$459)+COUNTIF(AZ6,$G$470)+COUNTIF(AZ6,$G$481) -> 0 | BF6: =COUNTIF(AZ6,$G$8)+COUNTIF(AZ6,$G$19)+COUNTIF(AZ6,$G$30)+COUNTIF(AZ6,$G$41)+COUNTIF(AZ6,$G$52)+COUNTIF(AZ6,$G$63)+COUNTIF(AZ6,$G$74)+COUNTIF(AZ6,$G$85)+COUNTIF(AZ6,$G$96)+COUNTIF(AZ6,$G$107)+COUNTIF(AZ6,$G$118)+COUNTIF(AZ6,$G$129)+COUNTIF(AZ6,$G$140)+COUNTIF(AZ6,$G$151)+COUNTIF(AZ6,$G$162)+COUNTIF(AZ6,$G$173)+COUNTIF(AZ6,$G$184)+COUNTIF(AZ6,$G$195)+COUNTIF(AZ6,$G$206)+COUNTIF(AZ6,$G$217)+COUNTIF(AZ6,$G$228)+COUNTIF(AZ6,$G$239)+COUNTIF(AZ6,$G$250)+COUNTIF(AZ6,$G$261)+COUNTIF(AZ6,$G$272)+COUNTIF(AZ6,$G$283)+COUNTIF(AZ6,$G$294)+COUNTIF(AZ6,$G$305)+COUNTIF(AZ6,$G$316)+COUNTIF(AZ6,$G$327)+COUNTIF(AZ6,$G$449)+COUNTIF(AZ6,$G$460)+COUNTIF(AZ6,$G$471)+COUNTIF(AZ6,$G$482) -> 0 | BG6: =COUNTIF(AZ6,$G$9)+COUNTIF(AZ6,$G$20)+COUNTIF(AZ6,$G$31)+COUNTIF(AZ6,$G$42)+COUNTIF(AZ6,$G$53)+COUNTIF(AZ6,$G$64)+COUNTIF(AZ6,$G$75)+COUNTIF(AZ6,$G$86)+COUNTIF(AZ6,$G$97)+COUNTIF(AZ6,$G$108)+COUNTIF(AZ6,$G$119)+COUNTIF(AZ6,$G$130)+COUNTIF(AZ6,$G$141)+COUNTIF(AZ6,$G$152)+COUNTIF(AZ6,$G$163)+COUNTIF(AZ6,$G$174)+ COUNTIF(AZ6,$G$185)+COUNTIF(AZ6,$G$196)+COUNTIF(AZ6,$G$207)+COUNTIF(AZ6,$G$218)+COUNTIF(AZ6,$G$229)+COUNTIF(AZ6,$G$240)+COUNTIF(AZ6,$G$251)+COUNTIF(AZ6,$G$262)+COUNTIF(AZ6,$G$273)+COUNTIF(AZ6,$G$284)+COUNTIF(AZ6,$G$295)+COUNTIF(AZ6,$G$306)+COUNTIF(AZ6,$G$317)+COUNTIF(AZ6,$G$328)+COUNTIF(AZ6,$G$450)+COUNTIF(AZ6,$G$461)+COUNTIF(AZ6,$G$472)+COUNTIF(AZ6,$G$483) -> 0 | BH6: =COUNTIF(AZ6,$G$10)+COUNTIF(AZ6,$G$21)+COUNTIF(AZ6,$G$32)+COUNTIF(AZ6,$G$43)+COUNTIF(AZ6,$G$54)+COUNTIF(AZ6,$G$65)+COUNTIF(AZ6,$G$76)+COUNTIF(AZ6,$G$87)+ COUNTIF(AZ6,$G$98)+COUNTIF(AZ6,$G$109)+COUNTIF(AZ6,$G$120)+COUNTIF(AZ6,$G$131)+COUNTIF(AZ6,$G$142)+COUNTIF(AZ6,$G$153)+COUNTIF(AZ6,$G$164)+COUNTIF(AZ6,$G$175)+ COUNTIF(AZ6,$G$186)+COUNTIF(AZ6,$G$197)+COUNTIF(AZ6,$G$208)+COUNTIF(AZ6,$G$219)+COUNTIF(AZ6,$G$230)+COUNTIF(AZ6,$G$241)+COUNTIF(AZ6,$G$252)+COUNTIF(AZ6,$G$263)+COUNTIF(AZ6,$G$274)+COUNTIF(AZ6,$G$285)+COUNTIF(AZ6,$G$296)+COUNTIF(AZ6,$G$307)+COUNTIF(AZ6,$G$318)+COUNTIF(AZ6,$G$329)+COUNTIF(AZ6,$G$451)+COUNTIF(AZ6,$G$462)+COUNTIF(AZ6,$G$473)+COUNTIF(AZ6,$G$484) -> 0 | BI6: =COUNTIF(AZ6,$G$334)+COUNTIF(AZ6,$G$345)+COUNTIF(AZ6,$G$356)+COUNTIF(AZ6,$G$367)+COUNTIF(AZ6,$G$378)+COUNTIF(AZ6,$G$389)+COUNTIF(AZ6,$G$400)+COUNTIF(AZ6,$G$411)+COUNTIF(AZ6,$G$422)+COUNTIF(AZ6,$G$433)+COUNTIF(AZ6,$G$477)+COUNTIF(AZ6,$G$488)+COUNTIF(AZ6,$G$499)+COUNTIF(AZ6,$G$510)+COUNTIF(AZ6,$G$521)+COUNTIF(AZ6,$G$532) -> 0 | BJ6: =COUNTIF(AZ6,$G$335)+COUNTIF(AZ6,$G$346)+COUNTIF(AZ6,$G$357)+COUNTIF(AZ6,$G$368)+COUNTIF(AZ6,$G$379)+COUNTIF(AZ6,$G$390)+COUNTIF(AZ6,$G$401)+COUNTIF(AZ6,$G$412)+COUNTIF(AZ6,$G$423)+COUNTIF(AZ6,$G$434)+COUNTIF(AZ6,$G$478)+COUNTIF(AZ6,$G$489)+COUNTIF(AZ6,$G$500)+COUNTIF(AZ6,$G$511)+COUNTIF(AZ6,$G$522)+COUNTIF(AZ6,$G$533) -> 0 | BK6: =COUNTIF(AZ6,$G$336)+COUNTIF(AZ6,$G$347)+COUNTIF(AZ6,$G$358)+COUNTIF(AZ6,$G$369)+COUNTIF(AZ6,$G$380)+COUNTIF(AZ6,$G$391)+COUNTIF(AZ6,$G$402)+COUNTIF(AZ6,$G$413)+COUNTIF(AZ6,$G$424)+COUNTIF(AZ6,$G$435)+COUNTIF(AZ6,$G$479)+COUNTIF(AZ6,$G$490)+COUNTIF(AZ6,$G$501)+COUNTIF(AZ6,$G$512)+COUNTIF(AZ6,$G$523)+COUNTIF(AZ6,$G$534) -> 0 | BL6: =COUNTIF(AZ6,$G$337)+COUNTIF(AZ6,$G$348)+COUNTIF(AZ6,$G$359)+COUNTIF(AZ6,$G$370)+COUNTIF(AZ6,$G$381)+COUNTIF(AZ6,$G$392)+COUNTIF(AZ6,$G$403)+COUNTIF(AZ6,$G$414)+COUNTIF(AZ6,$G$425)+COUNTIF(AZ6,$G$436)+COUNTIF(AZ6,$G$480)+COUNTIF(AZ6,$G$491)+COUNTIF(AZ6,$G$502)+COUNTIF(AZ6,$G$513)+COUNTIF(AZ6,$G$524)+COUNTIF(AZ6,$G$535) -> 0 | BM6: =COUNTIF(AZ6,$G$338)+COUNTIF(AZ6,$G$349)+COUNTIF(AZ6,$G$360)+COUNTIF(AZ6,$G$371)+COUNTIF(AZ6,$G$382)+COUNTIF(AZ6,$G$393)+COUNTIF(AZ6,$G$404)+COUNTIF(AZ6,$G$415)+COUNTIF(AZ6,$G$426)+COUNTIF(AZ6,$G$437)+COUNTIF(AZ6,$G$481)+COUNTIF(AZ6,$G$492)+COUNTIF(AZ6,$G$503)+COUNTIF(AZ6,$G$514)+COUNTIF(AZ6,$G$525)+COUNTIF(AZ6,$G$536) -> 0 | BN6: =COUNTIF(AZ6,$G$339)+COUNTIF(AZ6,$G$350)+COUNTIF(AZ6,$G$361)+COUNTIF(AZ6,$G$372)+COUNTIF(AZ6,$G$383)+COUNTIF(AZ6,$G$394)+COUNTIF(AZ6,$G$405)+COUNTIF(AZ6,$G$416)+COUNTIF(AZ6,$G$427)+COUNTIF(AZ6,$G$438)+COUNTIF(AZ6,$G$482)+COUNTIF(AZ6,$G$493)+COUNTIF(AZ6,$G$504)+COUNTIF(AZ6,$G$515)+COUNTIF(AZ6,$G$526)+COUNTIF(AZ6,$G$537) -> 0 | BP6: =IF(#REF!>0,#REF!,"") -> #REF! | BQ6: =COUNTIF(BP6,$I$3)+COUNTIF(BP6,$I$14)+COUNTIF(BP6,$I$25)+COUNTIF(BP6,$I$36)+COUNTIF(BP6,$I$47)+COUNTIF(BP6,$I$58)+COUNTIF(BP6,$I$69)+COUNTIF(BP6,$I$80)+COUNTIF(BP6,$I$91)+COUNTIF(BP6,$I$102)+COUNTIF(BP6,$I$113)+COUNTIF(BP6,$I$124)+COUNTIF(BP6,$I$135)+COUNTIF(BP6,$I$146)+COUNTIF(BP6,$I$157)+COUNTIF(BP6,$I$168)+COUNTIF(BP6,$I$179)+COUNTIF(BP6,$I$190)+COUNTIF(BP6,$I$201)+COUNTIF(BP6,$I$212)+COUNTIF(BP6,$I$223)+COUNTIF(BP6,$I$234)+COUNTIF(BP6,$I$245)+COUNTIF(BP6,$I$256)+COUNTIF(BP6,$I$267)+COUNTIF(BP6,$I$278)+COUNTIF(BP6,$I$289)+COUNTIF(BP6,$I$300)+COUNTIF(BP6,$I$311)+COUNTIF(BP6,$I$322)+COUNTIF(BP6,$I$444)+COUNTIF(BP6,$I$455)+COUNTIF(BP6,$I$466)+COUNTIF(BP6,$I$477) -> 0 | BR6: =COUNTIF(BP6,$I$4)+COUNTIF(BP6,$I$15)+COUNTIF(BP6,$I$26)+COUNTIF(BP6,$I$37)+COUNTIF(BP6,$I$48)+COUNTIF(BP6,$I$59)+COUNTIF(BP6,$I$70)+COUNTIF(BP6,$I$81)+COUNTIF(BP6,$I$92)+COUNTIF(BP6,$I$103)+COUNTIF(BP6,$I$114)+COUNTIF(BP6,$I$125)+COUNTIF(BP6,$I$136)+COUNTIF(BP6,$I$147)+COUNTIF(BP6,$I$158)+COUNTIF(BP6,$I$169)+COUNTIF(BP6,$I$180)+COUNTIF(BP6,$I$191)+COUNTIF(BP6,$I$202)+COUNTIF(BP6,$I$213)+COUNTIF(BP6,$I$224)+COUNTIF(BP6,$I$235)+COUNTIF(BP6,$I$246)+COUNTIF(BP6,$I$257)+COUNTIF(BP6,$I$268)+COUNTIF(BP6,$I$279)+COUNTIF(BP6,$I$290)+COUNTIF(BP6,$I$301)+COUNTIF(BP6,$I$312)+COUNTIF(BP6,$I$323)+COUNTIF(BP6,$I$445)+COUNTIF(BP6,$I$456)+COUNTIF(BP6,$I$467)+COUNTIF(BP6,$I$478) -> 0 | BS6: =COUNTIF(BP6,$I$5)+COUNTIF(BP6,$I$16)+COUNTIF(BP6,$I$27)+COUNTIF(BP6,$I$38)+COUNTIF(BP6,$I$49)+COUNTIF(BP6,$I$60)+COUNTIF(BP6,$I$71)+COUNTIF(BP6,$I$82)+COUNTIF(BP6,$I$93)+COUNTIF(BP6,$I$104)+COUNTIF(BP6,$I$115)+COUNTIF(BP6,$I$126)+COUNTIF(BP6,$I$137)+COUNTIF(BP6,$I$148)+COUNTIF(BP6,$I$159)+COUNTIF(BP6,$I$170)+COUNTIF(BP6,$I$181)+COUNTIF(BP6,$I$192)+COUNTIF(BP6,$I$203)+COUNTIF(BP6,$I$214)+COUNTIF(BP6,$I$225)+COUNTIF(BP6,$I$236)+COUNTIF(BP6,$I$247)+COUNTIF(BP6,$I$258)+COUNTIF(BP6,$I$269)+COUNTIF(BP6,$I$280)+COUNTIF(BP6,$I$291)+COUNTIF(BP6,$I$302)+COUNTIF(BP6,$I$313)+COUNTIF(BP6,$I$324)+COUNTIF(BP6,$I$446)+COUNTIF(BP6,$I$457)+COUNTIF(BP6,$I$468)+COUNTIF(BP6,$I$479) -> 0 | BT6: =COUNTIF(BP6,$I$6)+COUNTIF(BP6,$I$17)+COUNTIF(BP6,$I$28)+COUNTIF(BP6,$I$39)+COUNTIF(BP6,$I$50)+COUNTIF(BP6,$I$61)+COUNTIF(BP6,$I$72)+COUNTIF(BP6,$I$83)+COUNTIF(BP6,$I$94)+COUNTIF(BP6,$I$105)+COUNTIF(BP6,$I$116)+COUNTIF(BP6,$I$127)+COUNTIF(BP6,$I$138)+COUNTIF(BP6,$I$149)+COUNTIF(BP6,$I$160)+COUNTIF(BP6,$I$171)+COUNTIF(BP6,$I$182)+COUNTIF(BP6,$I$193)+COUNTIF(BP6,$I$204)+COUNTIF(BP6,$I$215)+COUNTIF(BP6,$I$226)+COUNTIF(BP6,$I$237)+COUNTIF(BP6,$I$248)+COUNTIF(BP6,$I$259)+COUNTIF(BP6,$I$270)+COUNTIF(BP6,$I$281)+COUNTIF(BP6,$I$292)+COUNTIF(BP6,$I$303)+COUNTIF(BP6,$I$314)+COUNTIF(BP6,$I$325)+COUNTIF(BP6,$I$447)+COUNTIF(BP6,$I$458)+COUNTIF(BP6,$I$469)+COUNTIF(BP6,$I$480) -> 0 | BU6: =COUNTIF(BP6,$I$7)+COUNTIF(BP6,$I$18)+COUNTIF(BP6,$I$29)+COUNTIF(BP6,$I$40)+COUNTIF(BP6,$I$51)+COUNTIF(BP6,$I$62)+COUNTIF(BP6,$I$73)+COUNTIF(BP6,$I$84)+COUNTIF(BP6,$I$95)+COUNTIF(BP6,$I$106)+COUNTIF(BP6,$I$117)+COUNTIF(BP6,$I$128)+COUNTIF(BP6,$I$139)+COUNTIF(BP6,$I$150)+COUNTIF(BP6,$I$161)+COUNTIF(BP6,$I$172)+COUNTIF(BP6,$I$183)+COUNTIF(BP6,$I$194)+COUNTIF(BP6,$I$205)+COUNTIF(BP6,$I$216)+COUNTIF(BP6,$I$227)+COUNTIF(BP6,$I$238)+COUNTIF(BP6,$I$249)+COUNTIF(BP6,$I$260)+COUNTIF(BP6,$I$271)+COUNTIF(BP6,$I$282)+COUNTIF(BP6,$I$293)+COUNTIF(BP6,$I$304)+COUNTIF(BP6,$I$315)+COUNTIF(BP6,$I$326)+COUNTIF(BP6,$I$448)+COUNTIF(BP6,$I$459)+COUNTIF(BP6,$I$470)+COUNTIF(BP6,$I$481) -> 0 | BV6: =COUNTIF(BP6,$I$8)+COUNTIF(BP6,$I$19)+COUNTIF(BP6,$I$30)+COUNTIF(BP6,$I$41)+COUNTIF(BP6,$I$52)+COUNTIF(BP6,$I$63)+COUNTIF(BP6,$I$74)+COUNTIF(BP6,$I$85)+COUNTIF(BP6,$I$96)+COUNTIF(BP6,$I$107)+COUNTIF(BP6,$I$118)+COUNTIF(BP6,$I$129)+COUNTIF(BP6,$I$140)+COUNTIF(BP6,$I$151)+COUNTIF(BP6,$I$162)+COUNTIF(BP6,$I$173)+COUNTIF(BP6,$I$184)+COUNTIF(BP6,$I$195)+COUNTIF(BP6,$I$206)+COUNTIF(BP6,$I$217)+COUNTIF(BP6,$I$228)+COUNTIF(BP6,$I$239)+COUNTIF(BP6,$I$250)+COUNTIF(BP6,$I$261)+COUNTIF(BP6,$I$272)+COUNTIF(BP6,$I$283)+COUNTIF(BP6,$I$294)+COUNTIF(BP6,$I$305)+COUNTIF(BP6,$I$316)+COUNTIF(BP6,$I$327)+COUNTIF(BP6,$I$449)+COUNTIF(BP6,$I$460)+COUNTIF(BP6,$I$471)+COUNTIF(BP6,$I$482) -> 0 | BW6: =COUNTIF(BP6,$I$9)+COUNTIF(BP6,$I$20)+COUNTIF(BP6,$I$31)+COUNTIF(BP6,$I$42)+COUNTIF(BP6,$I$53)+COUNTIF(BP6,$I$64)+COUNTIF(BP6,$I$75)+COUNTIF(BP6,$I$86)+COUNTIF(BP6,$I$97)+COUNTIF(BP6,$I$108)+COUNTIF(BP6,$I$119)+COUNTIF(BP6,$I$130)+COUNTIF(BP6,$I$141)+COUNTIF(BP6,$I$152)+COUNTIF(BP6,$I$163)+COUNTIF(BP6,$I$174)+ COUNTIF(BP6,$I$185)+COUNTIF(BP6,$I$196)+COUNTIF(BP6,$I$207)+COUNTIF(BP6,$I$218)+COUNTIF(BP6,$I$229)+COUNTIF(BP6,$I$240)+COUNTIF(BP6,$I$251)+COUNTIF(BP6,$I$262)+COUNTIF(BP6,$I$273)+COUNTIF(BP6,$I$284)+COUNTIF(BP6,$I$295)+COUNTIF(BP6,$I$306)+COUNTIF(BP6,$I$317)+COUNTIF(BP6,$I$328)+COUNTIF(BP6,$I$450)+COUNTIF(BP6,$I$461)+COUNTIF(BP6,$I$472)+COUNTIF(BP6,$I$483) -> 0 | BX6: =COUNTIF(BP6,$I$10)+COUNTIF(BP6,$I$21)+COUNTIF(BP6,$I$32)+COUNTIF(BP6,$I$43)+COUNTIF(BP6,$I$54)+COUNTIF(BP6,$I$65)+COUNTIF(BP6,$I$76)+COUNTIF(BP6,$I$87)+ COUNTIF(BP6,$I$98)+COUNTIF(BP6,$I$109)+COUNTIF(BP6,$I$120)+COUNTIF(BP6,$I$131)+COUNTIF(BP6,$I$142)+COUNTIF(BP6,$I$153)+COUNTIF(BP6,$I$164)+COUNTIF(BP6,$I$175)+ COUNTIF(BP6,$I$186)+COUNTIF(BP6,$I$197)+COUNTIF(BP6,$I$208)+COUNTIF(BP6,$I$219)+COUNTIF(BP6,$I$230)+COUNTIF(BP6,$I$241)+COUNTIF(BP6,$I$252)+COUNTIF(BP6,$I$263)+COUNTIF(BP6,$I$274)+COUNTIF(BP6,$I$285)+COUNTIF(BP6,$I$296)+COUNTIF(BP6,$I$307)+COUNTIF(BP6,$I$318)+COUNTIF(BP6,$I$329)+COUNTIF(BP6,$I$451)+COUNTIF(BP6,$I$462)+COUNTIF(BP6,$I$473)+COUNTIF(BP6,$I$484) -> 0 | BY6: =COUNTIF(BP6,$I$334)+COUNTIF(BP6,$I$345)+COUNTIF(BP6,$I$356)+COUNTIF(BP6,$I$367)+COUNTIF(BP6,$I$378)+COUNTIF(BP6,$I$389)+COUNTIF(BP6,$I$400)+COUNTIF(BP6,$I$411)+COUNTIF(BP6,$I$422)+COUNTIF(BP6,$I$433)+COUNTIF(BP6,$I$477)+COUNTIF(BP6,$I$488)+COUNTIF(BP6,$I$499)+COUNTIF(BP6,$I$510)+COUNTIF(BP6,$I$521)+COUNTIF(BP6,$I$532) -> 0 | BZ6: =COUNTIF(BP6,$I$335)+COUNTIF(BP6,$I$346)+COUNTIF(BP6,$I$357)+COUNTIF(BP6,$I$368)+COUNTIF(BP6,$I$379)+COUNTIF(BP6,$I$390)+COUNTIF(BP6,$I$401)+COUNTIF(BP6,$I$412)+COUNTIF(BP6,$I$423)+COUNTIF(BP6,$I$434)+COUNTIF(BP6,$I$478)+COUNTIF(BP6,$I$489)+COUNTIF(BP6,$I$500)+COUNTIF(BP6,$I$511)+COUNTIF(BP6,$I$522)+COUNTIF(BP6,$I$533) -> 0 | CA6: =COUNTIF(BP6,$I$336)+COUNTIF(BP6,$I$347)+COUNTIF(BP6,$I$358)+COUNTIF(BP6,$I$369)+COUNTIF(BP6,$I$380)+COUNTIF(BP6,$I$391)+COUNTIF(BP6,$I$402)+COUNTIF(BP6,$I$413)+COUNTIF(BP6,$I$424)+COUNTIF(BP6,$I$435)+COUNTIF(BP6,$I$479)+COUNTIF(BP6,$I$490)+COUNTIF(BP6,$I$501)+COUNTIF(BP6,$I$512)+COUNTIF(BP6,$I$523)+COUNTIF(BP6,$I$534) -> 0 | CB6: =COUNTIF(BP6,$I$337)+COUNTIF(BP6,$I$348)+COUNTIF(BP6,$I$359)+COUNTIF(BP6,$I$370)+COUNTIF(BP6,$I$381)+COUNTIF(BP6,$I$392)+COUNTIF(BP6,$I$403)+COUNTIF(BP6,$I$414)+COUNTIF(BP6,$I$425)+COUNTIF(BP6,$I$436)+COUNTIF(BP6,$I$480)+COUNTIF(BP6,$I$491)+COUNTIF(BP6,$I$502)+COUNTIF(BP6,$I$513)+COUNTIF(BP6,$I$524)+COUNTIF(BP6,$I$535) -> 0 | CC6: =COUNTIF(BP6,$I$338)+COUNTIF(BP6,$I$349)+COUNTIF(BP6,$I$360)+COUNTIF(BP6,$I$371)+COUNTIF(BP6,$I$382)+COUNTIF(BP6,$I$393)+COUNTIF(BP6,$I$404)+COUNTIF(BP6,$I$415)+COUNTIF(BP6,$I$426)+COUNTIF(BP6,$I$437)+COUNTIF(BP6,$I$481)+COUNTIF(BP6,$I$492)+COUNTIF(BP6,$I$503)+COUNTIF(BP6,$I$514)+COUNTIF(BP6,$I$525)+COUNTIF(BP6,$I$536) -> 0 | CD6: =COUNTIF(BP6,$I$339)+COUNTIF(BP6,$I$350)+COUNTIF(BP6,$I$361)+COUNTIF(BP6,$I$372)+COUNTIF(BP6,$I$383)+COUNTIF(BP6,$I$394)+COUNTIF(BP6,$I$405)+COUNTIF(BP6,$I$416)+COUNTIF(BP6,$I$427)+COUNTIF(BP6,$I$438)+COUNTIF(BP6,$I$482)+COUNTIF(BP6,$I$493)+COUNTIF(BP6,$I$504)+COUNTIF(BP6,$I$515)+COUNTIF(BP6,$I$526)+COUNTIF(BP6,$I$537) -> 0 | CF6: =IF(#REF!>0,#REF!,"") -> #REF! | CG6: =COUNTIF(CF6,$K$3)+COUNTIF(CF6,$K$14)+COUNTIF(CF6,$K$25)+COUNTIF(CF6,$K$36)+COUNTIF(CF6,$K$47)+COUNTIF(CF6,$K$58)+COUNTIF(CF6,$K$69)+COUNTIF(CF6,$K$80)+COUNTIF(CF6,$K$91)+COUNTIF(CF6,$K$102)+COUNTIF(CF6,$K$113)+COUNTIF(CF6,$K$124)+COUNTIF(CF6,$K$135)+COUNTIF(CF6,$K$146)+COUNTIF(CF6,$K$157)+COUNTIF(CF6,$K$168)+COUNTIF(CF6,$K$179)+COUNTIF(CF6,$K$190)+COUNTIF(CF6,$K$201)+COUNTIF(CF6,$K$212)+COUNTIF(CF6,$K$223)+COUNTIF(CF6,$K$234)+COUNTIF(CF6,$K$245)+COUNTIF(CF6,$K$256)+COUNTIF(CF6,$K$267)+COUNTIF(CF6,$K$278)+COUNTIF(CF6,$K$289)+COUNTIF(CF6,$K$300)+COUNTIF(CF6,$K$311)+COUNTIF(CF6,$K$322)+COUNTIF(CF6,$K$444)+COUNTIF(CF6,$K$455)+COUNTIF(CF6,$K$466)+COUNTIF(CF6,$K$477) -> 0 | CH6: =COUNTIF(CF6,$K$4)+COUNTIF(CF6,$K$15)+COUNTIF(CF6,$K$26)+COUNTIF(CF6,$K$37)+COUNTIF(CF6,$K$48)+COUNTIF(CF6,$K$59)+COUNTIF(CF6,$K$70)+COUNTIF(CF6,$K$81)+COUNTIF(CF6,$K$92)+COUNTIF(CF6,$K$103)+COUNTIF(CF6,$K$114)+COUNTIF(CF6,$K$125)+COUNTIF(CF6,$K$136)+COUNTIF(CF6,$K$147)+COUNTIF(CF6,$K$158)+COUNTIF(CF6,$K$169)+COUNTIF(CF6,$K$180)+COUNTIF(CF6,$K$191)+COUNTIF(CF6,$K$202)+COUNTIF(CF6,$K$213)+COUNTIF(CF6,$K$224)+COUNTIF(CF6,$K$235)+COUNTIF(CF6,$K$246)+COUNTIF(CF6,$K$257)+COUNTIF(CF6,$K$268)+COUNTIF(CF6,$K$279)+COUNTIF(CF6,$K$290)+COUNTIF(CF6,$K$301)+COUNTIF(CF6,$K$312)+COUNTIF(CF6,$K$323)+COUNTIF(CF6,$K$445)+COUNTIF(CF6,$K$456)+COUNTIF(CF6,$K$467)+COUNTIF(CF6,$K$478) -> 0 | CI6: =COUNTIF(CF6,$K$5)+COUNTIF(CF6,$K$16)+COUNTIF(CF6,$K$27)+COUNTIF(CF6,$K$38)+COUNTIF(CF6,$K$49)+COUNTIF(CF6,$K$60)+COUNTIF(CF6,$K$71)+COUNTIF(CF6,$K$82)+COUNTIF(CF6,$K$93)+COUNTIF(CF6,$K$104)+COUNTIF(CF6,$K$115)+COUNTIF(CF6,$K$126)+COUNTIF(CF6,$K$137)+COUNTIF(CF6,$K$148)+COUNTIF(CF6,$K$159)+COUNTIF(CF6,$K$170)+COUNTIF(CF6,$K$181)+COUNTIF(CF6,$K$192)+COUNTIF(CF6,$K$203)+COUNTIF(CF6,$K$214)+COUNTIF(CF6,$K$225)+COUNTIF(CF6,$K$236)+COUNTIF(CF6,$K$247)+COUNTIF(CF6,$K$258)+COUNTIF(CF6,$K$269)+COUNTIF(CF6,$K$280)+COUNTIF(CF6,$K$291)+COUNTIF(CF6,$K$302)+COUNTIF(CF6,$K$313)+COUNTIF(CF6,$K$324)+COUNTIF(CF6,$K$446)+COUNTIF(CF6,$K$457)+COUNTIF(CF6,$K$468)+COUNTIF(CF6,$K$479) -> 0 | CJ6: =COUNTIF(CF6,$K$6)+COUNTIF(CF6,$K$17)+COUNTIF(CF6,$K$28)+COUNTIF(CF6,$K$39)+COUNTIF(CF6,$K$50)+COUNTIF(CF6,$K$61)+COUNTIF(CF6,$K$72)+COUNTIF(CF6,$K$83)+COUNTIF(CF6,$K$94)+COUNTIF(CF6,$K$105)+COUNTIF(CF6,$K$116)+COUNTIF(CF6,$K$127)+COUNTIF(CF6,$K$138)+COUNTIF(CF6,$K$149)+COUNTIF(CF6,$K$160)+COUNTIF(CF6,$K$171)+COUNTIF(CF6,$K$182)+COUNTIF(CF6,$K$193)+COUNTIF(CF6,$K$204)+COUNTIF(CF6,$K$215)+COUNTIF(CF6,$K$226)+COUNTIF(CF6,$K$237)+COUNTIF(CF6,$K$248)+COUNTIF(CF6,$K$259)+COUNTIF(CF6,$K$270)+COUNTIF(CF6,$K$281)+COUNTIF(CF6,$K$292)+COUNTIF(CF6,$K$303)+COUNTIF(CF6,$K$314)+COUNTIF(CF6,$K$325)+COUNTIF(CF6,$K$447)+COUNTIF(CF6,$K$458)+COUNTIF(CF6,$K$469)+COUNTIF(CF6,$K$480) -> 0 | CK6: =COUNTIF(CF6,$K$7)+COUNTIF(CF6,$K$18)+COUNTIF(CF6,$K$29)+COUNTIF(CF6,$K$40)+COUNTIF(CF6,$K$51)+COUNTIF(CF6,$K$62)+COUNTIF(CF6,$K$73)+COUNTIF(CF6,$K$84)+COUNTIF(CF6,$K$95)+COUNTIF(CF6,$K$106)+COUNTIF(CF6,$K$117)+COUNTIF(CF6,$K$128)+COUNTIF(CF6,$K$139)+COUNTIF(CF6,$K$150)+COUNTIF(CF6,$K$161)+COUNTIF(CF6,$K$172)+COUNTIF(CF6,$K$183)+COUNTIF(CF6,$K$194)+COUNTIF(CF6,$K$205)+COUNTIF(CF6,$K$216)+COUNTIF(CF6,$K$227)+COUNTIF(CF6,$K$238)+COUNTIF(CF6,$K$249)+COUNTIF(CF6,$K$260)+COUNTIF(CF6,$K$271)+COUNTIF(CF6,$K$282)+COUNTIF(CF6,$K$293)+COUNTIF(CF6,$K$304)+COUNTIF(CF6,$K$315)+COUNTIF(CF6,$K$326)+COUNTIF(CF6,$K$448)+COUNTIF(CF6,$K$459)+COUNTIF(CF6,$K$470)+COUNTIF(CF6,$K$481) -> 0 | CL6: =COUNTIF(CF6,$K$8)+COUNTIF(CF6,$K$19)+COUNTIF(CF6,$K$30)+COUNTIF(CF6,$K$41)+COUNTIF(CF6,$K$52)+COUNTIF(CF6,$K$63)+COUNTIF(CF6,$K$74)+COUNTIF(CF6,$K$85)+COUNTIF(CF6,$K$96)+COUNTIF(CF6,$K$107)+COUNTIF(CF6,$K$118)+COUNTIF(CF6,$K$129)+COUNTIF(CF6,$K$140)+COUNTIF(CF6,$K$151)+COUNTIF(CF6,$K$162)+COUNTIF(CF6,$K$173)+COUNTIF(CF6,$K$184)+COUNTIF(CF6,$K$195)+COUNTIF(CF6,$K$206)+COUNTIF(CF6,$K$217)+COUNTIF(CF6,$K$228)+COUNTIF(CF6,$K$239)+COUNTIF(CF6,$K$250)+COUNTIF(CF6,$K$261)+COUNTIF(CF6,$K$272)+COUNTIF(CF6,$K$283)+COUNTIF(CF6,$K$294)+COUNTIF(CF6,$K$305)+COUNTIF(CF6,$K$316)+COUNTIF(CF6,$K$327)+COUNTIF(CF6,$K$449)+COUNTIF(CF6,$K$460)+COUNTIF(CF6,$K$471)+COUNTIF(CF6,$K$482) -> 0 | CM6: =COUNTIF(CF6,$K$9)+COUNTIF(CF6,$K$20)+COUNTIF(CF6,$K$31)+COUNTIF(CF6,$K$42)+COUNTIF(CF6,$K$53)+COUNTIF(CF6,$K$64)+COUNTIF(CF6,$K$75)+COUNTIF(CF6,$K$86)+COUNTIF(CF6,$K$97)+COUNTIF(CF6,$K$108)+COUNTIF(CF6,$K$119)+COUNTIF(CF6,$K$130)+COUNTIF(CF6,$K$141)+COUNTIF(CF6,$K$152)+COUNTIF(CF6,$K$163)+COUNTIF(CF6,$K$174)+ COUNTIF(CF6,$K$185)+COUNTIF(CF6,$K$196)+COUNTIF(CF6,$K$207)+COUNTIF(CF6,$K$218)+COUNTIF(CF6,$K$229)+COUNTIF(CF6,$K$240)+COUNTIF(CF6,$K$251)+COUNTIF(CF6,$K$262)+COUNTIF(CF6,$K$273)+COUNTIF(CF6,$K$284)+COUNTIF(CF6,$K$295)+COUNTIF(CF6,$K$306)+COUNTIF(CF6,$K$317)+COUNTIF(CF6,$K$328)+COUNTIF(CF6,$K$450)+COUNTIF(CF6,$K$461)+COUNTIF(CF6,$K$472)+COUNTIF(CF6,$K$483) -> 0 | CN6: =COUNTIF(CF6,$K$10)+COUNTIF(CF6,$K$21)+COUNTIF(CF6,$K$32)+COUNTIF(CF6,$K$43)+COUNTIF(CF6,$K$54)+COUNTIF(CF6,$K$65)+COUNTIF(CF6,$K$76)+COUNTIF(CF6,$K$87)+ COUNTIF(CF6,$K$98)+COUNTIF(CF6,$K$109)+COUNTIF(CF6,$K$120)+COUNTIF(CF6,$K$131)+COUNTIF(CF6,$K$142)+COUNTIF(CF6,$K$153)+COUNTIF(CF6,$K$164)+COUNTIF(CF6,$K$175)+ COUNTIF(CF6,$K$186)+COUNTIF(CF6,$K$197)+COUNTIF(CF6,$K$208)+COUNTIF(CF6,$K$219)+COUNTIF(CF6,$K$230)+COUNTIF(CF6,$K$241)+COUNTIF(CF6,$K$252)+COUNTIF(CF6,$K$263)+COUNTIF(CF6,$K$274)+COUNTIF(CF6,$K$285)+COUNTIF(CF6,$K$296)+COUNTIF(CF6,$K$307)+COUNTIF(CF6,$K$318)+COUNTIF(CF6,$K$329)+COUNTIF(CF6,$K$451)+COUNTIF(CF6,$K$462)+COUNTIF(CF6,$K$473)+COUNTIF(CF6,$K$484) -> 0 | CO6: =COUNTIF(CF6,$K$334)+COUNTIF(CF6,$K$345)+COUNTIF(CF6,$K$356)+COUNTIF(CF6,$K$367)+COUNTIF(CF6,$K$378)+COUNTIF(CF6,$K$389)+COUNTIF(CF6,$K$400)+COUNTIF(CF6,$K$411)+COUNTIF(CF6,$K$422)+COUNTIF(CF6,$K$433)+COUNTIF(CF6,$K$477)+COUNTIF(CF6,$K$488)+COUNTIF(CF6,$K$499)+COUNTIF(CF6,$K$510)+COUNTIF(CF6,$K$521)+COUNTIF(CF6,$K$532) -> 0 | CP6: =COUNTIF(CF6,$K$335)+COUNTIF(CF6,$K$346)+COUNTIF(CF6,$K$357)+COUNTIF(CF6,$K$368)+COUNTIF(CF6,$K$379)+COUNTIF(CF6,$K$390)+COUNTIF(CF6,$K$401)+COUNTIF(CF6,$K$412)+COUNTIF(CF6,$K$423)+COUNTIF(CF6,$K$434)+COUNTIF(CF6,$K$478)+COUNTIF(CF6,$K$489)+COUNTIF(CF6,$K$500)+COUNTIF(CF6,$K$511)+COUNTIF(CF6,$K$522)+COUNTIF(CF6,$K$533) -> 0 | CQ6: =COUNTIF(CF6,$K$336)+COUNTIF(CF6,$K$347)+COUNTIF(CF6,$K$358)+COUNTIF(CF6,$K$369)+COUNTIF(CF6,$K$380)+COUNTIF(CF6,$K$391)+COUNTIF(CF6,$K$402)+COUNTIF(CF6,$K$413)+COUNTIF(CF6,$K$424)+COUNTIF(CF6,$K$435)+COUNTIF(CF6,$K$479)+COUNTIF(CF6,$K$490)+COUNTIF(CF6,$K$501)+COUNTIF(CF6,$K$512)+COUNTIF(CF6,$K$523)+COUNTIF(CF6,$K$534) -> 0 | CR6: =COUNTIF(CF6,$K$337)+COUNTIF(CF6,$K$348)+COUNTIF(CF6,$K$359)+COUNTIF(CF6,$K$370)+COUNTIF(CF6,$K$381)+COUNTIF(CF6,$K$392)+COUNTIF(CF6,$K$403)+COUNTIF(CF6,$K$414)+COUNTIF(CF6,$K$425)+COUNTIF(CF6,$K$436)+COUNTIF(CF6,$K$480)+COUNTIF(CF6,$K$491)+COUNTIF(CF6,$K$502)+COUNTIF(CF6,$K$513)+COUNTIF(CF6,$K$524)+COUNTIF(CF6,$K$535) -> 0 | CS6: =COUNTIF(CF6,$K$338)+COUNTIF(CF6,$K$349)+COUNTIF(CF6,$K$360)+COUNTIF(CF6,$K$371)+COUNTIF(CF6,$K$382)+COUNTIF(CF6,$K$393)+COUNTIF(CF6,$K$404)+COUNTIF(CF6,$K$415)+COUNTIF(CF6,$K$426)+COUNTIF(CF6,$K$437)+COUNTIF(CF6,$K$481)+COUNTIF(CF6,$K$492)+COUNTIF(CF6,$K$503)+COUNTIF(CF6,$K$514)+COUNTIF(CF6,$K$525)+COUNTIF(CF6,$K$536) -> 0 | CT6: =COUNTIF(CF6,$K$339)+COUNTIF(CF6,$K$350)+COUNTIF(CF6,$K$361)+COUNTIF(CF6,$K$372)+COUNTIF(CF6,$K$383)+COUNTIF(CF6,$K$394)+COUNTIF(CF6,$K$405)+COUNTIF(CF6,$K$416)+COUNTIF(CF6,$K$427)+COUNTIF(CF6,$K$438)+COUNTIF(CF6,$K$482)+COUNTIF(CF6,$K$493)+COUNTIF(CF6,$K$504)+COUNTIF(CF6,$K$515)+COUNTIF(CF6,$K$526)+COUNTIF(CF6,$K$537) -> 0 | CV6: =IF(#REF!>0,#REF!,"") -> #REF! | CW6: =U6+AK6+BA6+BQ6+CG6 -> 0 | CX6: =V6+AL6+BB6+BR6+CH6 -> 0 | CY6: =W6+AM6+BC6+BS6+CI6 -> 0 | CZ6: =X6+AN6+BD6+BT6+CJ6 -> 0 | DA6: =Y6+AO6+BE6+BU6+CK6 -> 0 | DB6: =Z6+AP6+BF6+BV6+CL6 -> 0 | DC6: =AA6+AQ6+BG6+BW6+CM6 -> 0 | DD6: =AB6+AR6+BH6+BX6+CN6 -> 0 | ... DJ6: =AH6+AX6+BN6+CD6+CT6 -> 0 | DL6: Perşembe | DM6: =IFERROR(VLOOKUP(I3,$BP$3:$CD$60,2,0),0) -> 0 | DN6: =IFERROR(VLOOKUP(I4,$BP$3:$CD$60,3,0),0) -> 0 | DO6: =IFERROR(VLOOKUP(I5,$BP$3:$CD$60,4,0),0) -> 0 | DP6: =IFERROR(VLOOKUP(I6,$BP$3:$CD$60,5,0),0) -> 0 | DQ6: =IFERROR(VLOOKUP(I7,$BP$3:$CD$60,6,0),0) -> 0 | DR6: =IFERROR(VLOOKUP(I8,$BP$3:$CD$60,7,0),0) -> 0 | DS6: =IFERROR(VLOOKUP(I9,$BP$3:$CD$60,8,0),0) -> 0 | DT6: =IFERROR(VLOOKUP(I10,$BP$3:$CD$60,9,0),0) -> 0
