Workbook

Sheet İlk ve Acil Yardım
A1: TONYA MYO 2026-2027 GÜZ YARIYILI / İLK VE ACİL YARDIM PROGRAMI 1. SINIF DERS PROGRAMI | H1: Saatler | I1: Karşılıkları
A2: SAAT | B2: PAZARTESİ | C2: SALI | D2: ÇARŞAMBA | E2: PERŞEMBE | F2: CUMA | H2: 08.00 | I2: 08.00-08.45
A3: =VLOOKUP('Ders Programı'!A3,$H$1:$I$17,2,0) -> 08.00-08.45 | C3: AITB1001 Atatürk İlkeleri ve İnkılap Tarihi- I | F3: TDB1001 Türk Dili- I | H3: 09.00 | I3: 09.00-09.45
C4: Dr. Öğr. Üyesi Engin Çağdaş BULUT | F4: Öğr. Gör. Nazmi ARSLAN | H4: 10.00 | I4: 10.00-10.45
C5: UZEM (http://online.trabzon.edu.tr/) | F5: UZEM (http://online.trabzon.edu.tr/) | H5: 11.00 | I5: 11.00-11.45
A6: 9.30-10.15 | C6: AITB1001 Atatürk İlkeleri ve İnkılap Tarihi- I | D6: IVAY 1109 Temel Sağlık Uygulamaları (İVAY 1009 Temel Sağlık Uygulamaları, TLAY1005 Acil Hasta Bakımı- I ile birlikte) | E6: IVAY 1109 Temel Sağlık Uygulamaları (İVAY 1009 Temel Sağlık Uygulamaları, TLAY1005 Acil Hasta Bakımı- I ile birlikte) | F6: TDB1001 Türk Dili- I | H6: 13.00 | I6: 13.00-13.45
C7: Dr. Öğr. Üyesi Engin Çağdaş BULUT | D7: Dr. Öğr. Üyesi Esra BEKİRCAN | E7: Dr. Öğr. Üyesi Esra BEKİRCAN | F7: Öğr. Gör. Nazmi ARSLAN | H7: 14.00 | I7: 14.00-14.45
C8: UZEM (http://online.trabzon.edu.tr/) | D8: TAD307 | E8: TAD106 | F8: UZEM (http://online.trabzon.edu.tr/) | H8: 15.00 | I8: 15.00-15.45
A9: 10.30-11.15 | B9: YDB 1001 Yabancı Dil-I | D9: IVAY 1109 Temel Sağlık Uygulamaları (İVAY 1009 Temel Sağlık Uygulamaları, TLAY1005 Acil Hasta Bakımı- I ile birlikte) | E9: IVAY 1109 Temel Sağlık Uygulamaları (İVAY 1009 Temel Sağlık Uygulamaları, TLAY1005 Acil Hasta Bakımı- I ile birlikte) | H9: 16.00 | I9: 16.00-16.45
D10: Dr. Öğr. Üyesi Esra BEKİRCAN | E10: Dr. Öğr. Üyesi Esra BEKİRCAN | H10: 17.00 | I10: 17.00-17.45
B11: TAD302 | D11: TAD307 | E11: TAD106 | H11: 18.00 | I11: 18.00-18.45
A12: 11.30-12.15 | B12: YDB 1001 Yabancı Dil-I | D12: IVAY 1109 Temel Sağlık Uygulamaları (İVAY 1009 Temel Sağlık Uygulamaları, TLAY1005 Acil Hasta Bakımı- I ile birlikte) | E12: IVAY 1109 Temel Sağlık Uygulamaları (İVAY 1009 Temel Sağlık Uygulamaları, TLAY1005 Acil Hasta Bakımı- I ile birlikte) | H12: 19.00 | I12: 19.00-19.45
D13: Dr. Öğr. Üyesi Esra BEKİRCAN | E13: Dr. Öğr. Üyesi Esra BEKİRCAN | H13: 20.00 | I13: 20.00-20.45
B14: TAD302 | D14: TAD307 | E14: TAD106 | H14: 21.00 | I14: 21.00-21.45
B15: ÖĞLE ARASI
A16: =VLOOKUP('Ders Programı'!A7,$H$1:$I$17,2,0) -> 13.00-13.45 | B16: IVAY 1103 Fizyoloji (İVAY 1005 Fizyoloji, TYBP 1005 Fizyoloji, FZYT1003 Fizyoloji ile birlikte) | D16: IVAY 1107 Tıbbi Terminoloji (İVAY 1007 Tıbbi Terminoloji ile birlikte) | E16: IVAY 1105 Acil Sağlık Hizmetleri-I (İVAY 1001 Acil Sağlık Hizmetleri I, TLAY 1003 Acil Sağlık Hizmetleri I ile birlikte) | H16: 22.00 | I16: 22.00-22.45
B17: Dr. Öğr. Üyesi Galip USTA | D17: Dr. Öğr. Üyesi Uçar KÜÇÜK | E17: Öğr. Gör. Gülseren GÜNAYDIN | H17: 23.00 | I17: 23.00-23.45
B18: TAS301 | D18: TAD307 | E18: TAD105
A19: =VLOOKUP('Ders Programı'!A8,$H$1:$I$17,2,0) -> 14.00-14.45 | B19: IVAY 1103 Fizyoloji (İVAY 1005 Fizyoloji, TYBP 1005 Fizyoloji, FZYT1003 Fizyoloji ile birlikte) | D19: IVAY 1107 Tıbbi Terminoloji (İVAY 1007 Tıbbi Terminoloji ile birlikte) | E19: IVAY 1105 Acil Sağlık Hizmetleri-I (İVAY 1001 Acil Sağlık Hizmetleri I, TLAY 1003 Acil Sağlık Hizmetleri I ile birlikte)
B20: Dr. Öğr. Üyesi Galip USTA | D20: Dr. Öğr. Üyesi Uçar KÜÇÜK | E20: Öğr. Gör. Gülseren GÜNAYDIN
B21: TAS301 | D21: TAD307 | E21: TAD105
A22: =VLOOKUP('Ders Programı'!A9,$H$1:$I$17,2,0) -> 15.00-15.45 | B22: IVAY 1201 Anatomi (İVAY 1003 Anatomi, EHBP1005 Anatomi ile birlikte) | D22: KAR1001 Kariyer Planlama
B23: Öğr. Gör. Dr. Abdullah SARI | D23: Dr. Öğr. Üyesi Uçar KÜÇÜK
B24: TAD106 | D24: TAD307
A25: =VLOOKUP('Ders Programı'!A10,$H$1:$I$17,2,0) -> 16.00-16.45 | B25: IVAY 1201 Anatomi (İVAY 1003 Anatomi, EHBP1005 Anatomi ile birlikte)
B26: Öğr. Gör. Dr. Abdullah SARI
B27: TAD106
A29: TONYA MYO 2026-2027 GÜZ YARIYILI / İLK VE ACİL YARDIM PROGRAMI 2. SINIF DERS PROGRAMI
A30: SAAT | B30: PAZARTESİ | C30: SALI | D30: ÇARŞAMBA | E30: PERŞEMBE | F30: CUMA
A31: =VLOOKUP('Ders Programı'!A14,$H$1:$I$17,2,0) -> 08.00-08.45 | F31: İVAY 2207 İşletmede Mesleki Eğitim- 1 (İVAY 2005 Klinik Uygulama-II, TLAY2001 Staj-I ile birlikte)
F32: Dr.Öğr. Üye. Galip USTA , Dr.Öğr. Üye. Esra BEKİRCAN Öğr. Gör.Gülseren GÜNAYDIN Dr.Öğr. Üye. Uçar KÜÇÜK
F33: Hastane Uygulaması
A34: 9.30-10.15 | D34: IVAY 2205 Travma (TLAY 2003 Travma ile birlikte) | F34: İVAY 2207 İşletmede Mesleki Eğitim- 1 (İVAY 2005 Klinik Uygulama-II, TLAY2001 Staj-I ile birlikte)
D35: Öğr. Gör. Gülseren GÜNAYDIN | F35: Dr.Öğr. Üye. Galip USTA , Dr.Öğr. Üye. Esra BEKİRCAN Öğr. Gör.Gülseren GÜNAYDIN Dr.Öğr. Üye. Uçar KÜÇÜK
D36: TAD106 | F36: Hastane Uygulaması
A37: 10.30-11.15 | D37: IVAY 2205 Travma (TLAY 2003 Travma ile birlikte) | E37: IVAY 2205 Travma (TLAY 2003 Travma ile birlikte) | F37: İVAY 2207 İşletmede Mesleki Eğitim- 1 (İVAY 2005 Klinik Uygulama-II, TLAY2001 Staj-I ile birlikte)
D38: Öğr. Gör. Gülseren GÜNAYDIN | E38: Öğr. Gör. Gülseren GÜNAYDIN | F38: Dr.Öğr. Üye. Galip USTA , Dr.Öğr. Üye. Esra BEKİRCAN Öğr. Gör.Gülseren GÜNAYDIN Dr.Öğr. Üye. Uçar KÜÇÜK
D39: TAD106 | E39: TAD303 | F39: Hastane Uygulaması
A40: 11.30-12.15 | D40: IVAY 2205 Travma (TLAY 2003 Travma ile birlikte) | E40: IVAY 2205 Travma (TLAY 2003 Travma ile birlikte) | F40: İVAY 2207 İşletmede Mesleki Eğitim- 1 (İVAY 2005 Klinik Uygulama-II, TLAY2001 Staj-I ile birlikte)
D41: Öğr. Gör. Gülseren GÜNAYDIN | E41: Öğr. Gör. Gülseren GÜNAYDIN | F41: Dr.Öğr. Üye. Galip USTA , Dr.Öğr. Üye. Esra BEKİRCAN Öğr. Gör.Gülseren GÜNAYDIN Dr.Öğr. Üye. Uçar KÜÇÜK
...

Sheet Ders Programı
N1: DERS ÇAKIŞMASI KONTROLÜ | T1: DERSLİK | U1: PAZARTESİ | AJ1: DERSLİK | AK1: SALI | AZ1: DERSLİK | BA1: ÇARŞAMBA | BP1: DERSLİK | BQ1: PERŞEMBE | CF1: DERSLİK | CG1: CUMA | CV1: DERSLİK | CW1: DERSLİK DOLULUKLARININ SAATLERE GÖRE TOPLAMI | DL1: =A1 -> 0 | DQ1: =I1 -> 0
M2: SAAT | N2: Pazertesi | O2: Salı | P2: Çarşamba | Q2: Perşembe | R2: Cuma | U2: 8 | V2: 9 | W2: 10 | X2: 11 | Y2: 13 | Z2: 14 | AA2: 15 | AB2: 16 | AC2: 17 | AD2: 18 | AE2: 19 | AF2: 20 | AG2: 21 | AH2: 22 | AK2: 8 | AL2: 9 | AM2: 10 | AN2: 11 | AO2: 13 | AP2: 14 | AQ2: 15 | AR2: 16 | AS2: 17 | AT2: 18 | AU2: 19 | AV2: 20 | AW2: 21 | AX2: 22 | BA2: 8 | BB2: 9 | BC2: 10 | BD2: 11 | BE2: 13 | BF2: 14 | BG2: 15 | BH2: 16 | BI2: 17 | BJ2: 18 | BK2: 19 | BL2: 20 | BM2: 21 | BN2: 22 | BQ2: 8 | BR2: 9 | BS2: 10 | BT2: 11 | BU2: 13 | BV2: 14 | BW2: 15 | BX2: 16 | BY2: 17 | BZ2: 18 | CA2: 19 | CB2: 20 | CC2: 21 | CD2: 22 | CG2: 8 | CH2: 9 | CI2: 10 | CJ2: 11 | CK2: 13 | CL2: 14 | CM2: 15 | CN2: 16 | CO2: 17 | CP2: 18 | CQ2: 19 | CR2: 20 | CS2: 21 | CT2: 22 | CW2: 8 | CX2: 9 | CY2: 10 | CZ2: 11 | DA2: 13 | DB2: 14 | DC2: 15 | DD2: 16 | DE2: 17 | DF2: 18 | DG2: 19 | DH2: 20 | DI2: 21 | DJ2: 22 | DL2: GÜNLER | DM2: 8 | DN2: 9 | DO2: 10 | DP2: 11 | DQ2: 13 | DR2: 14 | DS2: 15 | DT2: 16
A3: 08.00 | M3: =A3 -> 08.00 | N3: =IF(DM3=0,"BOŞ",IF(DM3=1,"DERS",IF(DM3>1,"ÇAKIŞMA"))) -> BOŞ | O3: =IF(DM4=0,"BOŞ",IF(DM4=1,"DERS",IF(DM4>1,"ÇAKIŞMA"))) -> BOŞ | P3: =IF(DM5=0,"BOŞ",IF(DM5=1,"DERS",IF(DM5>1,"ÇAKIŞMA"))) -> BOŞ | Q3: =IF(DM6=0,"BOŞ",IF(DM6=1,"DERS",IF(DM6>1,"ÇAKIŞMA"))) -> BOŞ | R3: =IF(DM7=0,"BOŞ",IF(DM7=1,"DERS",IF(DM7>1,"ÇAKIŞMA"))) -> BOŞ | T3: =IF(#REF!>0,#REF!,"") -> #REF! | U3: =COUNTIF(T3,$C$3)+COUNTIF(T3,$C$14)+COUNTIF(T3,$C$25)+COUNTIF(T3,$C$36)+COUNTIF(T3,$C$47)+COUNTIF(T3,$C$58)+COUNTIF(T3,$C$69)+COUNTIF(T3,$C$80)+COUNTIF(T3,$C$91)+COUNTIF(T3,$C$102)+COUNTIF(T3,$C$113)+COUNTIF(T3,$C$124)+COUNTIF(T3,$C$135)+COUNTIF(T3,$C$146)+COUNTIF(T3,$C$157)+COUNTIF(T3,$C$168)+COUNTIF(T3,$C$179)+COUNTIF(T3,$C$190)+COUNTIF(T3,$C$201)+COUNTIF(T3,$C$212)+COUNTIF(T3,$C$223)+COUNTIF(T3,$C$234)+COUNTIF(T3,$C$245)+COUNTIF(T3,$C$256)+COUNTIF(T3,$C$267)+COUNTIF(T3,$C$278)+COUNTIF(T3,$C$289)+COUNTIF(T3,$C$300)+COUNTIF(T3,$C$311)+COUNTIF(T3,$C$322)+COUNTIF(T3,$C$444)+COUNTIF(T3,$C$455)+COUNTIF(T3,$C$466)+COUNTIF(T3,$C$477) -> 0 | V3: =COUNTIF(T3,$C$4)+COUNTIF(T3,$C$15)+COUNTIF(T3,$C$26)+COUNTIF(T3,$C$37)+COUNTIF(T3,$C$48)+COUNTIF(T3,$C$59)+COUNTIF(T3,$C$70)+COUNTIF(T3,$C$81)+COUNTIF(T3,$C$92)+COUNTIF(T3,$C$103)+COUNTIF(T3,$C$114)+COUNTIF(T3,$C$125)+COUNTIF(T3,$C$136)+COUNTIF(T3,$C$147)+COUNTIF(T3,$C$158)+COUNTIF(T3,$C$169)+COUNTIF(T3,$C$180)+COUNTIF(T3,$C$191)+COUNTIF(T3,$C$202)+COUNTIF(T3,$C$213)+COUNTIF(T3,$C$224)+COUNTIF(T3,$C$235)+COUNTIF(T3,$C$246)+COUNTIF(T3,$C$257)+COUNTIF(T3,$C$268)+COUNTIF(T3,$C$279)+COUNTIF(T3,$C$290)+COUNTIF(T3,$C$301)+COUNTIF(T3,$C$312)+COUNTIF(T3,$C$323)+COUNTIF(T3,$C$445)+COUNTIF(T3,$C$456)+COUNTIF(T3,$C$467)+COUNTIF(T3,$C$478) -> 0 | W3: =COUNTIF(T3,$C$5)+COUNTIF(T3,$C$16)+COUNTIF(T3,$C$27)+COUNTIF(T3,$C$38)+COUNTIF(T3,$C$49)+COUNTIF(T3,$C$60)+COUNTIF(T3,$C$71)+COUNTIF(T3,$C$82)+COUNTIF(T3,$C$93)+COUNTIF(T3,$C$104)+COUNTIF(T3,$C$115)+COUNTIF(T3,$C$126)+COUNTIF(T3,$C$137)+COUNTIF(T3,$C$148)+COUNTIF(T3,$C$159)+COUNTIF(T3,$C$170)+COUNTIF(T3,$C$181)+COUNTIF(T3,$C$192)+COUNTIF(T3,$C$203)+COUNTIF(T3,$C$214)+COUNTIF(T3,$C$225)+COUNTIF(T3,$C$236)+COUNTIF(T3,$C$247)+COUNTIF(T3,$C$258)+COUNTIF(T3,$C$269)+COUNTIF(T3,$C$280)+COUNTIF(T3,$C$291)+COUNTIF(T3,$C$302)+COUNTIF(T3,$C$313)+COUNTIF(T3,$C$324)+COUNTIF(T3,$C$446)+COUNTIF(T3,$C$457)+COUNTIF(T3,$C$468)+COUNTIF(T3,$C$479) -> 0 | X3: =COUNTIF(T3,$C$6)+COUNTIF(T3,$C$17)+COUNTIF(T3,$C$28)+COUNTIF(T3,$C$39)+COUNTIF(T3,$C$50)+COUNTIF(T3,$C$61)+COUNTIF(T3,$C$72)+COUNTIF(T3,$C$83)+COUNTIF(T3,$C$94)+COUNTIF(T3,$C$105)+COUNTIF(T3,$C$116)+COUNTIF(T3,$C$127)+COUNTIF(T3,$C$138)+COUNTIF(T3,$C$149)+COUNTIF(T3,$C$160)+COUNTIF(T3,$C$171)+COUNTIF(T3,$C$182)+COUNTIF(T3,$C$193)+COUNTIF(T3,$C$204)+COUNTIF(T3,$C$215)+COUNTIF(T3,$C$226)+COUNTIF(T3,$C$237)+COUNTIF(T3,$C$248)+COUNTIF(T3,$C$259)+COUNTIF(T3,$C$270)+COUNTIF(T3,$C$281)+COUNTIF(T3,$C$292)+COUNTIF(T3,$C$303)+COUNTIF(T3,$C$314)+COUNTIF(T3,$C$325)+COUNTIF(T3,$C$447)+COUNTIF(T3,$C$458)+COUNTIF(T3,$C$469)+COUNTIF(T3,$C$480) -> 0 | Y3: =COUNTIF(T3,$C$7)+COUNTIF(T3,$C$18)+COUNTIF(T3,$C$29)+COUNTIF(T3,$C$40)+COUNTIF(T3,$C$51)+COUNTIF(T3,$C$62)+COUNTIF(T3,$C$73)+COUNTIF(T3,$C$84)+COUNTIF(T3,$C$95)+COUNTIF(T3,$C$106)+COUNTIF(T3,$C$117)+COUNTIF(T3,$C$128)+COUNTIF(T3,$C$139)+COUNTIF(T3,$C$150)+COUNTIF(T3,$C$161)+COUNTIF(T3,$C$172)+COUNTIF(T3,$C$183)+COUNTIF(T3,$C$194)+COUNTIF(T3,$C$205)+COUNTIF(T3,$C$216)+COUNTIF(T3,$C$227)+COUNTIF(T3,$C$238)+COUNTIF(T3,$C$249)+COUNTIF(T3,$C$260)+COUNTIF(T3,$C$271)+COUNTIF(T3,$C$282)+COUNTIF(T3,$C$293)+COUNTIF(T3,$C$304)+COUNTIF(T3,$C$315)+COUNTIF(T3,$C$326)+COUNTIF(T3,$C$448)+COUNTIF(T3,$C$459)+COUNTIF(T3,$C$470)+COUNTIF(T3,$C$481) -> 0 | Z3: =COUNTIF(T3,$C$8)+COUNTIF(T3,$C$19)+COUNTIF(T3,$C$30)+COUNTIF(T3,$C$41)+COUNTIF(T3,$C$52)+COUNTIF(T3,$C$63)+COUNTIF(T3,$C$74)+COUNTIF(T3,$C$85)+COUNTIF(T3,$C$96)+COUNTIF(T3,$C$107)+COUNTIF(T3,$C$118)+COUNTIF(T3,$C$129)+COUNTIF(T3,$C$140)+COUNTIF(T3,$C$151)+COUNTIF(T3,$C$162)+COUNTIF(T3,$C$173)+COUNTIF(T3,$C$184)+COUNTIF(T3,$C$195)+COUNTIF(T3,$C$206)+COUNTIF(T3,$C$217)+COUNTIF(T3,$C$228)+COUNTIF(T3,$C$239)+COUNTIF(T3,$C$250)+COUNTIF(T3,$C$261)+COUNTIF(T3,$C$272)+COUNTIF(T3,$C$283)+COUNTIF(T3,$C$294)+COUNTIF(T3,$C$305)+COUNTIF(T3,$C$316)+COUNTIF(T3,$C$327)+COUNTIF(T3,$C$449)+COUNTIF(T3,$C$460)+COUNTIF(T3,$C$471)+COUNTIF(T3,$C$482) -> 0 | AA3: =COUNTIF(T3,$C$9)+COUNTIF(T3,$C$20)+COUNTIF(T3,$C$31)+COUNTIF(T3,$C$42)+COUNTIF(T3,$C$53)+COUNTIF(T3,$C$64)+COUNTIF(T3,$C$75)+COUNTIF(T3,$C$86)+COUNTIF(T3,$C$97)+COUNTIF(T3,$C$108)+COUNTIF(T3,$C$119)+COUNTIF(T3,$C$130)+COUNTIF(T3,$C$141)+COUNTIF(T3,$C$152)+COUNTIF(T3,$C$163)+COUNTIF(T3,$C$174)+ COUNTIF(T3,$C$185)+COUNTIF(T3,$C$196)+COUNTIF(T3,$C$207)+COUNTIF(T3,$C$218)+COUNTIF(T3,$C$229)+COUNTIF(T3,$C$240)+COUNTIF(T3,$C$251)+COUNTIF(T3,$C$262)+COUNTIF(T3,$C$273)+COUNTIF(T3,$C$284)+COUNTIF(T3,$C$295)+COUNTIF(T3,$C$306)+COUNTIF(T3,$C$317)+COUNTIF(T3,$C$328)+COUNTIF(T3,$C$450)+COUNTIF(T3,$C$461)+COUNTIF(T3,$C$472)+COUNTIF(T3,$C$483) -> 0 | AB3: =COUNTIF(T3,$C$10)+COUNTIF(T3,$C$21)+COUNTIF(T3,$C$32)+COUNTIF(T3,$C$43)+COUNTIF(T3,$C$54)+COUNTIF(T3,$C$65)+COUNTIF(T3,$C$76)+COUNTIF(T3,$C$87)+ COUNTIF(T3,$C$98)+COUNTIF(T3,$C$109)+COUNTIF(T3,$C$120)+COUNTIF(T3,$C$131)+COUNTIF(T3,$C$142)+COUNTIF(T3,$C$153)+COUNTIF(T3,$C$164)+COUNTIF(T3,$C$175)+ COUNTIF(T3,$C$186)+COUNTIF(T3,$C$197)+COUNTIF(T3,$C$208)+COUNTIF(T3,$C$219)+COUNTIF(T3,$C$230)+COUNTIF(T3,$C$241)+COUNTIF(T3,$C$252)+COUNTIF(T3,$C$263)+COUNTIF(T3,$C$274)+COUNTIF(T3,$C$285)+COUNTIF(T3,$C$296)+COUNTIF(T3,$C$307)+COUNTIF(T3,$C$318)+COUNTIF(T3,$C$329)+COUNTIF(T3,$C$451)+COUNTIF(T3,$C$462)+COUNTIF(T3,$C$473)+COUNTIF(T3,$C$484) -> 0 | AC3: =COUNTIF(T3,$C$334)+COUNTIF(T3,$C$345)+COUNTIF(T3,$C$356)+COUNTIF(T3,$C$367)+COUNTIF(T3,$C$378)+COUNTIF(T3,$C$389)+COUNTIF(T3,$C$400)+COUNTIF(T3,$C$411)+COUNTIF(T3,$C$422)+COUNTIF(T3,$C$433)+COUNTIF(T3,$C$477)+COUNTIF(T3,$C$488)+COUNTIF(T3,$C$499)+COUNTIF(T3,$C$510)+COUNTIF(T3,$C$521)+COUNTIF(T3,$C$532) -> 0 | AD3: =COUNTIF(T3,$C$335)+COUNTIF(T3,$C$346)+COUNTIF(T3,$C$357)+COUNTIF(T3,$C$368)+COUNTIF(T3,$C$379)+COUNTIF(T3,$C$390)+COUNTIF(T3,$C$401)+COUNTIF(T3,$C$412)+COUNTIF(T3,$C$423)+COUNTIF(T3,$C$434)+COUNTIF(T3,$C$478)+COUNTIF(T3,$C$489)+COUNTIF(T3,$C$500)+COUNTIF(T3,$C$511)+COUNTIF(T3,$C$522)+COUNTIF(T3,$C$533) -> 0 | AE3: =COUNTIF(T3,$C$336)+COUNTIF(T3,$C$347)+COUNTIF(T3,$C$358)+COUNTIF(T3,$C$369)+COUNTIF(T3,$C$380)+COUNTIF(T3,$C$391)+COUNTIF(T3,$C$402)+COUNTIF(T3,$C$413)+COUNTIF(T3,$C$424)+COUNTIF(T3,$C$435)+COUNTIF(T3,$C$479)+COUNTIF(T3,$C$490)+COUNTIF(T3,$C$501)+COUNTIF(T3,$C$512)+COUNTIF(T3,$C$523)+COUNTIF(T3,$C$534) -> 0 | AF3: =COUNTIF(T3,$C$337)+COUNTIF(T3,$C$348)+COUNTIF(T3,$C$359)+COUNTIF(T3,$C$370)+COUNTIF(T3,$C$381)+COUNTIF(T3,$C$392)+COUNTIF(T3,$C$403)+COUNTIF(T3,$C$414)+COUNTIF(T3,$C$425)+COUNTIF(T3,$C$436)+COUNTIF(T3,$C$480)+COUNTIF(T3,$C$491)+COUNTIF(T3,$C$502)+COUNTIF(T3,$C$513)+COUNTIF(T3,$C$524)+COUNTIF(T3,$C$535) -> 0 | AG3: =COUNTIF(T3,$C$338)+COUNTIF(T3,$C$349)+COUNTIF(T3,$C$360)+COUNTIF(T3,$C$371)+COUNTIF(T3,$C$382)+COUNTIF(T3,$C$393)+COUNTIF(T3,$C$404)+COUNTIF(T3,$C$415)+COUNTIF(T3,$C$426)+COUNTIF(T3,$C$437)+COUNTIF(T3,$C$481)+COUNTIF(T3,$C$492)+COUNTIF(T3,$C$503)+COUNTIF(T3,$C$514)+COUNTIF(T3,$C$525)+COUNTIF(T3,$C$536) -> 0 | AH3: =COUNTIF(T3,$C$339)+COUNTIF(T3,$C$350)+COUNTIF(T3,$C$361)+COUNTIF(T3,$C$372)+COUNTIF(T3,$C$383)+COUNTIF(T3,$C$394)+COUNTIF(T3,$C$405)+COUNTIF(T3,$C$416)+COUNTIF(T3,$C$427)+COUNTIF(T3,$C$438)+COUNTIF(T3,$C$482)+COUNTIF(T3,$C$493)+COUNTIF(T3,$C$504)+COUNTIF(T3,$C$515)+COUNTIF(T3,$C$526)+COUNTIF(T3,$C$537) -> 0 | AJ3: =IF(#REF!>0,#REF!,"") -> #REF! | AK3: =COUNTIF(AJ3,$E$3)+COUNTIF(AJ3,$E$14)+COUNTIF(AJ3,$E$25)+COUNTIF(AJ3,$E$36)+COUNTIF(AJ3,$E$47)+COUNTIF(AJ3,$E$58)+COUNTIF(AJ3,$E$69)+COUNTIF(AJ3,$E$80)+COUNTIF(AJ3,$E$91)+COUNTIF(AJ3,$E$102)+COUNTIF(AJ3,$E$113)+COUNTIF(AJ3,$E$124)+COUNTIF(AJ3,$E$135)+COUNTIF(AJ3,$E$146)+COUNTIF(AJ3,$E$157)+COUNTIF(AJ3,$E$168)+COUNTIF(AJ3,$E$179)+COUNTIF(AJ3,$E$190)+COUNTIF(AJ3,$E$201)+COUNTIF(AJ3,$E$212)+COUNTIF(AJ3,$E$223)+COUNTIF(AJ3,$E$234)+COUNTIF(AJ3,$E$245)+COUNTIF(AJ3,$E$256)+COUNTIF(AJ3,$E$267)+COUNTIF(AJ3,$E$278)+COUNTIF(AJ3,$E$289)+COUNTIF(AJ3,$E$300)+COUNTIF(AJ3,$E$311)+COUNTIF(AJ3,$E$322)+COUNTIF(AJ3,$E$444)+COUNTIF(AJ3,$E$455)+COUNTIF(AJ3,$E$466)+COUNTIF(AJ3,$E$477) -> 0 | AL3: =COUNTIF(AJ3,$E$4)+COUNTIF(AJ3,$E$15)+COUNTIF(AJ3,$E$26)+COUNTIF(AJ3,$E$37)+COUNTIF(AJ3,$E$48)+COUNTIF(AJ3,$E$59)+COUNTIF(AJ3,$E$70)+COUNTIF(AJ3,$E$81)+COUNTIF(AJ3,$E$92)+COUNTIF(AJ3,$E$103)+COUNTIF(AJ3,$E$114)+COUNTIF(AJ3,$E$125)+COUNTIF(AJ3,$E$136)+COUNTIF(AJ3,$E$147)+COUNTIF(AJ3,$E$158)+COUNTIF(AJ3,$E$169)+COUNTIF(AJ3,$E$180)+COUNTIF(AJ3,$E$191)+COUNTIF(AJ3,$E$202)+COUNTIF(AJ3,$E$213)+COUNTIF(AJ3,$E$224)+COUNTIF(AJ3,$E$235)+COUNTIF(AJ3,$E$246)+COUNTIF(AJ3,$E$257)+COUNTIF(AJ3,$E$268)+COUNTIF(AJ3,$E$279)+COUNTIF(AJ3,$E$290)+COUNTIF(AJ3,$E$301)+COUNTIF(AJ3,$E$312)+COUNTIF(AJ3,$E$323)+COUNTIF(AJ3,$E$445)+COUNTIF(AJ3,$E$456)+COUNTIF(AJ3,$E$467)+COUNTIF(AJ3,$E$478) -> 0 | AM3: =COUNTIF(AJ3,$E$5)+COUNTIF(AJ3,$E$16)+COUNTIF(AJ3,$E$27)+COUNTIF(AJ3,$E$38)+COUNTIF(AJ3,$E$49)+COUNTIF(AJ3,$E$60)+COUNTIF(AJ3,$E$71)+COUNTIF(AJ3,$E$82)+COUNTIF(AJ3,$E$93)+COUNTIF(AJ3,$E$104)+COUNTIF(AJ3,$E$115)+COUNTIF(AJ3,$E$126)+COUNTIF(AJ3,$E$137)+COUNTIF(AJ3,$E$148)+COUNTIF(AJ3,$E$159)+COUNTIF(AJ3,$E$170)+COUNTIF(AJ3,$E$181)+COUNTIF(AJ3,$E$192)+COUNTIF(AJ3,$E$203)+COUNTIF(AJ3,$E$214)+COUNTIF(AJ3,$E$225)+COUNTIF(AJ3,$E$236)+COUNTIF(AJ3,$E$247)+COUNTIF(AJ3,$E$258)+COUNTIF(AJ3,$E$269)+COUNTIF(AJ3,$E$280)+COUNTIF(AJ3,$E$291)+COUNTIF(AJ3,$E$302)+COUNTIF(AJ3,$E$313)+COUNTIF(AJ3,$E$324)+COUNTIF(AJ3,$E$446)+COUNTIF(AJ3,$E$457)+COUNTIF(AJ3,$E$468)+COUNTIF(AJ3,$E$479) -> 0 | AN3: =COUNTIF(AJ3,$E$6)+COUNTIF(AJ3,$E$17)+COUNTIF(AJ3,$E$28)+COUNTIF(AJ3,$E$39)+COUNTIF(AJ3,$E$50)+COUNTIF(AJ3,$E$61)+COUNTIF(AJ3,$E$72)+COUNTIF(AJ3,$E$83)+COUNTIF(AJ3,$E$94)+COUNTIF(AJ3,$E$105)+COUNTIF(AJ3,$E$116)+COUNTIF(AJ3,$E$127)+COUNTIF(AJ3,$E$138)+COUNTIF(AJ3,$E$149)+COUNTIF(AJ3,$E$160)+COUNTIF(AJ3,$E$171)+COUNTIF(AJ3,$E$182)+COUNTIF(AJ3,$E$193)+COUNTIF(AJ3,$E$204)+COUNTIF(AJ3,$E$215)+COUNTIF(AJ3,$E$226)+COUNTIF(AJ3,$E$237)+COUNTIF(AJ3,$E$248)+COUNTIF(AJ3,$E$259)+COUNTIF(AJ3,$E$270)+COUNTIF(AJ3,$E$281)+COUNTIF(AJ3,$E$292)+COUNTIF(AJ3,$E$303)+COUNTIF(AJ3,$E$314)+COUNTIF(AJ3,$E$325)+COUNTIF(AJ3,$E$447)+COUNTIF(AJ3,$E$458)+COUNTIF(AJ3,$E$469)+COUNTIF(AJ3,$E$480) -> 0 | AO3: =COUNTIF(AJ3,$E$7)+COUNTIF(AJ3,$E$18)+COUNTIF(AJ3,$E$29)+COUNTIF(AJ3,$E$40)+COUNTIF(AJ3,$E$51)+COUNTIF(AJ3,$E$62)+COUNTIF(AJ3,$E$73)+COUNTIF(AJ3,$E$84)+COUNTIF(AJ3,$E$95)+COUNTIF(AJ3,$E$106)+COUNTIF(AJ3,$E$117)+COUNTIF(AJ3,$E$128)+COUNTIF(AJ3,$E$139)+COUNTIF(AJ3,$E$150)+COUNTIF(AJ3,$E$161)+COUNTIF(AJ3,$E$172)+COUNTIF(AJ3,$E$183)+COUNTIF(AJ3,$E$194)+COUNTIF(AJ3,$E$205)+COUNTIF(AJ3,$E$216)+COUNTIF(AJ3,$E$227)+COUNTIF(AJ3,$E$238)+COUNTIF(AJ3,$E$249)+COUNTIF(AJ3,$E$260)+COUNTIF(AJ3,$E$271)+COUNTIF(AJ3,$E$282)+COUNTIF(AJ3,$E$293)+COUNTIF(AJ3,$E$304)+COUNTIF(AJ3,$E$315)+COUNTIF(AJ3,$E$326)+COUNTIF(AJ3,$E$448)+COUNTIF(AJ3,$E$459)+COUNTIF(AJ3,$E$470)+COUNTIF(AJ3,$E$481) -> 0 | AP3: =COUNTIF(AJ3,$E$8)+COUNTIF(AJ3,$E$19)+COUNTIF(AJ3,$E$30)+COUNTIF(AJ3,$E$41)+COUNTIF(AJ3,$E$52)+COUNTIF(AJ3,$E$63)+COUNTIF(AJ3,$E$74)+COUNTIF(AJ3,$E$85)+COUNTIF(AJ3,$E$96)+COUNTIF(AJ3,$E$107)+COUNTIF(AJ3,$E$118)+COUNTIF(AJ3,$E$129)+COUNTIF(AJ3,$E$140)+COUNTIF(AJ3,$E$151)+COUNTIF(AJ3,$E$162)+COUNTIF(AJ3,$E$173)+COUNTIF(AJ3,$E$184)+COUNTIF(AJ3,$E$195)+COUNTIF(AJ3,$E$206)+COUNTIF(AJ3,$E$217)+COUNTIF(AJ3,$E$228)+COUNTIF(AJ3,$E$239)+COUNTIF(AJ3,$E$250)+COUNTIF(AJ3,$E$261)+COUNTIF(AJ3,$E$272)+COUNTIF(AJ3,$E$283)+COUNTIF(AJ3,$E$294)+COUNTIF(AJ3,$E$305)+COUNTIF(AJ3,$E$316)+COUNTIF(AJ3,$E$327)+COUNTIF(AJ3,$E$449)+COUNTIF(AJ3,$E$460)+COUNTIF(AJ3,$E$471)+COUNTIF(AJ3,$E$482) -> 0 | AQ3: =COUNTIF(AJ3,$E$9)+COUNTIF(AJ3,$E$20)+COUNTIF(AJ3,$E$31)+COUNTIF(AJ3,$E$42)+COUNTIF(AJ3,$E$53)+COUNTIF(AJ3,$E$64)+COUNTIF(AJ3,$E$75)+COUNTIF(AJ3,$E$86)+COUNTIF(AJ3,$E$97)+COUNTIF(AJ3,$E$108)+COUNTIF(AJ3,$E$119)+COUNTIF(AJ3,$E$130)+COUNTIF(AJ3,$E$141)+COUNTIF(AJ3,$E$152)+COUNTIF(AJ3,$E$163)+COUNTIF(AJ3,$E$174)+ COUNTIF(AJ3,$E$185)+COUNTIF(AJ3,$E$196)+COUNTIF(AJ3,$E$207)+COUNTIF(AJ3,$E$218)+COUNTIF(AJ3,$E$229)+COUNTIF(AJ3,$E$240)+COUNTIF(AJ3,$E$251)+COUNTIF(AJ3,$E$262)+COUNTIF(AJ3,$E$273)+COUNTIF(AJ3,$E$284)+COUNTIF(AJ3,$E$295)+COUNTIF(AJ3,$E$306)+COUNTIF(AJ3,$E$317)+COUNTIF(AJ3,$E$328)+COUNTIF(AJ3,$E$450)+COUNTIF(AJ3,$E$461)+COUNTIF(AJ3,$E$472)+COUNTIF(AJ3,$E$483) -> 0 | AR3: =COUNTIF(AJ3,$E$10)+COUNTIF(AJ3,$E$21)+COUNTIF(AJ3,$E$32)+COUNTIF(AJ3,$E$43)+COUNTIF(AJ3,$E$54)+COUNTIF(AJ3,$E$65)+COUNTIF(AJ3,$E$76)+COUNTIF(AJ3,$E$87)+ COUNTIF(AJ3,$E$98)+COUNTIF(AJ3,$E$109)+COUNTIF(AJ3,$E$120)+COUNTIF(AJ3,$E$131)+COUNTIF(AJ3,$E$142)+COUNTIF(AJ3,$E$153)+COUNTIF(AJ3,$E$164)+COUNTIF(AJ3,$E$175)+ COUNTIF(AJ3,$E$186)+COUNTIF(AJ3,$E$197)+COUNTIF(AJ3,$E$208)+COUNTIF(AJ3,$E$219)+COUNTIF(AJ3,$E$230)+COUNTIF(AJ3,$E$241)+COUNTIF(AJ3,$E$252)+COUNTIF(AJ3,$E$263)+COUNTIF(AJ3,$E$274)+COUNTIF(AJ3,$E$285)+COUNTIF(AJ3,$E$296)+COUNTIF(AJ3,$E$307)+COUNTIF(AJ3,$E$318)+COUNTIF(AJ3,$E$329)+COUNTIF(AJ3,$E$451)+COUNTIF(AJ3,$E$462)+COUNTIF(AJ3,$E$473)+COUNTIF(AJ3,$E$484) -> 0 | AS3: =COUNTIF(AJ3,$E$334)+COUNTIF(AJ3,$E$345)+COUNTIF(AJ3,$E$356)+COUNTIF(AJ3,$E$367)+COUNTIF(AJ3,$E$378)+COUNTIF(AJ3,$E$389)+COUNTIF(AJ3,$E$400)+COUNTIF(AJ3,$E$411)+COUNTIF(AJ3,$E$422)+COUNTIF(AJ3,$E$433)+COUNTIF(AJ3,$E$477)+COUNTIF(AJ3,$E$488)+COUNTIF(AJ3,$E$499)+COUNTIF(AJ3,$E$510)+COUNTIF(AJ3,$E$521)+COUNTIF(AJ3,$E$532) -> 0 | AT3: =COUNTIF(AJ3,$E$335)+COUNTIF(AJ3,$E$346)+COUNTIF(AJ3,$E$357)+COUNTIF(AJ3,$E$368)+COUNTIF(AJ3,$E$379)+COUNTIF(AJ3,$E$390)+COUNTIF(AJ3,$E$401)+COUNTIF(AJ3,$E$412)+COUNTIF(AJ3,$E$423)+COUNTIF(AJ3,$E$434)+COUNTIF(AJ3,$E$478)+COUNTIF(AJ3,$E$489)+COUNTIF(AJ3,$E$500)+COUNTIF(AJ3,$E$511)+COUNTIF(AJ3,$E$522)+COUNTIF(AJ3,$E$533) -> 0 | AU3: =COUNTIF(AJ3,$E$336)+COUNTIF(AJ3,$E$347)+COUNTIF(AJ3,$E$358)+COUNTIF(AJ3,$E$369)+COUNTIF(AJ3,$E$380)+COUNTIF(AJ3,$E$391)+COUNTIF(AJ3,$E$402)+COUNTIF(AJ3,$E$413)+COUNTIF(AJ3,$E$424)+COUNTIF(AJ3,$E$435)+COUNTIF(AJ3,$E$479)+COUNTIF(AJ3,$E$490)+COUNTIF(AJ3,$E$501)+COUNTIF(AJ3,$E$512)+COUNTIF(AJ3,$E$523)+COUNTIF(AJ3,$E$534) -> 0 | AV3: =COUNTIF(AJ3,$E$337)+COUNTIF(AJ3,$E$348)+COUNTIF(AJ3,$E$359)+COUNTIF(AJ3,$E$370)+COUNTIF(AJ3,$E$381)+COUNTIF(AJ3,$E$392)+COUNTIF(AJ3,$E$403)+COUNTIF(AJ3,$E$414)+COUNTIF(AJ3,$E$425)+COUNTIF(AJ3,$E$436)+COUNTIF(AJ3,$E$480)+COUNTIF(AJ3,$E$491)+COUNTIF(AJ3,$E$502)+COUNTIF(AJ3,$E$513)+COUNTIF(AJ3,$E$524)+COUNTIF(AJ3,$E$535) -> 0 | AW3: =COUNTIF(AJ3,$E$338)+COUNTIF(AJ3,$E$349)+COUNTIF(AJ3,$E$360)+COUNTIF(AJ3,$E$371)+COUNTIF(AJ3,$E$382)+COUNTIF(AJ3,$E$393)+COUNTIF(AJ3,$E$404)+COUNTIF(AJ3,$E$415)+COUNTIF(AJ3,$E$426)+COUNTIF(AJ3,$E$437)+COUNTIF(AJ3,$E$481)+COUNTIF(AJ3,$E$492)+COUNTIF(AJ3,$E$503)+COUNTIF(AJ3,$E$514)+COUNTIF(AJ3,$E$525)+COUNTIF(AJ3,$E$536) -> 0 | AX3: =COUNTIF(AJ3,$E$339)+COUNTIF(AJ3,$E$350)+COUNTIF(AJ3,$E$361)+COUNTIF(AJ3,$E$372)+COUNTIF(AJ3,$E$383)+COUNTIF(AJ3,$E$394)+COUNTIF(AJ3,$E$405)+COUNTIF(AJ3,$E$416)+COUNTIF(AJ3,$E$427)+COUNTIF(AJ3,$E$438)+COUNTIF(AJ3,$E$482)+COUNTIF(AJ3,$E$493)+COUNTIF(AJ3,$E$504)+COUNTIF(AJ3,$E$515)+COUNTIF(AJ3,$E$526)+COUNTIF(AJ3,$E$537) -> 0 | AZ3: =IF(#REF!>0,#REF!,"") -> #REF! | BA3: =COUNTIF(AZ3,$G$3)+COUNTIF(AZ3,$G$14)+COUNTIF(AZ3,$G$25)+COUNTIF(AZ3,$G$36)+COUNTIF(AZ3,$G$47)+COUNTIF(AZ3,$G$58)+COUNTIF(AZ3,$G$69)+COUNTIF(AZ3,$G$80)+COUNTIF(AZ3,$G$91)+COUNTIF(AZ3,$G$102)+COUNTIF(AZ3,$G$113)+COUNTIF(AZ3,$G$124)+COUNTIF(AZ3,$G$135)+COUNTIF(AZ3,$G$146)+COUNTIF(AZ3,$G$157)+COUNTIF(AZ3,$G$168)+COUNTIF(AZ3,$G$179)+COUNTIF(AZ3,$G$190)+COUNTIF(AZ3,$G$201)+COUNTIF(AZ3,$G$212)+COUNTIF(AZ3,$G$223)+COUNTIF(AZ3,$G$234)+COUNTIF(AZ3,$G$245)+COUNTIF(AZ3,$G$256)+COUNTIF(AZ3,$G$267)+COUNTIF(AZ3,$G$278)+COUNTIF(AZ3,$G$289)+COUNTIF(AZ3,$G$300)+COUNTIF(AZ3,$G$311)+COUNTIF(AZ3,$G$322)+COUNTIF(AZ3,$G$444)+COUNTIF(AZ3,$G$455)+COUNTIF(AZ3,$G$466)+COUNTIF(AZ3,$G$477) -> 0 | BB3: =COUNTIF(AZ3,$G$4)+COUNTIF(AZ3,$G$15)+COUNTIF(AZ3,$G$26)+COUNTIF(AZ3,$G$37)+COUNTIF(AZ3,$G$48)+COUNTIF(AZ3,$G$59)+COUNTIF(AZ3,$G$70)+COUNTIF(AZ3,$G$81)+COUNTIF(AZ3,$G$92)+COUNTIF(AZ3,$G$103)+COUNTIF(AZ3,$G$114)+COUNTIF(AZ3,$G$125)+COUNTIF(AZ3,$G$136)+COUNTIF(AZ3,$G$147)+COUNTIF(AZ3,$G$158)+COUNTIF(AZ3,$G$169)+COUNTIF(AZ3,$G$180)+COUNTIF(AZ3,$G$191)+COUNTIF(AZ3,$G$202)+COUNTIF(AZ3,$G$213)+COUNTIF(AZ3,$G$224)+COUNTIF(AZ3,$G$235)+COUNTIF(AZ3,$G$246)+COUNTIF(AZ3,$G$257)+COUNTIF(AZ3,$G$268)+COUNTIF(AZ3,$G$279)+COUNTIF(AZ3,$G$290)+COUNTIF(AZ3,$G$301)+COUNTIF(AZ3,$G$312)+COUNTIF(AZ3,$G$323)+COUNTIF(AZ3,$G$445)+COUNTIF(AZ3,$G$456)+COUNTIF(AZ3,$G$467)+COUNTIF(AZ3,$G$478) -> 0 | BC3: =COUNTIF(AZ3,$G$5)+COUNTIF(AZ3,$G$16)+COUNTIF(AZ3,$G$27)+COUNTIF(AZ3,$G$38)+COUNTIF(AZ3,$G$49)+COUNTIF(AZ3,$G$60)+COUNTIF(AZ3,$G$71)+COUNTIF(AZ3,$G$82)+COUNTIF(AZ3,$G$93)+COUNTIF(AZ3,$G$104)+COUNTIF(AZ3,$G$115)+COUNTIF(AZ3,$G$126)+COUNTIF(AZ3,$G$137)+COUNTIF(AZ3,$G$148)+COUNTIF(AZ3,$G$159)+COUNTIF(AZ3,$G$170)+COUNTIF(AZ3,$G$181)+COUNTIF(AZ3,$G$192)+COUNTIF(AZ3,$G$203)+COUNTIF(AZ3,$G$214)+COUNTIF(AZ3,$G$225)+COUNTIF(AZ3,$G$236)+COUNTIF(AZ3,$G$247)+COUNTIF(AZ3,$G$258)+COUNTIF(AZ3,$G$269)+COUNTIF(AZ3,$G$280)+COUNTIF(AZ3,$G$291)+COUNTIF(AZ3,$G$302)+COUNTIF(AZ3,$G$313)+COUNTIF(AZ3,$G$324)+COUNTIF(AZ3,$G$446)+COUNTIF(AZ3,$G$457)+COUNTIF(AZ3,$G$468)+COUNTIF(AZ3,$G$479) -> 0 | BD3: =COUNTIF(AZ3,$G$6)+COUNTIF(AZ3,$G$17)+COUNTIF(AZ3,$G$28)+COUNTIF(AZ3,$G$39)+COUNTIF(AZ3,$G$50)+COUNTIF(AZ3,$G$61)+COUNTIF(AZ3,$G$72)+COUNTIF(AZ3,$G$83)+COUNTIF(AZ3,$G$94)+COUNTIF(AZ3,$G$105)+COUNTIF(AZ3,$G$116)+COUNTIF(AZ3,$G$127)+COUNTIF(AZ3,$G$138)+COUNTIF(AZ3,$G$149)+COUNTIF(AZ3,$G$160)+COUNTIF(AZ3,$G$171)+COUNTIF(AZ3,$G$182)+COUNTIF(AZ3,$G$193)+COUNTIF(AZ3,$G$204)+COUNTIF(AZ3,$G$215)+COUNTIF(AZ3,$G$226)+COUNTIF(AZ3,$G$237)+COUNTIF(AZ3,$G$248)+COUNTIF(AZ3,$G$259)+COUNTIF(AZ3,$G$270)+COUNTIF(AZ3,$G$281)+COUNTIF(AZ3,$G$292)+COUNTIF(AZ3,$G$303)+COUNTIF(AZ3,$G$314)+COUNTIF(AZ3,$G$325)+COUNTIF(AZ3,$G$447)+COUNTIF(AZ3,$G$458)+COUNTIF(AZ3,$G$469)+COUNTIF(AZ3,$G$480) -> 0 | BE3: =COUNTIF(AZ3,$G$7)+COUNTIF(AZ3,$G$18)+COUNTIF(AZ3,$G$29)+COUNTIF(AZ3,$G$40)+COUNTIF(AZ3,$G$51)+COUNTIF(AZ3,$G$62)+COUNTIF(AZ3,$G$73)+COUNTIF(AZ3,$G$84)+COUNTIF(AZ3,$G$95)+COUNTIF(AZ3,$G$106)+COUNTIF(AZ3,$G$117)+COUNTIF(AZ3,$G$128)+COUNTIF(AZ3,$G$139)+COUNTIF(AZ3,$G$150)+COUNTIF(AZ3,$G$161)+COUNTIF(AZ3,$G$172)+COUNTIF(AZ3,$G$183)+COUNTIF(AZ3,$G$194)+COUNTIF(AZ3,$G$205)+COUNTIF(AZ3,$G$216)+COUNTIF(AZ3,$G$227)+COUNTIF(AZ3,$G$238)+COUNTIF(AZ3,$G$249)+COUNTIF(AZ3,$G$260)+COUNTIF(AZ3,$G$271)+COUNTIF(AZ3,$G$282)+COUNTIF(AZ3,$G$293)+COUNTIF(AZ3,$G$304)+COUNTIF(AZ3,$G$315)+COUNTIF(AZ3,$G$326)+COUNTIF(AZ3,$G$448)+COUNTIF(AZ3,$G$459)+COUNTIF(AZ3,$G$470)+COUNTIF(AZ3,$G$481) -> 0 | BF3: =COUNTIF(AZ3,$G$8)+COUNTIF(AZ3,$G$19)+COUNTIF(AZ3,$G$30)+COUNTIF(AZ3,$G$41)+COUNTIF(AZ3,$G$52)+COUNTIF(AZ3,$G$63)+COUNTIF(AZ3,$G$74)+COUNTIF(AZ3,$G$85)+COUNTIF(AZ3,$G$96)+COUNTIF(AZ3,$G$107)+COUNTIF(AZ3,$G$118)+COUNTIF(AZ3,$G$129)+COUNTIF(AZ3,$G$140)+COUNTIF(AZ3,$G$151)+COUNTIF(AZ3,$G$162)+COUNTIF(AZ3,$G$173)+COUNTIF(AZ3,$G$184)+COUNTIF(AZ3,$G$195)+COUNTIF(AZ3,$G$206)+COUNTIF(AZ3,$G$217)+COUNTIF(AZ3,$G$228)+COUNTIF(AZ3,$G$239)+COUNTIF(AZ3,$G$250)+COUNTIF(AZ3,$G$261)+COUNTIF(AZ3,$G$272)+COUNTIF(AZ3,$G$283)+COUNTIF(AZ3,$G$294)+COUNTIF(AZ3,$G$305)+COUNTIF(AZ3,$G$316)+COUNTIF(AZ3,$G$327)+COUNTIF(AZ3,$G$449)+COUNTIF(AZ3,$G$460)+COUNTIF(AZ3,$G$471)+COUNTIF(AZ3,$G$482) -> 0 | BG3: =COUNTIF(AZ3,$G$9)+COUNTIF(AZ3,$G$20)+COUNTIF(AZ3,$G$31)+COUNTIF(AZ3,$G$42)+COUNTIF(AZ3,$G$53)+COUNTIF(AZ3,$G$64)+COUNTIF(AZ3,$G$75)+COUNTIF(AZ3,$G$86)+COUNTIF(AZ3,$G$97)+COUNTIF(AZ3,$G$108)+COUNTIF(AZ3,$G$119)+COUNTIF(AZ3,$G$130)+COUNTIF(AZ3,$G$141)+COUNTIF(AZ3,$G$152)+COUNTIF(AZ3,$G$163)+COUNTIF(AZ3,$G$174)+ COUNTIF(AZ3,$G$185)+COUNTIF(AZ3,$G$196)+COUNTIF(AZ3,$G$207)+COUNTIF(AZ3,$G$218)+COUNTIF(AZ3,$G$229)+COUNTIF(AZ3,$G$240)+COUNTIF(AZ3,$G$251)+COUNTIF(AZ3,$G$262)+COUNTIF(AZ3,$G$273)+COUNTIF(AZ3,$G$284)+COUNTIF(AZ3,$G$295)+COUNTIF(AZ3,$G$306)+COUNTIF(AZ3,$G$317)+COUNTIF(AZ3,$G$328)+COUNTIF(AZ3,$G$450)+COUNTIF(AZ3,$G$461)+COUNTIF(AZ3,$G$472)+COUNTIF(AZ3,$G$483) -> 0 | BH3: =COUNTIF(AZ3,$G$10)+COUNTIF(AZ3,$G$21)+COUNTIF(AZ3,$G$32)+COUNTIF(AZ3,$G$43)+COUNTIF(AZ3,$G$54)+COUNTIF(AZ3,$G$65)+COUNTIF(AZ3,$G$76)+COUNTIF(AZ3,$G$87)+ COUNTIF(AZ3,$G$98)+COUNTIF(AZ3,$G$109)+COUNTIF(AZ3,$G$120)+COUNTIF(AZ3,$G$131)+COUNTIF(AZ3,$G$142)+COUNTIF(AZ3,$G$153)+COUNTIF(AZ3,$G$164)+COUNTIF(AZ3,$G$175)+ COUNTIF(AZ3,$G$186)+COUNTIF(AZ3,$G$197)+COUNTIF(AZ3,$G$208)+COUNTIF(AZ3,$G$219)+COUNTIF(AZ3,$G$230)+COUNTIF(AZ3,$G$241)+COUNTIF(AZ3,$G$252)+COUNTIF(AZ3,$G$263)+COUNTIF(AZ3,$G$274)+COUNTIF(AZ3,$G$285)+COUNTIF(AZ3,$G$296)+COUNTIF(AZ3,$G$307)+COUNTIF(AZ3,$G$318)+COUNTIF(AZ3,$G$329)+COUNTIF(AZ3,$G$451)+COUNTIF(AZ3,$G$462)+COUNTIF(AZ3,$G$473)+COUNTIF(AZ3,$G$484) -> 0 | BI3: =COUNTIF(AZ3,$G$334)+COUNTIF(AZ3,$G$345)+COUNTIF(AZ3,$G$356)+COUNTIF(AZ3,$G$367)+COUNTIF(AZ3,$G$378)+COUNTIF(AZ3,$G$389)+COUNTIF(AZ3,$G$400)+COUNTIF(AZ3,$G$411)+COUNTIF(AZ3,$G$422)+COUNTIF(AZ3,$G$433)+COUNTIF(AZ3,$G$477)+COUNTIF(AZ3,$G$488)+COUNTIF(AZ3,$G$499)+COUNTIF(AZ3,$G$510)+COUNTIF(AZ3,$G$521)+COUNTIF(AZ3,$G$532) -> 0 | BJ3: =COUNTIF(AZ3,$G$335)+COUNTIF(AZ3,$G$346)+COUNTIF(AZ3,$G$357)+COUNTIF(AZ3,$G$368)+COUNTIF(AZ3,$G$379)+COUNTIF(AZ3,$G$390)+COUNTIF(AZ3,$G$401)+COUNTIF(AZ3,$G$412)+COUNTIF(AZ3,$G$423)+COUNTIF(AZ3,$G$434)+COUNTIF(AZ3,$G$478)+COUNTIF(AZ3,$G$489)+COUNTIF(AZ3,$G$500)+COUNTIF(AZ3,$G$511)+COUNTIF(AZ3,$G$522)+COUNTIF(AZ3,$G$533) -> 0 | BK3: =COUNTIF(AZ3,$G$336)+COUNTIF(AZ3,$G$347)+COUNTIF(AZ3,$G$358)+COUNTIF(AZ3,$G$369)+COUNTIF(AZ3,$G$380)+COUNTIF(AZ3,$G$391)+COUNTIF(AZ3,$G$402)+COUNTIF(AZ3,$G$413)+COUNTIF(AZ3,$G$424)+COUNTIF(AZ3,$G$435)+COUNTIF(AZ3,$G$479)+COUNTIF(AZ3,$G$490)+COUNTIF(AZ3,$G$501)+COUNTIF(AZ3,$G$512)+COUNTIF(AZ3,$G$523)+COUNTIF(AZ3,$G$534) -> 0 | BL3: =COUNTIF(AZ3,$G$337)+COUNTIF(AZ3,$G$348)+COUNTIF(AZ3,$G$359)+COUNTIF(AZ3,$G$370)+COUNTIF(AZ3,$G$381)+COUNTIF(AZ3,$G$392)+COUNTIF(AZ3,$G$403)+COUNTIF(AZ3,$G$414)+COUNTIF(AZ3,$G$425)+COUNTIF(AZ3,$G$436)+COUNTIF(AZ3,$G$480)+COUNTIF(AZ3,$G$491)+COUNTIF(AZ3,$G$502)+COUNTIF(AZ3,$G$513)+COUNTIF(AZ3,$G$524)+COUNTIF(AZ3,$G$535) -> 0 | BM3: =COUNTIF(AZ3,$G$338)+COUNTIF(AZ3,$G$349)+COUNTIF(AZ3,$G$360)+COUNTIF(AZ3,$G$371)+COUNTIF(AZ3,$G$382)+COUNTIF(AZ3,$G$393)+COUNTIF(AZ3,$G$404)+COUNTIF(AZ3,$G$415)+COUNTIF(AZ3,$G$426)+COUNTIF(AZ3,$G$437)+COUNTIF(AZ3,$G$481)+COUNTIF(AZ3,$G$492)+COUNTIF(AZ3,$G$503)+COUNTIF(AZ3,$G$514)+COUNTIF(AZ3,$G$525)+COUNTIF(AZ3,$G$536) -> 0 | BN3: =COUNTIF(AZ3,$G$339)+COUNTIF(AZ3,$G$350)+COUNTIF(AZ3,$G$361)+COUNTIF(AZ3,$G$372)+COUNTIF(AZ3,$G$383)+COUNTIF(AZ3,$G$394)+COUNTIF(AZ3,$G$405)+COUNTIF(AZ3,$G$416)+COUNTIF(AZ3,$G$427)+COUNTIF(AZ3,$G$438)+COUNTIF(AZ3,$G$482)+COUNTIF(AZ3,$G$493)+COUNTIF(AZ3,$G$504)+COUNTIF(AZ3,$G$515)+COUNTIF(AZ3,$G$526)+COUNTIF(AZ3,$G$537) -> 0 | BP3: =IF(#REF!>0,#REF!,"") -> #REF! | BQ3: =COUNTIF(BP3,$I$3)+COUNTIF(BP3,$I$14)+COUNTIF(BP3,$I$25)+COUNTIF(BP3,$I$36)+COUNTIF(BP3,$I$47)+COUNTIF(BP3,$I$58)+COUNTIF(BP3,$I$69)+COUNTIF(BP3,$I$80)+COUNTIF(BP3,$I$91)+COUNTIF(BP3,$I$102)+COUNTIF(BP3,$I$113)+COUNTIF(BP3,$I$124)+COUNTIF(BP3,$I$135)+COUNTIF(BP3,$I$146)+COUNTIF(BP3,$I$157)+COUNTIF(BP3,$I$168)+COUNTIF(BP3,$I$179)+COUNTIF(BP3,$I$190)+COUNTIF(BP3,$I$201)+COUNTIF(BP3,$I$212)+COUNTIF(BP3,$I$223)+COUNTIF(BP3,$I$234)+COUNTIF(BP3,$I$245)+COUNTIF(BP3,$I$256)+COUNTIF(BP3,$I$267)+COUNTIF(BP3,$I$278)+COUNTIF(BP3,$I$289)+COUNTIF(BP3,$I$300)+COUNTIF(BP3,$I$311)+COUNTIF(BP3,$I$322)+COUNTIF(BP3,$I$444)+COUNTIF(BP3,$I$455)+COUNTIF(BP3,$I$466)+COUNTIF(BP3,$I$477) -> 0 | BR3: =COUNTIF(BP3,$I$4)+COUNTIF(BP3,$I$15)+COUNTIF(BP3,$I$26)+COUNTIF(BP3,$I$37)+COUNTIF(BP3,$I$48)+COUNTIF(BP3,$I$59)+COUNTIF(BP3,$I$70)+COUNTIF(BP3,$I$81)+COUNTIF(BP3,$I$92)+COUNTIF(BP3,$I$103)+COUNTIF(BP3,$I$114)+COUNTIF(BP3,$I$125)+COUNTIF(BP3,$I$136)+COUNTIF(BP3,$I$147)+COUNTIF(BP3,$I$158)+COUNTIF(BP3,$I$169)+COUNTIF(BP3,$I$180)+COUNTIF(BP3,$I$191)+COUNTIF(BP3,$I$202)+COUNTIF(BP3,$I$213)+COUNTIF(BP3,$I$224)+COUNTIF(BP3,$I$235)+COUNTIF(BP3,$I$246)+COUNTIF(BP3,$I$257)+COUNTIF(BP3,$I$268)+COUNTIF(BP3,$I$279)+COUNTIF(BP3,$I$290)+COUNTIF(BP3,$I$301)+COUNTIF(BP3,$I$312)+COUNTIF(BP3,$I$323)+COUNTIF(BP3,$I$445)+COUNTIF(BP3,$I$456)+COUNTIF(BP3,$I$467)+COUNTIF(BP3,$I$478) -> 0 | BS3: =COUNTIF(BP3,$I$5)+COUNTIF(BP3,$I$16)+COUNTIF(BP3,$I$27)+COUNTIF(BP3,$I$38)+COUNTIF(BP3,$I$49)+COUNTIF(BP3,$I$60)+COUNTIF(BP3,$I$71)+COUNTIF(BP3,$I$82)+COUNTIF(BP3,$I$93)+COUNTIF(BP3,$I$104)+COUNTIF(BP3,$I$115)+COUNTIF(BP3,$I$126)+COUNTIF(BP3,$I$137)+COUNTIF(BP3,$I$148)+COUNTIF(BP3,$I$159)+COUNTIF(BP3,$I$170)+COUNTIF(BP3,$I$181)+COUNTIF(BP3,$I$192)+COUNTIF(BP3,$I$203)+COUNTIF(BP3,$I$214)+COUNTIF(BP3,$I$225)+COUNTIF(BP3,$I$236)+COUNTIF(BP3,$I$247)+COUNTIF(BP3,$I$258)+COUNTIF(BP3,$I$269)+COUNTIF(BP3,$I$280)+COUNTIF(BP3,$I$291)+COUNTIF(BP3,$I$302)+COUNTIF(BP3,$I$313)+COUNTIF(BP3,$I$324)+COUNTIF(BP3,$I$446)+COUNTIF(BP3,$I$457)+COUNTIF(BP3,$I$468)+COUNTIF(BP3,$I$479) -> 0 | BT3: =COUNTIF(BP3,$I$6)+COUNTIF(BP3,$I$17)+COUNTIF(BP3,$I$28)+COUNTIF(BP3,$I$39)+COUNTIF(BP3,$I$50)+COUNTIF(BP3,$I$61)+COUNTIF(BP3,$I$72)+COUNTIF(BP3,$I$83)+COUNTIF(BP3,$I$94)+COUNTIF(BP3,$I$105)+COUNTIF(BP3,$I$116)+COUNTIF(BP3,$I$127)+COUNTIF(BP3,$I$138)+COUNTIF(BP3,$I$149)+COUNTIF(BP3,$I$160)+COUNTIF(BP3,$I$171)+COUNTIF(BP3,$I$182)+COUNTIF(BP3,$I$193)+COUNTIF(BP3,$I$204)+COUNTIF(BP3,$I$215)+COUNTIF(BP3,$I$226)+COUNTIF(BP3,$I$237)+COUNTIF(BP3,$I$248)+COUNTIF(BP3,$I$259)+COUNTIF(BP3,$I$270)+COUNTIF(BP3,$I$281)+COUNTIF(BP3,$I$292)+COUNTIF(BP3,$I$303)+COUNTIF(BP3,$I$314)+COUNTIF(BP3,$I$325)+COUNTIF(BP3,$I$447)+COUNTIF(BP3,$I$458)+COUNTIF(BP3,$I$469)+COUNTIF(BP3,$I$480) -> 0 | BU3: =COUNTIF(BP3,$I$7)+COUNTIF(BP3,$I$18)+COUNTIF(BP3,$I$29)+COUNTIF(BP3,$I$40)+COUNTIF(BP3,$I$51)+COUNTIF(BP3,$I$62)+COUNTIF(BP3,$I$73)+COUNTIF(BP3,$I$84)+COUNTIF(BP3,$I$95)+COUNTIF(BP3,$I$106)+COUNTIF(BP3,$I$117)+COUNTIF(BP3,$I$128)+COUNTIF(BP3,$I$139)+COUNTIF(BP3,$I$150)+COUNTIF(BP3,$I$161)+COUNTIF(BP3,$I$172)+COUNTIF(BP3,$I$183)+COUNTIF(BP3,$I$194)+COUNTIF(BP3,$I$205)+COUNTIF(BP3,$I$216)+COUNTIF(BP3,$I$227)+COUNTIF(BP3,$I$238)+COUNTIF(BP3,$I$249)+COUNTIF(BP3,$I$260)+COUNTIF(BP3,$I$271)+COUNTIF(BP3,$I$282)+COUNTIF(BP3,$I$293)+COUNTIF(BP3,$I$304)+COUNTIF(BP3,$I$315)+COUNTIF(BP3,$I$326)+COUNTIF(BP3,$I$448)+COUNTIF(BP3,$I$459)+COUNTIF(BP3,$I$470)+COUNTIF(BP3,$I$481) -> 0 | BV3: =COUNTIF(BP3,$I$8)+COUNTIF(BP3,$I$19)+COUNTIF(BP3,$I$30)+COUNTIF(BP3,$I$41)+COUNTIF(BP3,$I$52)+COUNTIF(BP3,$I$63)+COUNTIF(BP3,$I$74)+COUNTIF(BP3,$I$85)+COUNTIF(BP3,$I$96)+COUNTIF(BP3,$I$107)+COUNTIF(BP3,$I$118)+COUNTIF(BP3,$I$129)+COUNTIF(BP3,$I$140)+COUNTIF(BP3,$I$151)+COUNTIF(BP3,$I$162)+COUNTIF(BP3,$I$173)+COUNTIF(BP3,$I$184)+COUNTIF(BP3,$I$195)+COUNTIF(BP3,$I$206)+COUNTIF(BP3,$I$217)+COUNTIF(BP3,$I$228)+COUNTIF(BP3,$I$239)+COUNTIF(BP3,$I$250)+COUNTIF(BP3,$I$261)+COUNTIF(BP3,$I$272)+COUNTIF(BP3,$I$283)+COUNTIF(BP3,$I$294)+COUNTIF(BP3,$I$305)+COUNTIF(BP3,$I$316)+COUNTIF(BP3,$I$327)+COUNTIF(BP3,$I$449)+COUNTIF(BP3,$I$460)+COUNTIF(BP3,$I$471)+COUNTIF(BP3,$I$482) -> 0 | BW3: =COUNTIF(BP3,$I$9)+COUNTIF(BP3,$I$20)+COUNTIF(BP3,$I$31)+COUNTIF(BP3,$I$42)+COUNTIF(BP3,$I$53)+COUNTIF(BP3,$I$64)+COUNTIF(BP3,$I$75)+COUNTIF(BP3,$I$86)+COUNTIF(BP3,$I$97)+COUNTIF(BP3,$I$108)+COUNTIF(BP3,$I$119)+COUNTIF(BP3,$I$130)+COUNTIF(BP3,$I$141)+COUNTIF(BP3,$I$152)+COUNTIF(BP3,$I$163)+COUNTIF(BP3,$I$174)+ COUNTIF(BP3,$I$185)+COUNTIF(BP3,$I$196)+COUNTIF(BP3,$I$207)+COUNTIF(BP3,$I$218)+COUNTIF(BP3,$I$229)+COUNTIF(BP3,$I$240)+COUNTIF(BP3,$I$251)+COUNTIF(BP3,$I$262)+COUNTIF(BP3,$I$273)+COUNTIF(BP3,$I$284)+COUNTIF(BP3,$I$295)+COUNTIF(BP3,$I$306)+COUNTIF(BP3,$I$317)+COUNTIF(BP3,$I$328)+COUNTIF(BP3,$I$450)+COUNTIF(BP3,$I$461)+COUNTIF(BP3,$I$472)+COUNTIF(BP3,$I$483) -> 0 | BX3: =COUNTIF(BP3,$I$10)+COUNTIF(BP3,$I$21)+COUNTIF(BP3,$I$32)+COUNTIF(BP3,$I$43)+COUNTIF(BP3,$I$54)+COUNTIF(BP3,$I$65)+COUNTIF(BP3,$I$76)+COUNTIF(BP3,$I$87)+ COUNTIF(BP3,$I$98)+COUNTIF(BP3,$I$109)+COUNTIF(BP3,$I$120)+COUNTIF(BP3,$I$131)+COUNTIF(BP3,$I$142)+COUNTIF(BP3,$I$153)+COUNTIF(BP3,$I$164)+COUNTIF(BP3,$I$175)+ COUNTIF(BP3,$I$186)+COUNTIF(BP3,$I$197)+COUNTIF(BP3,$I$208)+COUNTIF(BP3,$I$219)+COUNTIF(BP3,$I$230)+COUNTIF(BP3,$I$241)+COUNTIF(BP3,$I$252)+COUNTIF(BP3,$I$263)+COUNTIF(BP3,$I$274)+COUNTIF(BP3,$I$285)+COUNTIF(BP3,$I$296)+COUNTIF(BP3,$I$307)+COUNTIF(BP3,$I$318)+COUNTIF(BP3,$I$329)+COUNTIF(BP3,$I$451)+COUNTIF(BP3,$I$462)+COUNTIF(BP3,$I$473)+COUNTIF(BP3,$I$484) -> 0 | BY3: =COUNTIF(BP3,$I$334)+COUNTIF(BP3,$I$345)+COUNTIF(BP3,$I$356)+COUNTIF(BP3,$I$367)+COUNTIF(BP3,$I$378)+COUNTIF(BP3,$I$389)+COUNTIF(BP3,$I$400)+COUNTIF(BP3,$I$411)+COUNTIF(BP3,$I$422)+COUNTIF(BP3,$I$433)+COUNTIF(BP3,$I$477)+COUNTIF(BP3,$I$488)+COUNTIF(BP3,$I$499)+COUNTIF(BP3,$I$510)+COUNTIF(BP3,$I$521)+COUNTIF(BP3,$I$532) -> 0 | BZ3: =COUNTIF(BP3,$I$335)+COUNTIF(BP3,$I$346)+COUNTIF(BP3,$I$357)+COUNTIF(BP3,$I$368)+COUNTIF(BP3,$I$379)+COUNTIF(BP3,$I$390)+COUNTIF(BP3,$I$401)+COUNTIF(BP3,$I$412)+COUNTIF(BP3,$I$423)+COUNTIF(BP3,$I$434)+COUNTIF(BP3,$I$478)+COUNTIF(BP3,$I$489)+COUNTIF(BP3,$I$500)+COUNTIF(BP3,$I$511)+COUNTIF(BP3,$I$522)+COUNTIF(BP3,$I$533) -> 0 | CA3: =COUNTIF(BP3,$I$336)+COUNTIF(BP3,$I$347)+COUNTIF(BP3,$I$358)+COUNTIF(BP3,$I$369)+COUNTIF(BP3,$I$380)+COUNTIF(BP3,$I$391)+COUNTIF(BP3,$I$402)+COUNTIF(BP3,$I$413)+COUNTIF(BP3,$I$424)+COUNTIF(BP3,$I$435)+COUNTIF(BP3,$I$479)+COUNTIF(BP3,$I$490)+COUNTIF(BP3,$I$501)+COUNTIF(BP3,$I$512)+COUNTIF(BP3,$I$523)+COUNTIF(BP3,$I$534) -> 0 | CB3: =COUNTIF(BP3,$I$337)+COUNTIF(BP3,$I$348)+COUNTIF(BP3,$I$359)+COUNTIF(BP3,$I$370)+COUNTIF(BP3,$I$381)+COUNTIF(BP3,$I$392)+COUNTIF(BP3,$I$403)+COUNTIF(BP3,$I$414)+COUNTIF(BP3,$I$425)+COUNTIF(BP3,$I$436)+COUNTIF(BP3,$I$480)+COUNTIF(BP3,$I$491)+COUNTIF(BP3,$I$502)+COUNTIF(BP3,$I$513)+COUNTIF(BP3,$I$524)+COUNTIF(BP3,$I$535) -> 0 | CC3: =COUNTIF(BP3,$I$338)+COUNTIF(BP3,$I$349)+COUNTIF(BP3,$I$360)+COUNTIF(BP3,$I$371)+COUNTIF(BP3,$I$382)+COUNTIF(BP3,$I$393)+COUNTIF(BP3,$I$404)+COUNTIF(BP3,$I$415)+COUNTIF(BP3,$I$426)+COUNTIF(BP3,$I$437)+COUNTIF(BP3,$I$481)+COUNTIF(BP3,$I$492)+COUNTIF(BP3,$I$503)+COUNTIF(BP3,$I$514)+COUNTIF(BP3,$I$525)+COUNTIF(BP3,$I$536) -> 0 | CD3: =COUNTIF(BP3,$I$339)+COUNTIF(BP3,$I$350)+COUNTIF(BP3,$I$361)+COUNTIF(BP3,$I$372)+COUNTIF(BP3,$I$383)+COUNTIF(BP3,$I$394)+COUNTIF(BP3,$I$405)+COUNTIF(BP3,$I$416)+COUNTIF(BP3,$I$427)+COUNTIF(BP3,$I$438)+COUNTIF(BP3,$I$482)+COUNTIF(BP3,$I$493)+COUNTIF(BP3,$I$504)+COUNTIF(BP3,$I$515)+COUNTIF(BP3,$I$526)+COUNTIF(BP3,$I$537) -> 0 | CF3: =IF(#REF!>0,#REF!,"") -> #REF! | CG3: =COUNTIF(CF3,$K$3)+COUNTIF(CF3,$K$14)+COUNTIF(CF3,$K$25)+COUNTIF(CF3,$K$36)+COUNTIF(CF3,$K$47)+COUNTIF(CF3,$K$58)+COUNTIF(CF3,$K$69)+COUNTIF(CF3,$K$80)+COUNTIF(CF3,$K$91)+COUNTIF(CF3,$K$102)+COUNTIF(CF3,$K$113)+COUNTIF(CF3,$K$124)+COUNTIF(CF3,$K$135)+COUNTIF(CF3,$K$146)+COUNTIF(CF3,$K$157)+COUNTIF(CF3,$K$168)+COUNTIF(CF3,$K$179)+COUNTIF(CF3,$K$190)+COUNTIF(CF3,$K$201)+COUNTIF(CF3,$K$212)+COUNTIF(CF3,$K$223)+COUNTIF(CF3,$K$234)+COUNTIF(CF3,$K$245)+COUNTIF(CF3,$K$256)+COUNTIF(CF3,$K$267)+COUNTIF(CF3,$K$278)+COUNTIF(CF3,$K$289)+COUNTIF(CF3,$K$300)+COUNTIF(CF3,$K$311)+COUNTIF(CF3,$K$322)+COUNTIF(CF3,$K$444)+COUNTIF(CF3,$K$455)+COUNTIF(CF3,$K$466)+COUNTIF(CF3,$K$477) -> 0 | CH3: =COUNTIF(CF3,$K$4)+COUNTIF(CF3,$K$15)+COUNTIF(CF3,$K$26)+COUNTIF(CF3,$K$37)+COUNTIF(CF3,$K$48)+COUNTIF(CF3,$K$59)+COUNTIF(CF3,$K$70)+COUNTIF(CF3,$K$81)+COUNTIF(CF3,$K$92)+COUNTIF(CF3,$K$103)+COUNTIF(CF3,$K$114)+COUNTIF(CF3,$K$125)+COUNTIF(CF3,$K$136)+COUNTIF(CF3,$K$147)+COUNTIF(CF3,$K$158)+COUNTIF(CF3,$K$169)+COUNTIF(CF3,$K$180)+COUNTIF(CF3,$K$191)+COUNTIF(CF3,$K$202)+COUNTIF(CF3,$K$213)+COUNTIF(CF3,$K$224)+COUNTIF(CF3,$K$235)+COUNTIF(CF3,$K$246)+COUNTIF(CF3,$K$257)+COUNTIF(CF3,$K$268)+COUNTIF(CF3,$K$279)+COUNTIF(CF3,$K$290)+COUNTIF(CF3,$K$301)+COUNTIF(CF3,$K$312)+COUNTIF(CF3,$K$323)+COUNTIF(CF3,$K$445)+COUNTIF(CF3,$K$456)+COUNTIF(CF3,$K$467)+COUNTIF(CF3,$K$478) -> 0 | CI3: =COUNTIF(CF3,$K$5)+COUNTIF(CF3,$K$16)+COUNTIF(CF3,$K$27)+COUNTIF(CF3,$K$38)+COUNTIF(CF3,$K$49)+COUNTIF(CF3,$K$60)+COUNTIF(CF3,$K$71)+COUNTIF(CF3,$K$82)+COUNTIF(CF3,$K$93)+COUNTIF(CF3,$K$104)+COUNTIF(CF3,$K$115)+COUNTIF(CF3,$K$126)+COUNTIF(CF3,$K$137)+COUNTIF(CF3,$K$148)+COUNTIF(CF3,$K$159)+COUNTIF(CF3,$K$170)+COUNTIF(CF3,$K$181)+COUNTIF(CF3,$K$192)+COUNTIF(CF3,$K$203)+COUNTIF(CF3,$K$214)+COUNTIF(CF3,$K$225)+COUNTIF(CF3,$K$236)+COUNTIF(CF3,$K$247)+COUNTIF(CF3,$K$258)+COUNTIF(CF3,$K$269)+COUNTIF(CF3,$K$280)+COUNTIF(CF3,$K$291)+COUNTIF(CF3,$K$302)+COUNTIF(CF3,$K$313)+COUNTIF(CF3,$K$324)+COUNTIF(CF3,$K$446)+COUNTIF(CF3,$K$457)+COUNTIF(CF3,$K$468)+COUNTIF(CF3,$K$479) -> 0 | CJ3: =COUNTIF(CF3,$K$6)+COUNTIF(CF3,$K$17)+COUNTIF(CF3,$K$28)+COUNTIF(CF3,$K$39)+COUNTIF(CF3,$K$50)+COUNTIF(CF3,$K$61)+COUNTIF(CF3,$K$72)+COUNTIF(CF3,$K$83)+COUNTIF(CF3,$K$94)+COUNTIF(CF3,$K$105)+COUNTIF(CF3,$K$116)+COUNTIF(CF3,$K$127)+COUNTIF(CF3,$K$138)+COUNTIF(CF3,$K$149)+COUNTIF(CF3,$K$160)+COUNTIF(CF3,$K$171)+COUNTIF(CF3,$K$182)+COUNTIF(CF3,$K$193)+COUNTIF(CF3,$K$204)+COUNTIF(CF3,$K$215)+COUNTIF(CF3,$K$226)+COUNTIF(CF3,$K$237)+COUNTIF(CF3,$K$248)+COUNTIF(CF3,$K$259)+COUNTIF(CF3,$K$270)+COUNTIF(CF3,$K$281)+COUNTIF(CF3,$K$292)+COUNTIF(CF3,$K$303)+COUNTIF(CF3,$K$314)+COUNTIF(CF3,$K$325)+COUNTIF(CF3,$K$447)+COUNTIF(CF3,$K$458)+COUNTIF(CF3,$K$469)+COUNTIF(CF3,$K$480) -> 0 | CK3: =COUNTIF(CF3,$K$7)+COUNTIF(CF3,$K$18)+COUNTIF(CF3,$K$29)+COUNTIF(CF3,$K$40)+COUNTIF(CF3,$K$51)+COUNTIF(CF3,$K$62)+COUNTIF(CF3,$K$73)+COUNTIF(CF3,$K$84)+COUNTIF(CF3,$K$95)+COUNTIF(CF3,$K$106)+COUNTIF(CF3,$K$117)+COUNTIF(CF3,$K$128)+COUNTIF(CF3,$K$139)+COUNTIF(CF3,$K$150)+COUNTIF(CF3,$K$161)+COUNTIF(CF3,$K$172)+COUNTIF(CF3,$K$183)+COUNTIF(CF3,$K$194)+COUNTIF(CF3,$K$205)+COUNTIF(CF3,$K$216)+COUNTIF(CF3,$K$227)+COUNTIF(CF3,$K$238)+COUNTIF(CF3,$K$249)+COUNTIF(CF3,$K$260)+COUNTIF(CF3,$K$271)+COUNTIF(CF3,$K$282)+COUNTIF(CF3,$K$293)+COUNTIF(CF3,$K$304)+COUNTIF(CF3,$K$315)+COUNTIF(CF3,$K$326)+COUNTIF(CF3,$K$448)+COUNTIF(CF3,$K$459)+COUNTIF(CF3,$K$470)+COUNTIF(CF3,$K$481) -> 0 | CL3: =COUNTIF(CF3,$K$8)+COUNTIF(CF3,$K$19)+COUNTIF(CF3,$K$30)+COUNTIF(CF3,$K$41)+COUNTIF(CF3,$K$52)+COUNTIF(CF3,$K$63)+COUNTIF(CF3,$K$74)+COUNTIF(CF3,$K$85)+COUNTIF(CF3,$K$96)+COUNTIF(CF3,$K$107)+COUNTIF(CF3,$K$118)+COUNTIF(CF3,$K$129)+COUNTIF(CF3,$K$140)+COUNTIF(CF3,$K$151)+COUNTIF(CF3,$K$162)+COUNTIF(CF3,$K$173)+COUNTIF(CF3,$K$184)+COUNTIF(CF3,$K$195)+COUNTIF(CF3,$K$206)+COUNTIF(CF3,$K$217)+COUNTIF(CF3,$K$228)+COUNTIF(CF3,$K$239)+COUNTIF(CF3,$K$250)+COUNTIF(CF3,$K$261)+COUNTIF(CF3,$K$272)+COUNTIF(CF3,$K$283)+COUNTIF(CF3,$K$294)+COUNTIF(CF3,$K$305)+COUNTIF(CF3,$K$316)+COUNTIF(CF3,$K$327)+COUNTIF(CF3,$K$449)+COUNTIF(CF3,$K$460)+COUNTIF(CF3,$K$471)+COUNTIF(CF3,$K$482) -> 0 | CM3: =COUNTIF(CF3,$K$9)+COUNTIF(CF3,$K$20)+COUNTIF(CF3,$K$31)+COUNTIF(CF3,$K$42)+COUNTIF(CF3,$K$53)+COUNTIF(CF3,$K$64)+COUNTIF(CF3,$K$75)+COUNTIF(CF3,$K$86)+COUNTIF(CF3,$K$97)+COUNTIF(CF3,$K$108)+COUNTIF(CF3,$K$119)+COUNTIF(CF3,$K$130)+COUNTIF(CF3,$K$141)+COUNTIF(CF3,$K$152)+COUNTIF(CF3,$K$163)+COUNTIF(CF3,$K$174)+ COUNTIF(CF3,$K$185)+COUNTIF(CF3,$K$196)+COUNTIF(CF3,$K$207)+COUNTIF(CF3,$K$218)+COUNTIF(CF3,$K$229)+COUNTIF(CF3,$K$240)+COUNTIF(CF3,$K$251)+COUNTIF(CF3,$K$262)+COUNTIF(CF3,$K$273)+COUNTIF(CF3,$K$284)+COUNTIF(CF3,$K$295)+COUNTIF(CF3,$K$306)+COUNTIF(CF3,$K$317)+COUNTIF(CF3,$K$328)+COUNTIF(CF3,$K$450)+COUNTIF(CF3,$K$461)+COUNTIF(CF3,$K$472)+COUNTIF(CF3,$K$483) -> 0 | CN3: =COUNTIF(CF3,$K$10)+COUNTIF(CF3,$K$21)+COUNTIF(CF3,$K$32)+COUNTIF(CF3,$K$43)+COUNTIF(CF3,$K$54)+COUNTIF(CF3,$K$65)+COUNTIF(CF3,$K$76)+COUNTIF(CF3,$K$87)+ COUNTIF(CF3,$K$98)+COUNTIF(CF3,$K$109)+COUNTIF(CF3,$K$120)+COUNTIF(CF3,$K$131)+COUNTIF(CF3,$K$142)+COUNTIF(CF3,$K$153)+COUNTIF(CF3,$K$164)+COUNTIF(CF3,$K$175)+ COUNTIF(CF3,$K$186)+COUNTIF(CF3,$K$197)+COUNTIF(CF3,$K$208)+COUNTIF(CF3,$K$219)+COUNTIF(CF3,$K$230)+COUNTIF(CF3,$K$241)+COUNTIF(CF3,$K$252)+COUNTIF(CF3,$K$263)+COUNTIF(CF3,$K$274)+COUNTIF(CF3,$K$285)+COUNTIF(CF3,$K$296)+COUNTIF(CF3,$K$307)+COUNTIF(CF3,$K$318)+COUNTIF(CF3,$K$329)+COUNTIF(CF3,$K$451)+COUNTIF(CF3,$K$462)+COUNTIF(CF3,$K$473)+COUNTIF(CF3,$K$484) -> 0 | CO3: =COUNTIF(CF3,$K$334)+COUNTIF(CF3,$K$345)+COUNTIF(CF3,$K$356)+COUNTIF(CF3,$K$367)+COUNTIF(CF3,$K$378)+COUNTIF(CF3,$K$389)+COUNTIF(CF3,$K$400)+COUNTIF(CF3,$K$411)+COUNTIF(CF3,$K$422)+COUNTIF(CF3,$K$433)+COUNTIF(CF3,$K$477)+COUNTIF(CF3,$K$488)+COUNTIF(CF3,$K$499)+COUNTIF(CF3,$K$510)+COUNTIF(CF3,$K$521)+COUNTIF(CF3,$K$532) -> 0 | CP3: =COUNTIF(CF3,$K$335)+COUNTIF(CF3,$K$346)+COUNTIF(CF3,$K$357)+COUNTIF(CF3,$K$368)+COUNTIF(CF3,$K$379)+COUNTIF(CF3,$K$390)+COUNTIF(CF3,$K$401)+COUNTIF(CF3,$K$412)+COUNTIF(CF3,$K$423)+COUNTIF(CF3,$K$434)+COUNTIF(CF3,$K$478)+COUNTIF(CF3,$K$489)+COUNTIF(CF3,$K$500)+COUNTIF(CF3,$K$511)+COUNTIF(CF3,$K$522)+COUNTIF(CF3,$K$533) -> 0 | CQ3: =COUNTIF(CF3,$K$336)+COUNTIF(CF3,$K$347)+COUNTIF(CF3,$K$358)+COUNTIF(CF3,$K$369)+COUNTIF(CF3,$K$380)+COUNTIF(CF3,$K$391)+COUNTIF(CF3,$K$402)+COUNTIF(CF3,$K$413)+COUNTIF(CF3,$K$424)+COUNTIF(CF3,$K$435)+COUNTIF(CF3,$K$479)+COUNTIF(CF3,$K$490)+COUNTIF(CF3,$K$501)+COUNTIF(CF3,$K$512)+COUNTIF(CF3,$K$523)+COUNTIF(CF3,$K$534) -> 0 | CR3: =COUNTIF(CF3,$K$337)+COUNTIF(CF3,$K$348)+COUNTIF(CF3,$K$359)+COUNTIF(CF3,$K$370)+COUNTIF(CF3,$K$381)+COUNTIF(CF3,$K$392)+COUNTIF(CF3,$K$403)+COUNTIF(CF3,$K$414)+COUNTIF(CF3,$K$425)+COUNTIF(CF3,$K$436)+COUNTIF(CF3,$K$480)+COUNTIF(CF3,$K$491)+COUNTIF(CF3,$K$502)+COUNTIF(CF3,$K$513)+COUNTIF(CF3,$K$524)+COUNTIF(CF3,$K$535) -> 0 | CS3: =COUNTIF(CF3,$K$338)+COUNTIF(CF3,$K$349)+COUNTIF(CF3,$K$360)+COUNTIF(CF3,$K$371)+COUNTIF(CF3,$K$382)+COUNTIF(CF3,$K$393)+COUNTIF(CF3,$K$404)+COUNTIF(CF3,$K$415)+COUNTIF(CF3,$K$426)+COUNTIF(CF3,$K$437)+COUNTIF(CF3,$K$481)+COUNTIF(CF3,$K$492)+COUNTIF(CF3,$K$503)+COUNTIF(CF3,$K$514)+COUNTIF(CF3,$K$525)+COUNTIF(CF3,$K$536) -> 0 | CT3: =COUNTIF(CF3,$K$339)+COUNTIF(CF3,$K$350)+COUNTIF(CF3,$K$361)+COUNTIF(CF3,$K$372)+COUNTIF(CF3,$K$383)+COUNTIF(CF3,$K$394)+COUNTIF(CF3,$K$405)+COUNTIF(CF3,$K$416)+COUNTIF(CF3,$K$427)+COUNTIF(CF3,$K$438)+COUNTIF(CF3,$K$482)+COUNTIF(CF3,$K$493)+COUNTIF(CF3,$K$504)+COUNTIF(CF3,$K$515)+COUNTIF(CF3,$K$526)+COUNTIF(CF3,$K$537) -> 0 | CV3: =IF(#REF!>0,#REF!,"") -> #REF! | CW3: =U3+AK3+BA3+BQ3+CG3 -> 0 | CX3: =V3+AL3+BB3+BR3+CH3 -> 0 | CY3: =W3+AM3+BC3+BS3+CI3 -> 0 | CZ3: =X3+AN3+BD3+BT3+CJ3 -> 0 | DA3: =Y3+AO3+BE3+BU3+CK3 -> 0 | DB3: =Z3+AP3+BF3+BV3+CL3 -> 0 | DC3: =AA3+AQ3+BG3+BW3+CM3 -> 0 | DD3: =AB3+AR3+BH3+BX3+CN3 -> 0 | ... DJ3: =AH3+AX3+BN3+CD3+CT3 -> 0 | DL3: Pazartesi | DM3: =IFERROR(VLOOKUP(C3,$T$3:$AH$60,2,0),0) -> 0 | DN3: =IFERROR(VLOOKUP(C4,$T$3:$AH$60,3,0),0) -> 0 | DO3: =IFERROR(VLOOKUP(C5,$T$3:$AH$60,4,0),0) -> 0 | DP3: =IFERROR(VLOOKUP(C6,$T$3:$AH$60,5,0),0) -> 0 | DQ3: =IFERROR(VLOOKUP(C7,$T$3:$AH$60,6,0),0) -> 0 | DR3: =IFERROR(VLOOKUP(C8,$T$3:$AH$60,7,0),0) -> 0 | DS3: =IFERROR(VLOOKUP(C9,$T$3:$AH$60,8,0),0) -> 0 | DT3: =IFERROR(VLOOKUP(C10,$T$3:$AH$60,9,0),0) -> 0
